BEGIN:VCALENDAR
VERSION:2.0
PRODID:-//Peace Lutheran Church | Experience Christ. Explore Peace. - ECPv6.15.20//NONSGML v1.0//EN
CALSCALE:GREGORIAN
METHOD:PUBLISH
X-WR-CALNAME:Peace Lutheran Church | Experience Christ. Explore Peace.
X-ORIGINAL-URL:https://explorepeace.org
X-WR-CALDESC:Events for Peace Lutheran Church | Experience Christ. Explore Peace.
REFRESH-INTERVAL;VALUE=DURATION:PT1H
X-Robots-Tag:noindex
X-PUBLISHED-TTL:PT1H
BEGIN:VTIMEZONE
TZID:America/Chicago
BEGIN:DAYLIGHT
TZOFFSETFROM:-0600
TZOFFSETTO:-0500
TZNAME:CDT
DTSTART:20230312T080000
END:DAYLIGHT
BEGIN:STANDARD
TZOFFSETFROM:-0500
TZOFFSETTO:-0600
TZNAME:CST
DTSTART:20231105T070000
END:STANDARD
BEGIN:DAYLIGHT
TZOFFSETFROM:-0600
TZOFFSETTO:-0500
TZNAME:CDT
DTSTART:20240310T080000
END:DAYLIGHT
BEGIN:STANDARD
TZOFFSETFROM:-0500
TZOFFSETTO:-0600
TZNAME:CST
DTSTART:20241103T070000
END:STANDARD
BEGIN:DAYLIGHT
TZOFFSETFROM:-0600
TZOFFSETTO:-0500
TZNAME:CDT
DTSTART:20250309T080000
END:DAYLIGHT
BEGIN:STANDARD
TZOFFSETFROM:-0500
TZOFFSETTO:-0600
TZNAME:CST
DTSTART:20251102T070000
END:STANDARD
END:VTIMEZONE
BEGIN:VEVENT
DTSTART;TZID=America/Chicago:20241204T184500
DTEND;TZID=America/Chicago:20241204T194500
DTSTAMP:20260423T123928
CREATED:20241017T194657Z
LAST-MODIFIED:20241017T194657Z
UID:10001244-1733337900-1733341500@explorepeace.org
SUMMARY:Route 78 & Adventure 910
DESCRIPTION:Oct 30: Introduction Day! \nNov 6: Interesting Details about God #1 \nNov 13: Interesting Details about God #2 \nNov 20: Interesting Details about God #3 \nDec 4: Advent Festival Event. Come for your time slot! \nDec 11: Interesting Details about God #4 \nDec 18: Interesting Details about God #5
URL:https://explorepeace.org/event/route-78-adventure-910-2/2024-12-04/
CATEGORIES:Youth
END:VEVENT
BEGIN:VEVENT
DTSTART;TZID=America/Chicago:20241204T181500
DTEND;TZID=America/Chicago:20241204T184500
DTSTAMP:20260423T123928
CREATED:20240829T183723Z
LAST-MODIFIED:20240904T195822Z
UID:10001141-1733336100-1733337900@explorepeace.org
SUMMARY:Wednesday Worship
DESCRIPTION:
URL:https://explorepeace.org/event/wednesday-worship-6/2024-12-04/
CATEGORIES:Worship
END:VEVENT
BEGIN:VEVENT
DTSTART;TZID=America/Chicago:20241204T171500
DTEND;TZID=America/Chicago:20241204T181500
DTSTAMP:20260423T123928
CREATED:20240829T183530Z
LAST-MODIFIED:20240904T195949Z
UID:10001127-1733332500-1733336100@explorepeace.org
SUMMARY:Common Table Cafe (meal in the Gallery)
DESCRIPTION:Everyone is welcome!
URL:https://explorepeace.org/event/common-table-cafe-meal-in-the-gallery/2024-12-04/
CATEGORIES:Meetings/Gatherings
END:VEVENT
BEGIN:VEVENT
DTSTART;TZID=America/Chicago:20241204T171500
DTEND;TZID=America/Chicago:20241204T180000
DTSTAMP:20260423T123928
CREATED:20240829T180754Z
LAST-MODIFIED:20240904T200042Z
UID:10001113-1733332500-1733335200@explorepeace.org
SUMMARY:Chapel Chimes (musical group of 4th - 6th graders)
DESCRIPTION:Sherry Johnson\, Director … meet in the Music Room on Wednesdays!
URL:https://explorepeace.org/event/chapel-chimes-musical-group-of-4th-6th-graders/2024-12-04/
CATEGORIES:Music,Youth
END:VEVENT
BEGIN:VEVENT
DTSTART;TZID=America/Chicago:20241204T170000
DTEND;TZID=America/Chicago:20241204T173000
DTSTAMP:20260423T123928
CREATED:20240925T214357Z
LAST-MODIFIED:20240925T214357Z
UID:10001213-1733331600-1733333400@explorepeace.org
SUMMARY:Joyful Noise children's choir (for ages 3 to 7)
DESCRIPTION:Children will learn basic vocal skills and have fun singing songs\, learning actions and playing games that will encourage a love for music. Interactive and lively songs are performed at occasionally scheduled Sunday and seasonal worship services throughout the school year.  Rehearsals will be Wednesdays from 5:00 to 5:30PM during the school year.  Joyful Noise director is Megan Tatzel.
URL:https://explorepeace.org/event/joyful-noise-childrens-choir-for-ages-3-to-7/2024-12-04/
CATEGORIES:Music,Youth
END:VEVENT
BEGIN:VEVENT
DTSTART;TZID=America/Chicago:20241204T160000
DTEND;TZID=America/Chicago:20241204T170000
DTSTAMP:20260423T123928
CREATED:20241017T194454Z
LAST-MODIFIED:20241017T194454Z
UID:10001237-1733328000-1733331600@explorepeace.org
SUMMARY:Route 78 & Adventure 910
DESCRIPTION:Oct 30: Introduction Day! \nNov 6: Interesting Details about God #1 \nNov 13: Interesting Details about God #2 \nNov 20: Interesting Details about God #3 \nDec 4: Advent Festival Event. Come for your time slot! \nDec 11: Interesting Details about God #4 \nDec 18: Interesting Details about God #5
URL:https://explorepeace.org/event/route-78-adventure-910/2024-12-04/
CATEGORIES:Youth
END:VEVENT
BEGIN:VEVENT
DTSTART;TZID=America/Chicago:20241204T070000
DTEND;TZID=America/Chicago:20241204T153000
DTSTAMP:20260423T123928
CREATED:20240522T191718Z
LAST-MODIFIED:20240522T191718Z
UID:10000976-1733295600-1733326200@explorepeace.org
SUMMARY:Preschool & 4K
DESCRIPTION:
URL:https://explorepeace.org/event/preschool-4k-16/2024-12-04/
CATEGORIES:Preschool
END:VEVENT
BEGIN:VEVENT
DTSTART;TZID=America/Chicago:20241203T070000
DTEND;TZID=America/Chicago:20241203T153000
DTSTAMP:20260423T123928
CREATED:20240522T191255Z
LAST-MODIFIED:20240522T191255Z
UID:10000946-1733209200-1733239800@explorepeace.org
SUMMARY:Preschool & 4K
DESCRIPTION:
URL:https://explorepeace.org/event/preschool-4k-14/2024-12-03/
CATEGORIES:Preschool
END:VEVENT
BEGIN:VEVENT
DTSTART;TZID=America/Chicago:20241202T183000
DTEND;TZID=America/Chicago:20241202T203000
DTSTAMP:20260423T123928
CREATED:20240829T193144Z
LAST-MODIFIED:20240829T193510Z
UID:10001193-1733164200-1733171400@explorepeace.org
SUMMARY:Advent By Candlelight
DESCRIPTION:
URL:https://explorepeace.org/event/advent-by-candlelight/
CATEGORIES:Special Events
END:VEVENT
BEGIN:VEVENT
DTSTART;TZID=America/Chicago:20241202T070000
DTEND;TZID=America/Chicago:20241202T153000
DTSTAMP:20260423T123928
CREATED:20240522T191504Z
LAST-MODIFIED:20240522T191504Z
UID:10000961-1733122800-1733153400@explorepeace.org
SUMMARY:Preschool & 4K
DESCRIPTION:
URL:https://explorepeace.org/event/preschool-4k-15/2024-12-02/
CATEGORIES:Preschool
END:VEVENT
BEGIN:VEVENT
DTSTART;TZID=America/Chicago:20241201T180000
DTEND;TZID=America/Chicago:20241201T190000
DTSTAMP:20260423T123928
CREATED:20240925T221422Z
LAST-MODIFIED:20240925T221422Z
UID:10001224-1733076000-1733079600@explorepeace.org
SUMMARY:Radical Ringers rehearsal
DESCRIPTION:For … 7th to 12th graders\, ringing hand bells … ring / dampen / shake / mallet / thumb damp / pluck / and so much more (happening in the Music Room).  Ringing bells is so much fun!\nOur Radical Ringers rehearsals will be on SUNDAYS from 6:00 – 7:00pm\, beginning on Sunday\, October 13.   \nJan Rutkowski\, RR Director
URL:https://explorepeace.org/event/radical-ringers-rehearsal/2024-12-01/
CATEGORIES:Music,Youth
END:VEVENT
BEGIN:VEVENT
DTSTART;TZID=America/Chicago:20241201T100000
DTEND;TZID=America/Chicago:20241201T110000
DTSTAMP:20260423T123928
CREATED:20240829T185305Z
LAST-MODIFIED:20240829T185305Z
UID:10001183-1733047200-1733050800@explorepeace.org
SUMMARY:Peace Choir (meet in the Music Room)
DESCRIPTION:
URL:https://explorepeace.org/event/peace-choir-meet-in-the-music-room/2024-12-01/
CATEGORIES:Music
END:VEVENT
BEGIN:VEVENT
DTSTART;TZID=America/Chicago:20241201T100000
DTEND;TZID=America/Chicago:20241201T110000
DTSTAMP:20260423T123928
CREATED:20240829T162935Z
LAST-MODIFIED:20240829T162935Z
UID:10001040-1733047200-1733050800@explorepeace.org
SUMMARY:Coffee\, Fellowship & Donut Yum
DESCRIPTION:
URL:https://explorepeace.org/event/coffee-fellowship-donut-yum/2024-12-01/
CATEGORIES:Meetings/Gatherings
END:VEVENT
BEGIN:VEVENT
DTSTART;TZID=America/Chicago:20241201T090000
DTEND;TZID=America/Chicago:20241201T100000
DTSTAMP:20260423T123928
CREATED:20240522T201207Z
LAST-MODIFIED:20240522T201207Z
UID:10001019-1733043600-1733047200@explorepeace.org
SUMMARY:Worship with Holy Communion
DESCRIPTION:
URL:https://explorepeace.org/event/worship-with-holy-communion/2024-12-01/
CATEGORIES:Worship
END:VEVENT
BEGIN:VEVENT
DTSTART;TZID=America/Chicago:20241201T090000
DTEND;TZID=America/Chicago:20241201T094500
DTSTAMP:20260423T123928
CREATED:20240829T163231Z
LAST-MODIFIED:20241023T200757Z
UID:10001056-1733043600-1733046300@explorepeace.org
SUMMARY:KiX (Kids in Christ) aka Sunday School (age 3 to grade 4)
DESCRIPTION:
URL:https://explorepeace.org/event/kix-kids-in-christ-aka-sunday-school-age-3-to-grade-4/2024-12-01/
CATEGORIES:Youth
END:VEVENT
BEGIN:VEVENT
DTSTART;TZID=America/Chicago:20241129T070000
DTEND;TZID=America/Chicago:20241129T143000
DTSTAMP:20260423T123928
CREATED:20240829T192459Z
LAST-MODIFIED:20240829T192459Z
UID:10001192-1732863600-1732890600@explorepeace.org
SUMMARY:Thanksgiving break - no school today / church office is closed
DESCRIPTION:
URL:https://explorepeace.org/event/thanksgiving-break-no-school-today-church-office-is-closed/
CATEGORIES:Preschool
END:VEVENT
BEGIN:VEVENT
DTSTART;VALUE=DATE:20241128
DTEND;VALUE=DATE:20241129
DTSTAMP:20260423T123928
CREATED:20240829T192248Z
LAST-MODIFIED:20240829T192248Z
UID:10001191-1732752000-1732838399@explorepeace.org
SUMMARY:THANKSGIVING!
DESCRIPTION:
URL:https://explorepeace.org/event/thanksgiving/
END:VEVENT
BEGIN:VEVENT
DTSTART;TZID=America/Chicago:20241127T160000
DTEND;TZID=America/Chicago:20241127T200000
DTSTAMP:20260423T123928
CREATED:20240829T185930Z
LAST-MODIFIED:20240829T185930Z
UID:10001187-1732723200-1732737600@explorepeace.org
SUMMARY:Thanksgiving Break (no church activities or Worship this evening)
DESCRIPTION:
URL:https://explorepeace.org/event/thanksgiving-break-no-church-activities-or-worship-this-evening/
CATEGORIES:Meetings/Gatherings,Music,Worship,Youth
END:VEVENT
BEGIN:VEVENT
DTSTART;TZID=America/Chicago:20241127T090000
DTEND;TZID=America/Chicago:20241127T150000
DTSTAMP:20260423T123928
CREATED:20241003T184214Z
LAST-MODIFIED:20241003T184214Z
UID:10001231-1732698000-1732719600@explorepeace.org
SUMMARY:Church Office is closed (Thanksgiving break)
DESCRIPTION:
URL:https://explorepeace.org/event/church-office-is-closed-thanksgiving-break/
END:VEVENT
BEGIN:VEVENT
DTSTART;TZID=America/Chicago:20241126T070000
DTEND;TZID=America/Chicago:20241126T153000
DTSTAMP:20260423T123928
CREATED:20240522T191255Z
LAST-MODIFIED:20240522T191255Z
UID:10000945-1732604400-1732635000@explorepeace.org
SUMMARY:Preschool & 4K
DESCRIPTION:
URL:https://explorepeace.org/event/preschool-4k-14/2024-11-26/
CATEGORIES:Preschool
END:VEVENT
BEGIN:VEVENT
DTSTART;TZID=America/Chicago:20241125T070000
DTEND;TZID=America/Chicago:20241125T153000
DTSTAMP:20260423T123928
CREATED:20240522T191504Z
LAST-MODIFIED:20240522T191504Z
UID:10000960-1732518000-1732548600@explorepeace.org
SUMMARY:Preschool & 4K
DESCRIPTION:
URL:https://explorepeace.org/event/preschool-4k-15/2024-11-25/
CATEGORIES:Preschool
END:VEVENT
BEGIN:VEVENT
DTSTART;TZID=America/Chicago:20241124T180000
DTEND;TZID=America/Chicago:20241124T190000
DTSTAMP:20260423T123928
CREATED:20240925T221422Z
LAST-MODIFIED:20240925T221422Z
UID:10001223-1732471200-1732474800@explorepeace.org
SUMMARY:Radical Ringers rehearsal
DESCRIPTION:For … 7th to 12th graders\, ringing hand bells … ring / dampen / shake / mallet / thumb damp / pluck / and so much more (happening in the Music Room).  Ringing bells is so much fun!\nOur Radical Ringers rehearsals will be on SUNDAYS from 6:00 – 7:00pm\, beginning on Sunday\, October 13.   \nJan Rutkowski\, RR Director
URL:https://explorepeace.org/event/radical-ringers-rehearsal/2024-11-24/
CATEGORIES:Music,Youth
END:VEVENT
BEGIN:VEVENT
DTSTART;TZID=America/Chicago:20241124T100000
DTEND;TZID=America/Chicago:20241124T110000
DTSTAMP:20260423T123928
CREATED:20240829T185305Z
LAST-MODIFIED:20240829T185305Z
UID:10001182-1732442400-1732446000@explorepeace.org
SUMMARY:Peace Choir (meet in the Music Room)
DESCRIPTION:
URL:https://explorepeace.org/event/peace-choir-meet-in-the-music-room/2024-11-24/
CATEGORIES:Music
END:VEVENT
BEGIN:VEVENT
DTSTART;TZID=America/Chicago:20241124T100000
DTEND;TZID=America/Chicago:20241124T110000
DTSTAMP:20260423T123928
CREATED:20240829T162935Z
LAST-MODIFIED:20240829T162935Z
UID:10001039-1732442400-1732446000@explorepeace.org
SUMMARY:Coffee\, Fellowship & Donut Yum
DESCRIPTION:
URL:https://explorepeace.org/event/coffee-fellowship-donut-yum/2024-11-24/
CATEGORIES:Meetings/Gatherings
END:VEVENT
BEGIN:VEVENT
DTSTART;TZID=America/Chicago:20241124T090000
DTEND;TZID=America/Chicago:20241124T100000
DTSTAMP:20260423T123928
CREATED:20240522T201207Z
LAST-MODIFIED:20240522T201207Z
UID:10001018-1732438800-1732442400@explorepeace.org
SUMMARY:Worship with Holy Communion
DESCRIPTION:
URL:https://explorepeace.org/event/worship-with-holy-communion/2024-11-24/
CATEGORIES:Worship
END:VEVENT
BEGIN:VEVENT
DTSTART;TZID=America/Chicago:20241124T090000
DTEND;TZID=America/Chicago:20241124T094500
DTSTAMP:20260423T123928
CREATED:20240829T163231Z
LAST-MODIFIED:20241023T200757Z
UID:10001055-1732438800-1732441500@explorepeace.org
SUMMARY:KiX (Kids in Christ) aka Sunday School (age 3 to grade 4)
DESCRIPTION:
URL:https://explorepeace.org/event/kix-kids-in-christ-aka-sunday-school-age-3-to-grade-4/2024-11-24/
CATEGORIES:Youth
END:VEVENT
BEGIN:VEVENT
DTSTART;TZID=America/Chicago:20241122T070000
DTEND;TZID=America/Chicago:20241122T143000
DTSTAMP:20260423T123928
CREATED:20240522T195532Z
LAST-MODIFIED:20240522T195532Z
UID:10001002-1732258800-1732285800@explorepeace.org
SUMMARY:Preschool & 4K
DESCRIPTION:
URL:https://explorepeace.org/event/preschool-4k-18/2024-11-22/
CATEGORIES:Preschool
END:VEVENT
BEGIN:VEVENT
DTSTART;TZID=America/Chicago:20241121T100000
DTEND;TZID=America/Chicago:20241121T110000
DTSTAMP:20260423T123928
CREATED:20240829T184923Z
LAST-MODIFIED:20240829T184923Z
UID:10001170-1732183200-1732186800@explorepeace.org
SUMMARY:Walking By Faith (with Pastor Doug)
DESCRIPTION:
URL:https://explorepeace.org/event/walking-by-faith-with-pastor-doug-2/2024-11-21/
CATEGORIES:Meetings/Gatherings
END:VEVENT
BEGIN:VEVENT
DTSTART;TZID=America/Chicago:20241121T090000
DTEND;TZID=America/Chicago:20241121T100000
DTSTAMP:20260423T123928
CREATED:20240829T184754Z
LAST-MODIFIED:20240829T184754Z
UID:10001155-1732179600-1732183200@explorepeace.org
SUMMARY:Coffee & Chocolate Bible Study (with Pastor Doug)
DESCRIPTION:
URL:https://explorepeace.org/event/coffee-chocolate-bible-study-with-pastor-doug-2/2024-11-21/
CATEGORIES:Meetings/Gatherings
END:VEVENT
BEGIN:VEVENT
DTSTART;TZID=America/Chicago:20241121T070000
DTEND;TZID=America/Chicago:20241121T153000
DTSTAMP:20260423T123928
CREATED:20240522T195144Z
LAST-MODIFIED:20240522T195144Z
UID:10000989-1732172400-1732203000@explorepeace.org
SUMMARY:Preschool & 4K
DESCRIPTION:
URL:https://explorepeace.org/event/preschool-4k-17/2024-11-21/
CATEGORIES:Preschool
END:VEVENT
END:VCALENDAR