BEGIN:VCALENDAR
VERSION:2.0
PRODID:-//Peace Lutheran Church | Experience Christ. Explore Peace. - ECPv6.15.20//NONSGML v1.0//EN
CALSCALE:GREGORIAN
METHOD:PUBLISH
X-WR-CALNAME:Peace Lutheran Church | Experience Christ. Explore Peace.
X-ORIGINAL-URL:https://explorepeace.org
X-WR-CALDESC:Events for Peace Lutheran Church | Experience Christ. Explore Peace.
REFRESH-INTERVAL;VALUE=DURATION:PT1H
X-Robots-Tag:noindex
X-PUBLISHED-TTL:PT1H
BEGIN:VTIMEZONE
TZID:America/Chicago
BEGIN:DAYLIGHT
TZOFFSETFROM:-0600
TZOFFSETTO:-0500
TZNAME:CDT
DTSTART:20230312T080000
END:DAYLIGHT
BEGIN:STANDARD
TZOFFSETFROM:-0500
TZOFFSETTO:-0600
TZNAME:CST
DTSTART:20231105T070000
END:STANDARD
BEGIN:DAYLIGHT
TZOFFSETFROM:-0600
TZOFFSETTO:-0500
TZNAME:CDT
DTSTART:20240310T080000
END:DAYLIGHT
BEGIN:STANDARD
TZOFFSETFROM:-0500
TZOFFSETTO:-0600
TZNAME:CST
DTSTART:20241103T070000
END:STANDARD
BEGIN:DAYLIGHT
TZOFFSETFROM:-0600
TZOFFSETTO:-0500
TZNAME:CDT
DTSTART:20250309T080000
END:DAYLIGHT
BEGIN:STANDARD
TZOFFSETFROM:-0500
TZOFFSETTO:-0600
TZNAME:CST
DTSTART:20251102T070000
END:STANDARD
END:VTIMEZONE
BEGIN:VEVENT
DTSTART;TZID=America/Chicago:20241215T090000
DTEND;TZID=America/Chicago:20241215T094500
DTSTAMP:20260423T093314
CREATED:20240829T163231Z
LAST-MODIFIED:20241023T200757Z
UID:10001058-1734253200-1734255900@explorepeace.org
SUMMARY:KiX (Kids in Christ) aka Sunday School (age 3 to grade 4)
DESCRIPTION:
URL:https://explorepeace.org/event/kix-kids-in-christ-aka-sunday-school-age-3-to-grade-4/2024-12-15/
CATEGORIES:Youth
END:VEVENT
BEGIN:VEVENT
DTSTART;TZID=America/Chicago:20241213T070000
DTEND;TZID=America/Chicago:20241213T143000
DTSTAMP:20260423T093314
CREATED:20240522T195532Z
LAST-MODIFIED:20240522T195532Z
UID:10001004-1734073200-1734100200@explorepeace.org
SUMMARY:Preschool & 4K
DESCRIPTION:
URL:https://explorepeace.org/event/preschool-4k-18/2024-12-13/
CATEGORIES:Preschool
END:VEVENT
BEGIN:VEVENT
DTSTART;TZID=America/Chicago:20241212T090000
DTEND;TZID=America/Chicago:20241212T100000
DTSTAMP:20260423T093314
CREATED:20240829T184754Z
LAST-MODIFIED:20240829T184754Z
UID:10001157-1733994000-1733997600@explorepeace.org
SUMMARY:Coffee & Chocolate Bible Study (with Pastor Doug)
DESCRIPTION:
URL:https://explorepeace.org/event/coffee-chocolate-bible-study-with-pastor-doug-2/2024-12-12/
CATEGORIES:Meetings/Gatherings
END:VEVENT
BEGIN:VEVENT
DTSTART;TZID=America/Chicago:20241212T070000
DTEND;TZID=America/Chicago:20241212T153000
DTSTAMP:20260423T093314
CREATED:20240522T195144Z
LAST-MODIFIED:20240522T195144Z
UID:10000991-1733986800-1734017400@explorepeace.org
SUMMARY:Preschool & 4K
DESCRIPTION:
URL:https://explorepeace.org/event/preschool-4k-17/2024-12-12/
CATEGORIES:Preschool
END:VEVENT
BEGIN:VEVENT
DTSTART;TZID=America/Chicago:20241211T184500
DTEND;TZID=America/Chicago:20241211T194500
DTSTAMP:20260423T093314
CREATED:20241017T194657Z
LAST-MODIFIED:20241017T194657Z
UID:10001245-1733942700-1733946300@explorepeace.org
SUMMARY:Route 78 & Adventure 910
DESCRIPTION:Oct 30: Introduction Day! \nNov 6: Interesting Details about God #1 \nNov 13: Interesting Details about God #2 \nNov 20: Interesting Details about God #3 \nDec 4: Advent Festival Event. Come for your time slot! \nDec 11: Interesting Details about God #4 \nDec 18: Interesting Details about God #5
URL:https://explorepeace.org/event/route-78-adventure-910-2/2024-12-11/
CATEGORIES:Youth
END:VEVENT
BEGIN:VEVENT
DTSTART;TZID=America/Chicago:20241211T181500
DTEND;TZID=America/Chicago:20241211T184500
DTSTAMP:20260423T093314
CREATED:20240829T183723Z
LAST-MODIFIED:20240904T195822Z
UID:10001142-1733940900-1733942700@explorepeace.org
SUMMARY:Wednesday Worship
DESCRIPTION:
URL:https://explorepeace.org/event/wednesday-worship-6/2024-12-11/
CATEGORIES:Worship
END:VEVENT
BEGIN:VEVENT
DTSTART;TZID=America/Chicago:20241211T180000
DTEND;TZID=America/Chicago:20241211T184500
DTSTAMP:20260423T093314
CREATED:20240829T164206Z
LAST-MODIFIED:20241023T210804Z
UID:10001100-1733940000-1733942700@explorepeace.org
SUMMARY:KiX (Kids in Christ) aka Sunday School (age 3 to grade 4)
DESCRIPTION:
URL:https://explorepeace.org/event/kix-kids-in-christ-aka-sunday-school-age-3-to-grade-4-2/2024-12-11/
CATEGORIES:Youth
END:VEVENT
BEGIN:VEVENT
DTSTART;TZID=America/Chicago:20241211T171500
DTEND;TZID=America/Chicago:20241211T181500
DTSTAMP:20260423T093314
CREATED:20240829T183530Z
LAST-MODIFIED:20240904T195949Z
UID:10001128-1733937300-1733940900@explorepeace.org
SUMMARY:Common Table Cafe (meal in the Gallery)
DESCRIPTION:Everyone is welcome!
URL:https://explorepeace.org/event/common-table-cafe-meal-in-the-gallery/2024-12-11/
CATEGORIES:Meetings/Gatherings
END:VEVENT
BEGIN:VEVENT
DTSTART;TZID=America/Chicago:20241211T171500
DTEND;TZID=America/Chicago:20241211T180000
DTSTAMP:20260423T093314
CREATED:20240829T180754Z
LAST-MODIFIED:20240904T200042Z
UID:10001114-1733937300-1733940000@explorepeace.org
SUMMARY:Chapel Chimes (musical group of 4th - 6th graders)
DESCRIPTION:Sherry Johnson\, Director … meet in the Music Room on Wednesdays!
URL:https://explorepeace.org/event/chapel-chimes-musical-group-of-4th-6th-graders/2024-12-11/
CATEGORIES:Music,Youth
END:VEVENT
BEGIN:VEVENT
DTSTART;TZID=America/Chicago:20241211T170000
DTEND;TZID=America/Chicago:20241211T173000
DTSTAMP:20260423T093314
CREATED:20240925T214357Z
LAST-MODIFIED:20240925T214357Z
UID:10001214-1733936400-1733938200@explorepeace.org
SUMMARY:Joyful Noise children's choir (for ages 3 to 7)
DESCRIPTION:Children will learn basic vocal skills and have fun singing songs\, learning actions and playing games that will encourage a love for music. Interactive and lively songs are performed at occasionally scheduled Sunday and seasonal worship services throughout the school year.  Rehearsals will be Wednesdays from 5:00 to 5:30PM during the school year.  Joyful Noise director is Megan Tatzel.
URL:https://explorepeace.org/event/joyful-noise-childrens-choir-for-ages-3-to-7/2024-12-11/
CATEGORIES:Music,Youth
END:VEVENT
BEGIN:VEVENT
DTSTART;TZID=America/Chicago:20241211T161500
DTEND;TZID=America/Chicago:20241211T171500
DTSTAMP:20260423T093314
CREATED:20240829T175901Z
LAST-MODIFIED:20241023T211200Z
UID:10001086-1733933700-1733937300@explorepeace.org
SUMMARY:Route 56 (for 5th & 6th graders)
DESCRIPTION:It is the start of our confirmation program and focuses on The Lord’s Prayer\, The 10 Commandments and the Apostle’s Creed. Understanding the needs of intermediate school students\, this group learns in active formats to make the best use of the time we share on Wednesdays.
URL:https://explorepeace.org/event/route-56-for-5th-6th-graders/2024-12-11/
CATEGORIES:Youth
END:VEVENT
BEGIN:VEVENT
DTSTART;TZID=America/Chicago:20241211T160000
DTEND;TZID=America/Chicago:20241211T170000
DTSTAMP:20260423T093314
CREATED:20241017T194454Z
LAST-MODIFIED:20241017T194454Z
UID:10001238-1733932800-1733936400@explorepeace.org
SUMMARY:Route 78 & Adventure 910
DESCRIPTION:Oct 30: Introduction Day! \nNov 6: Interesting Details about God #1 \nNov 13: Interesting Details about God #2 \nNov 20: Interesting Details about God #3 \nDec 4: Advent Festival Event. Come for your time slot! \nDec 11: Interesting Details about God #4 \nDec 18: Interesting Details about God #5
URL:https://explorepeace.org/event/route-78-adventure-910/2024-12-11/
CATEGORIES:Youth
END:VEVENT
BEGIN:VEVENT
DTSTART;TZID=America/Chicago:20241211T070000
DTEND;TZID=America/Chicago:20241211T153000
DTSTAMP:20260423T093314
CREATED:20240522T191718Z
LAST-MODIFIED:20240522T191718Z
UID:10000977-1733900400-1733931000@explorepeace.org
SUMMARY:Preschool & 4K
DESCRIPTION:
URL:https://explorepeace.org/event/preschool-4k-16/2024-12-11/
CATEGORIES:Preschool
END:VEVENT
BEGIN:VEVENT
DTSTART;TZID=America/Chicago:20241210T183000
DTEND;TZID=America/Chicago:20241210T190000
DTSTAMP:20260423T093314
CREATED:20241003T184527Z
LAST-MODIFIED:20241003T184527Z
UID:10001232-1733855400-1733857200@explorepeace.org
SUMMARY:Christmas Program (Preschoolers & Faith Formation Kids)
DESCRIPTION:
URL:https://explorepeace.org/event/christmas-program-preschoolers-faith-formation-kids/
CATEGORIES:Preschool
END:VEVENT
BEGIN:VEVENT
DTSTART;TZID=America/Chicago:20241210T070000
DTEND;TZID=America/Chicago:20241210T153000
DTSTAMP:20260423T093314
CREATED:20240522T191255Z
LAST-MODIFIED:20240522T191255Z
UID:10000947-1733814000-1733844600@explorepeace.org
SUMMARY:Preschool & 4K
DESCRIPTION:
URL:https://explorepeace.org/event/preschool-4k-14/2024-12-10/
CATEGORIES:Preschool
END:VEVENT
BEGIN:VEVENT
DTSTART;TZID=America/Chicago:20241209T070000
DTEND;TZID=America/Chicago:20241209T153000
DTSTAMP:20260423T093314
CREATED:20240522T191504Z
LAST-MODIFIED:20240522T191504Z
UID:10000962-1733727600-1733758200@explorepeace.org
SUMMARY:Preschool & 4K
DESCRIPTION:
URL:https://explorepeace.org/event/preschool-4k-15/2024-12-09/
CATEGORIES:Preschool
END:VEVENT
BEGIN:VEVENT
DTSTART;TZID=America/Chicago:20241208T180000
DTEND;TZID=America/Chicago:20241208T190000
DTSTAMP:20260423T093314
CREATED:20240925T221422Z
LAST-MODIFIED:20240925T221422Z
UID:10001225-1733680800-1733684400@explorepeace.org
SUMMARY:Radical Ringers rehearsal
DESCRIPTION:For … 7th to 12th graders\, ringing hand bells … ring / dampen / shake / mallet / thumb damp / pluck / and so much more (happening in the Music Room).  Ringing bells is so much fun!\nOur Radical Ringers rehearsals will be on SUNDAYS from 6:00 – 7:00pm\, beginning on Sunday\, October 13.   \nJan Rutkowski\, RR Director
URL:https://explorepeace.org/event/radical-ringers-rehearsal/2024-12-08/
CATEGORIES:Music,Youth
END:VEVENT
BEGIN:VEVENT
DTSTART;TZID=America/Chicago:20241208T100000
DTEND;TZID=America/Chicago:20241208T110000
DTSTAMP:20260423T093314
CREATED:20240829T185305Z
LAST-MODIFIED:20240829T185305Z
UID:10001184-1733652000-1733655600@explorepeace.org
SUMMARY:Peace Choir (meet in the Music Room)
DESCRIPTION:
URL:https://explorepeace.org/event/peace-choir-meet-in-the-music-room/2024-12-08/
CATEGORIES:Music
END:VEVENT
BEGIN:VEVENT
DTSTART;TZID=America/Chicago:20241208T100000
DTEND;TZID=America/Chicago:20241208T110000
DTSTAMP:20260423T093314
CREATED:20240829T162935Z
LAST-MODIFIED:20240829T162935Z
UID:10001041-1733652000-1733655600@explorepeace.org
SUMMARY:Coffee\, Fellowship & Donut Yum
DESCRIPTION:
URL:https://explorepeace.org/event/coffee-fellowship-donut-yum/2024-12-08/
CATEGORIES:Meetings/Gatherings
END:VEVENT
BEGIN:VEVENT
DTSTART;TZID=America/Chicago:20241208T090000
DTEND;TZID=America/Chicago:20241208T100000
DTSTAMP:20260423T093314
CREATED:20240522T201207Z
LAST-MODIFIED:20240522T201207Z
UID:10001020-1733648400-1733652000@explorepeace.org
SUMMARY:Worship with Holy Communion
DESCRIPTION:
URL:https://explorepeace.org/event/worship-with-holy-communion/2024-12-08/
CATEGORIES:Worship
END:VEVENT
BEGIN:VEVENT
DTSTART;TZID=America/Chicago:20241208T090000
DTEND;TZID=America/Chicago:20241208T094500
DTSTAMP:20260423T093314
CREATED:20240829T163231Z
LAST-MODIFIED:20241023T200757Z
UID:10001057-1733648400-1733651100@explorepeace.org
SUMMARY:KiX (Kids in Christ) aka Sunday School (age 3 to grade 4)
DESCRIPTION:
URL:https://explorepeace.org/event/kix-kids-in-christ-aka-sunday-school-age-3-to-grade-4/2024-12-08/
CATEGORIES:Youth
END:VEVENT
BEGIN:VEVENT
DTSTART;TZID=America/Chicago:20241206T070000
DTEND;TZID=America/Chicago:20241206T143000
DTSTAMP:20260423T093314
CREATED:20240522T195532Z
LAST-MODIFIED:20240522T195532Z
UID:10001003-1733468400-1733495400@explorepeace.org
SUMMARY:Preschool & 4K
DESCRIPTION:
URL:https://explorepeace.org/event/preschool-4k-18/2024-12-06/
CATEGORIES:Preschool
END:VEVENT
BEGIN:VEVENT
DTSTART;TZID=America/Chicago:20241205T090000
DTEND;TZID=America/Chicago:20241205T100000
DTSTAMP:20260423T093314
CREATED:20240829T184754Z
LAST-MODIFIED:20240829T184754Z
UID:10001156-1733389200-1733392800@explorepeace.org
SUMMARY:Coffee & Chocolate Bible Study (with Pastor Doug)
DESCRIPTION:
URL:https://explorepeace.org/event/coffee-chocolate-bible-study-with-pastor-doug-2/2024-12-05/
CATEGORIES:Meetings/Gatherings
END:VEVENT
BEGIN:VEVENT
DTSTART;TZID=America/Chicago:20241205T070000
DTEND;TZID=America/Chicago:20241205T153000
DTSTAMP:20260423T093314
CREATED:20240522T195144Z
LAST-MODIFIED:20240522T195144Z
UID:10000990-1733382000-1733412600@explorepeace.org
SUMMARY:Preschool & 4K
DESCRIPTION:
URL:https://explorepeace.org/event/preschool-4k-17/2024-12-05/
CATEGORIES:Preschool
END:VEVENT
BEGIN:VEVENT
DTSTART;TZID=America/Chicago:20241204T184500
DTEND;TZID=America/Chicago:20241204T194500
DTSTAMP:20260423T093314
CREATED:20241017T194657Z
LAST-MODIFIED:20241017T194657Z
UID:10001244-1733337900-1733341500@explorepeace.org
SUMMARY:Route 78 & Adventure 910
DESCRIPTION:Oct 30: Introduction Day! \nNov 6: Interesting Details about God #1 \nNov 13: Interesting Details about God #2 \nNov 20: Interesting Details about God #3 \nDec 4: Advent Festival Event. Come for your time slot! \nDec 11: Interesting Details about God #4 \nDec 18: Interesting Details about God #5
URL:https://explorepeace.org/event/route-78-adventure-910-2/2024-12-04/
CATEGORIES:Youth
END:VEVENT
BEGIN:VEVENT
DTSTART;TZID=America/Chicago:20241204T181500
DTEND;TZID=America/Chicago:20241204T184500
DTSTAMP:20260423T093314
CREATED:20240829T183723Z
LAST-MODIFIED:20240904T195822Z
UID:10001141-1733336100-1733337900@explorepeace.org
SUMMARY:Wednesday Worship
DESCRIPTION:
URL:https://explorepeace.org/event/wednesday-worship-6/2024-12-04/
CATEGORIES:Worship
END:VEVENT
BEGIN:VEVENT
DTSTART;TZID=America/Chicago:20241204T171500
DTEND;TZID=America/Chicago:20241204T181500
DTSTAMP:20260423T093314
CREATED:20240829T183530Z
LAST-MODIFIED:20240904T195949Z
UID:10001127-1733332500-1733336100@explorepeace.org
SUMMARY:Common Table Cafe (meal in the Gallery)
DESCRIPTION:Everyone is welcome!
URL:https://explorepeace.org/event/common-table-cafe-meal-in-the-gallery/2024-12-04/
CATEGORIES:Meetings/Gatherings
END:VEVENT
BEGIN:VEVENT
DTSTART;TZID=America/Chicago:20241204T171500
DTEND;TZID=America/Chicago:20241204T180000
DTSTAMP:20260423T093314
CREATED:20240829T180754Z
LAST-MODIFIED:20240904T200042Z
UID:10001113-1733332500-1733335200@explorepeace.org
SUMMARY:Chapel Chimes (musical group of 4th - 6th graders)
DESCRIPTION:Sherry Johnson\, Director … meet in the Music Room on Wednesdays!
URL:https://explorepeace.org/event/chapel-chimes-musical-group-of-4th-6th-graders/2024-12-04/
CATEGORIES:Music,Youth
END:VEVENT
BEGIN:VEVENT
DTSTART;TZID=America/Chicago:20241204T170000
DTEND;TZID=America/Chicago:20241204T173000
DTSTAMP:20260423T093314
CREATED:20240925T214357Z
LAST-MODIFIED:20240925T214357Z
UID:10001213-1733331600-1733333400@explorepeace.org
SUMMARY:Joyful Noise children's choir (for ages 3 to 7)
DESCRIPTION:Children will learn basic vocal skills and have fun singing songs\, learning actions and playing games that will encourage a love for music. Interactive and lively songs are performed at occasionally scheduled Sunday and seasonal worship services throughout the school year.  Rehearsals will be Wednesdays from 5:00 to 5:30PM during the school year.  Joyful Noise director is Megan Tatzel.
URL:https://explorepeace.org/event/joyful-noise-childrens-choir-for-ages-3-to-7/2024-12-04/
CATEGORIES:Music,Youth
END:VEVENT
BEGIN:VEVENT
DTSTART;TZID=America/Chicago:20241204T160000
DTEND;TZID=America/Chicago:20241204T170000
DTSTAMP:20260423T093314
CREATED:20241017T194454Z
LAST-MODIFIED:20241017T194454Z
UID:10001237-1733328000-1733331600@explorepeace.org
SUMMARY:Route 78 & Adventure 910
DESCRIPTION:Oct 30: Introduction Day! \nNov 6: Interesting Details about God #1 \nNov 13: Interesting Details about God #2 \nNov 20: Interesting Details about God #3 \nDec 4: Advent Festival Event. Come for your time slot! \nDec 11: Interesting Details about God #4 \nDec 18: Interesting Details about God #5
URL:https://explorepeace.org/event/route-78-adventure-910/2024-12-04/
CATEGORIES:Youth
END:VEVENT
END:VCALENDAR