BEGIN:VCALENDAR
VERSION:2.0
PRODID:-//Peace Lutheran Church | Experience Christ. Explore Peace. - ECPv6.15.20//NONSGML v1.0//EN
CALSCALE:GREGORIAN
METHOD:PUBLISH
X-WR-CALNAME:Peace Lutheran Church | Experience Christ. Explore Peace.
X-ORIGINAL-URL:https://explorepeace.org
X-WR-CALDESC:Events for Peace Lutheran Church | Experience Christ. Explore Peace.
REFRESH-INTERVAL;VALUE=DURATION:PT1H
X-Robots-Tag:noindex
X-PUBLISHED-TTL:PT1H
BEGIN:VTIMEZONE
TZID:America/Chicago
BEGIN:DAYLIGHT
TZOFFSETFROM:-0600
TZOFFSETTO:-0500
TZNAME:CDT
DTSTART:20230312T080000
END:DAYLIGHT
BEGIN:STANDARD
TZOFFSETFROM:-0500
TZOFFSETTO:-0600
TZNAME:CST
DTSTART:20231105T070000
END:STANDARD
BEGIN:DAYLIGHT
TZOFFSETFROM:-0600
TZOFFSETTO:-0500
TZNAME:CDT
DTSTART:20240310T080000
END:DAYLIGHT
BEGIN:STANDARD
TZOFFSETFROM:-0500
TZOFFSETTO:-0600
TZNAME:CST
DTSTART:20241103T070000
END:STANDARD
BEGIN:DAYLIGHT
TZOFFSETFROM:-0600
TZOFFSETTO:-0500
TZNAME:CDT
DTSTART:20250309T080000
END:DAYLIGHT
BEGIN:STANDARD
TZOFFSETFROM:-0500
TZOFFSETTO:-0600
TZNAME:CST
DTSTART:20251102T070000
END:STANDARD
END:VTIMEZONE
BEGIN:VEVENT
DTSTART;TZID=America/Chicago:20241223T070000
DTEND;TZID=America/Chicago:20241223T150000
DTSTAMP:20260423T061006
CREATED:20241219T192328Z
LAST-MODIFIED:20241219T192328Z
UID:10001251-1734937200-1734966000@explorepeace.org
SUMMARY:Christmas Break - No Preschool or 4K (Dec 23 - Jan 1)
DESCRIPTION:
URL:https://explorepeace.org/event/christmas-break-no-preschool-or-4k-dec-23-jan-1/2024-12-23/
CATEGORIES:Preschool
END:VEVENT
BEGIN:VEVENT
DTSTART;TZID=America/Chicago:20241222T180000
DTEND;TZID=America/Chicago:20241222T190000
DTSTAMP:20260423T061006
CREATED:20240925T221422Z
LAST-MODIFIED:20240925T221422Z
UID:10001227-1734890400-1734894000@explorepeace.org
SUMMARY:Radical Ringers rehearsal
DESCRIPTION:For … 7th to 12th graders\, ringing hand bells … ring / dampen / shake / mallet / thumb damp / pluck / and so much more (happening in the Music Room).  Ringing bells is so much fun!\nOur Radical Ringers rehearsals will be on SUNDAYS from 6:00 – 7:00pm\, beginning on Sunday\, October 13.   \nJan Rutkowski\, RR Director
URL:https://explorepeace.org/event/radical-ringers-rehearsal/2024-12-22/
CATEGORIES:Music,Youth
END:VEVENT
BEGIN:VEVENT
DTSTART;TZID=America/Chicago:20241222T100000
DTEND;TZID=America/Chicago:20241222T110000
DTSTAMP:20260423T061006
CREATED:20240829T185305Z
LAST-MODIFIED:20240829T185305Z
UID:10001186-1734861600-1734865200@explorepeace.org
SUMMARY:Peace Choir (meet in the Music Room)
DESCRIPTION:
URL:https://explorepeace.org/event/peace-choir-meet-in-the-music-room/2024-12-22/
CATEGORIES:Music
END:VEVENT
BEGIN:VEVENT
DTSTART;TZID=America/Chicago:20241222T100000
DTEND;TZID=America/Chicago:20241222T110000
DTSTAMP:20260423T061006
CREATED:20240829T162935Z
LAST-MODIFIED:20240829T162935Z
UID:10001043-1734861600-1734865200@explorepeace.org
SUMMARY:Coffee\, Fellowship & Donut Yum
DESCRIPTION:
URL:https://explorepeace.org/event/coffee-fellowship-donut-yum/2024-12-22/
CATEGORIES:Meetings/Gatherings
END:VEVENT
BEGIN:VEVENT
DTSTART;TZID=America/Chicago:20241222T090000
DTEND;TZID=America/Chicago:20241222T100000
DTSTAMP:20260423T061006
CREATED:20240522T201207Z
LAST-MODIFIED:20240522T201207Z
UID:10001022-1734858000-1734861600@explorepeace.org
SUMMARY:Worship with Holy Communion
DESCRIPTION:
URL:https://explorepeace.org/event/worship-with-holy-communion/2024-12-22/
CATEGORIES:Worship
END:VEVENT
BEGIN:VEVENT
DTSTART;TZID=America/Chicago:20241222T090000
DTEND;TZID=America/Chicago:20241222T094500
DTSTAMP:20260423T061006
CREATED:20240829T163231Z
LAST-MODIFIED:20241023T200757Z
UID:10001059-1734858000-1734860700@explorepeace.org
SUMMARY:KiX (Kids in Christ) aka Sunday School (age 3 to grade 4)
DESCRIPTION:
URL:https://explorepeace.org/event/kix-kids-in-christ-aka-sunday-school-age-3-to-grade-4/2024-12-22/
CATEGORIES:Youth
END:VEVENT
BEGIN:VEVENT
DTSTART;TZID=America/Chicago:20241220T070000
DTEND;TZID=America/Chicago:20241220T143000
DTSTAMP:20260423T061006
CREATED:20240522T195532Z
LAST-MODIFIED:20240522T195532Z
UID:10001005-1734678000-1734705000@explorepeace.org
SUMMARY:Preschool & 4K
DESCRIPTION:
URL:https://explorepeace.org/event/preschool-4k-18/2024-12-20/
CATEGORIES:Preschool
END:VEVENT
BEGIN:VEVENT
DTSTART;TZID=America/Chicago:20241219T090000
DTEND;TZID=America/Chicago:20241219T100000
DTSTAMP:20260423T061006
CREATED:20240829T184754Z
LAST-MODIFIED:20240829T184754Z
UID:10001158-1734598800-1734602400@explorepeace.org
SUMMARY:Coffee & Chocolate Bible Study (with Pastor Doug)
DESCRIPTION:
URL:https://explorepeace.org/event/coffee-chocolate-bible-study-with-pastor-doug-2/2024-12-19/
CATEGORIES:Meetings/Gatherings
END:VEVENT
BEGIN:VEVENT
DTSTART;TZID=America/Chicago:20241219T070000
DTEND;TZID=America/Chicago:20241219T153000
DTSTAMP:20260423T061006
CREATED:20240522T195144Z
LAST-MODIFIED:20240522T195144Z
UID:10000992-1734591600-1734622200@explorepeace.org
SUMMARY:Preschool & 4K
DESCRIPTION:
URL:https://explorepeace.org/event/preschool-4k-17/2024-12-19/
CATEGORIES:Preschool
END:VEVENT
BEGIN:VEVENT
DTSTART;TZID=America/Chicago:20241218T184500
DTEND;TZID=America/Chicago:20241218T194500
DTSTAMP:20260423T061006
CREATED:20241017T194657Z
LAST-MODIFIED:20241017T194657Z
UID:10001246-1734547500-1734551100@explorepeace.org
SUMMARY:Route 78 & Adventure 910
DESCRIPTION:Oct 30: Introduction Day! \nNov 6: Interesting Details about God #1 \nNov 13: Interesting Details about God #2 \nNov 20: Interesting Details about God #3 \nDec 4: Advent Festival Event. Come for your time slot! \nDec 11: Interesting Details about God #4 \nDec 18: Interesting Details about God #5
URL:https://explorepeace.org/event/route-78-adventure-910-2/2024-12-18/
CATEGORIES:Youth
END:VEVENT
BEGIN:VEVENT
DTSTART;TZID=America/Chicago:20241218T181500
DTEND;TZID=America/Chicago:20241218T184500
DTSTAMP:20260423T061006
CREATED:20240829T183723Z
LAST-MODIFIED:20240904T195822Z
UID:10001143-1734545700-1734547500@explorepeace.org
SUMMARY:Wednesday Worship
DESCRIPTION:
URL:https://explorepeace.org/event/wednesday-worship-6/2024-12-18/
CATEGORIES:Worship
END:VEVENT
BEGIN:VEVENT
DTSTART;TZID=America/Chicago:20241218T180000
DTEND;TZID=America/Chicago:20241218T184500
DTSTAMP:20260423T061006
CREATED:20240829T164206Z
LAST-MODIFIED:20241023T210804Z
UID:10001101-1734544800-1734547500@explorepeace.org
SUMMARY:KiX (Kids in Christ) aka Sunday School (age 3 to grade 4)
DESCRIPTION:
URL:https://explorepeace.org/event/kix-kids-in-christ-aka-sunday-school-age-3-to-grade-4-2/2024-12-18/
CATEGORIES:Youth
END:VEVENT
BEGIN:VEVENT
DTSTART;TZID=America/Chicago:20241218T171500
DTEND;TZID=America/Chicago:20241218T181500
DTSTAMP:20260423T061006
CREATED:20240829T183530Z
LAST-MODIFIED:20240904T195949Z
UID:10001129-1734542100-1734545700@explorepeace.org
SUMMARY:Common Table Cafe (meal in the Gallery)
DESCRIPTION:Everyone is welcome!
URL:https://explorepeace.org/event/common-table-cafe-meal-in-the-gallery/2024-12-18/
CATEGORIES:Meetings/Gatherings
END:VEVENT
BEGIN:VEVENT
DTSTART;TZID=America/Chicago:20241218T171500
DTEND;TZID=America/Chicago:20241218T180000
DTSTAMP:20260423T061006
CREATED:20240829T180754Z
LAST-MODIFIED:20240904T200042Z
UID:10001115-1734542100-1734544800@explorepeace.org
SUMMARY:Chapel Chimes (musical group of 4th - 6th graders)
DESCRIPTION:Sherry Johnson\, Director … meet in the Music Room on Wednesdays!
URL:https://explorepeace.org/event/chapel-chimes-musical-group-of-4th-6th-graders/2024-12-18/
CATEGORIES:Music,Youth
END:VEVENT
BEGIN:VEVENT
DTSTART;TZID=America/Chicago:20241218T170000
DTEND;TZID=America/Chicago:20241218T173000
DTSTAMP:20260423T061006
CREATED:20240925T214357Z
LAST-MODIFIED:20240925T214357Z
UID:10001215-1734541200-1734543000@explorepeace.org
SUMMARY:Joyful Noise children's choir (for ages 3 to 7)
DESCRIPTION:Children will learn basic vocal skills and have fun singing songs\, learning actions and playing games that will encourage a love for music. Interactive and lively songs are performed at occasionally scheduled Sunday and seasonal worship services throughout the school year.  Rehearsals will be Wednesdays from 5:00 to 5:30PM during the school year.  Joyful Noise director is Megan Tatzel.
URL:https://explorepeace.org/event/joyful-noise-childrens-choir-for-ages-3-to-7/2024-12-18/
CATEGORIES:Music,Youth
END:VEVENT
BEGIN:VEVENT
DTSTART;TZID=America/Chicago:20241218T161500
DTEND;TZID=America/Chicago:20241218T171500
DTSTAMP:20260423T061006
CREATED:20240829T175901Z
LAST-MODIFIED:20241023T211200Z
UID:10001087-1734538500-1734542100@explorepeace.org
SUMMARY:Route 56 (for 5th & 6th graders)
DESCRIPTION:It is the start of our confirmation program and focuses on The Lord’s Prayer\, The 10 Commandments and the Apostle’s Creed. Understanding the needs of intermediate school students\, this group learns in active formats to make the best use of the time we share on Wednesdays.
URL:https://explorepeace.org/event/route-56-for-5th-6th-graders/2024-12-18/
CATEGORIES:Youth
END:VEVENT
BEGIN:VEVENT
DTSTART;TZID=America/Chicago:20241218T160000
DTEND;TZID=America/Chicago:20241218T170000
DTSTAMP:20260423T061006
CREATED:20241017T194454Z
LAST-MODIFIED:20241017T194454Z
UID:10001239-1734537600-1734541200@explorepeace.org
SUMMARY:Route 78 & Adventure 910
DESCRIPTION:Oct 30: Introduction Day! \nNov 6: Interesting Details about God #1 \nNov 13: Interesting Details about God #2 \nNov 20: Interesting Details about God #3 \nDec 4: Advent Festival Event. Come for your time slot! \nDec 11: Interesting Details about God #4 \nDec 18: Interesting Details about God #5
URL:https://explorepeace.org/event/route-78-adventure-910/2024-12-18/
CATEGORIES:Youth
END:VEVENT
BEGIN:VEVENT
DTSTART;TZID=America/Chicago:20241218T070000
DTEND;TZID=America/Chicago:20241218T153000
DTSTAMP:20260423T061006
CREATED:20240522T191718Z
LAST-MODIFIED:20240522T191718Z
UID:10000978-1734505200-1734535800@explorepeace.org
SUMMARY:Preschool & 4K
DESCRIPTION:
URL:https://explorepeace.org/event/preschool-4k-16/2024-12-18/
CATEGORIES:Preschool
END:VEVENT
BEGIN:VEVENT
DTSTART;TZID=America/Chicago:20241217T070000
DTEND;TZID=America/Chicago:20241217T153000
DTSTAMP:20260423T061006
CREATED:20240522T191255Z
LAST-MODIFIED:20240522T191255Z
UID:10000948-1734418800-1734449400@explorepeace.org
SUMMARY:Preschool & 4K
DESCRIPTION:
URL:https://explorepeace.org/event/preschool-4k-14/2024-12-17/
CATEGORIES:Preschool
END:VEVENT
BEGIN:VEVENT
DTSTART;TZID=America/Chicago:20241216T070000
DTEND;TZID=America/Chicago:20241216T153000
DTSTAMP:20260423T061006
CREATED:20240522T191504Z
LAST-MODIFIED:20240522T191504Z
UID:10000963-1734332400-1734363000@explorepeace.org
SUMMARY:Preschool & 4K
DESCRIPTION:
URL:https://explorepeace.org/event/preschool-4k-15/2024-12-16/
CATEGORIES:Preschool
END:VEVENT
BEGIN:VEVENT
DTSTART;TZID=America/Chicago:20241215T180000
DTEND;TZID=America/Chicago:20241215T190000
DTSTAMP:20260423T061006
CREATED:20240925T221422Z
LAST-MODIFIED:20240925T221422Z
UID:10001226-1734285600-1734289200@explorepeace.org
SUMMARY:Radical Ringers rehearsal
DESCRIPTION:For … 7th to 12th graders\, ringing hand bells … ring / dampen / shake / mallet / thumb damp / pluck / and so much more (happening in the Music Room).  Ringing bells is so much fun!\nOur Radical Ringers rehearsals will be on SUNDAYS from 6:00 – 7:00pm\, beginning on Sunday\, October 13.   \nJan Rutkowski\, RR Director
URL:https://explorepeace.org/event/radical-ringers-rehearsal/2024-12-15/
CATEGORIES:Music,Youth
END:VEVENT
BEGIN:VEVENT
DTSTART;TZID=America/Chicago:20241215T100000
DTEND;TZID=America/Chicago:20241215T110000
DTSTAMP:20260423T061006
CREATED:20240829T185305Z
LAST-MODIFIED:20240829T185305Z
UID:10001185-1734256800-1734260400@explorepeace.org
SUMMARY:Peace Choir (meet in the Music Room)
DESCRIPTION:
URL:https://explorepeace.org/event/peace-choir-meet-in-the-music-room/2024-12-15/
CATEGORIES:Music
END:VEVENT
BEGIN:VEVENT
DTSTART;TZID=America/Chicago:20241215T100000
DTEND;TZID=America/Chicago:20241215T110000
DTSTAMP:20260423T061006
CREATED:20240829T162935Z
LAST-MODIFIED:20240829T162935Z
UID:10001042-1734256800-1734260400@explorepeace.org
SUMMARY:Coffee\, Fellowship & Donut Yum
DESCRIPTION:
URL:https://explorepeace.org/event/coffee-fellowship-donut-yum/2024-12-15/
CATEGORIES:Meetings/Gatherings
END:VEVENT
BEGIN:VEVENT
DTSTART;TZID=America/Chicago:20241215T090000
DTEND;TZID=America/Chicago:20241215T100000
DTSTAMP:20260423T061007
CREATED:20240522T201207Z
LAST-MODIFIED:20240522T201207Z
UID:10001021-1734253200-1734256800@explorepeace.org
SUMMARY:Worship with Holy Communion
DESCRIPTION:
URL:https://explorepeace.org/event/worship-with-holy-communion/2024-12-15/
CATEGORIES:Worship
END:VEVENT
BEGIN:VEVENT
DTSTART;TZID=America/Chicago:20241215T090000
DTEND;TZID=America/Chicago:20241215T094500
DTSTAMP:20260423T061007
CREATED:20240829T163231Z
LAST-MODIFIED:20241023T200757Z
UID:10001058-1734253200-1734255900@explorepeace.org
SUMMARY:KiX (Kids in Christ) aka Sunday School (age 3 to grade 4)
DESCRIPTION:
URL:https://explorepeace.org/event/kix-kids-in-christ-aka-sunday-school-age-3-to-grade-4/2024-12-15/
CATEGORIES:Youth
END:VEVENT
BEGIN:VEVENT
DTSTART;TZID=America/Chicago:20241213T070000
DTEND;TZID=America/Chicago:20241213T143000
DTSTAMP:20260423T061007
CREATED:20240522T195532Z
LAST-MODIFIED:20240522T195532Z
UID:10001004-1734073200-1734100200@explorepeace.org
SUMMARY:Preschool & 4K
DESCRIPTION:
URL:https://explorepeace.org/event/preschool-4k-18/2024-12-13/
CATEGORIES:Preschool
END:VEVENT
BEGIN:VEVENT
DTSTART;TZID=America/Chicago:20241212T090000
DTEND;TZID=America/Chicago:20241212T100000
DTSTAMP:20260423T061007
CREATED:20240829T184754Z
LAST-MODIFIED:20240829T184754Z
UID:10001157-1733994000-1733997600@explorepeace.org
SUMMARY:Coffee & Chocolate Bible Study (with Pastor Doug)
DESCRIPTION:
URL:https://explorepeace.org/event/coffee-chocolate-bible-study-with-pastor-doug-2/2024-12-12/
CATEGORIES:Meetings/Gatherings
END:VEVENT
BEGIN:VEVENT
DTSTART;TZID=America/Chicago:20241212T070000
DTEND;TZID=America/Chicago:20241212T153000
DTSTAMP:20260423T061007
CREATED:20240522T195144Z
LAST-MODIFIED:20240522T195144Z
UID:10000991-1733986800-1734017400@explorepeace.org
SUMMARY:Preschool & 4K
DESCRIPTION:
URL:https://explorepeace.org/event/preschool-4k-17/2024-12-12/
CATEGORIES:Preschool
END:VEVENT
BEGIN:VEVENT
DTSTART;TZID=America/Chicago:20241211T184500
DTEND;TZID=America/Chicago:20241211T194500
DTSTAMP:20260423T061007
CREATED:20241017T194657Z
LAST-MODIFIED:20241017T194657Z
UID:10001245-1733942700-1733946300@explorepeace.org
SUMMARY:Route 78 & Adventure 910
DESCRIPTION:Oct 30: Introduction Day! \nNov 6: Interesting Details about God #1 \nNov 13: Interesting Details about God #2 \nNov 20: Interesting Details about God #3 \nDec 4: Advent Festival Event. Come for your time slot! \nDec 11: Interesting Details about God #4 \nDec 18: Interesting Details about God #5
URL:https://explorepeace.org/event/route-78-adventure-910-2/2024-12-11/
CATEGORIES:Youth
END:VEVENT
BEGIN:VEVENT
DTSTART;TZID=America/Chicago:20241211T181500
DTEND;TZID=America/Chicago:20241211T184500
DTSTAMP:20260423T061007
CREATED:20240829T183723Z
LAST-MODIFIED:20240904T195822Z
UID:10001142-1733940900-1733942700@explorepeace.org
SUMMARY:Wednesday Worship
DESCRIPTION:
URL:https://explorepeace.org/event/wednesday-worship-6/2024-12-11/
CATEGORIES:Worship
END:VEVENT
END:VCALENDAR