BEGIN:VCALENDAR
VERSION:2.0
PRODID:-//Peace Lutheran Church | Experience Christ. Explore Peace. - ECPv6.15.20//NONSGML v1.0//EN
CALSCALE:GREGORIAN
METHOD:PUBLISH
X-WR-CALNAME:Peace Lutheran Church | Experience Christ. Explore Peace.
X-ORIGINAL-URL:https://explorepeace.org
X-WR-CALDESC:Events for Peace Lutheran Church | Experience Christ. Explore Peace.
REFRESH-INTERVAL;VALUE=DURATION:PT1H
X-Robots-Tag:noindex
X-PUBLISHED-TTL:PT1H
BEGIN:VTIMEZONE
TZID:America/Chicago
BEGIN:DAYLIGHT
TZOFFSETFROM:-0600
TZOFFSETTO:-0500
TZNAME:CDT
DTSTART:20240310T080000
END:DAYLIGHT
BEGIN:STANDARD
TZOFFSETFROM:-0500
TZOFFSETTO:-0600
TZNAME:CST
DTSTART:20241103T070000
END:STANDARD
BEGIN:DAYLIGHT
TZOFFSETFROM:-0600
TZOFFSETTO:-0500
TZNAME:CDT
DTSTART:20250309T080000
END:DAYLIGHT
BEGIN:STANDARD
TZOFFSETFROM:-0500
TZOFFSETTO:-0600
TZNAME:CST
DTSTART:20251102T070000
END:STANDARD
BEGIN:DAYLIGHT
TZOFFSETFROM:-0600
TZOFFSETTO:-0500
TZNAME:CDT
DTSTART:20260308T080000
END:DAYLIGHT
BEGIN:STANDARD
TZOFFSETFROM:-0500
TZOFFSETTO:-0600
TZNAME:CST
DTSTART:20261101T070000
END:STANDARD
END:VTIMEZONE
BEGIN:VEVENT
DTSTART;TZID=America/Chicago:20250207T070000
DTEND;TZID=America/Chicago:20250207T143000
DTSTAMP:20260422T175702
CREATED:20250109T231327Z
LAST-MODIFIED:20250109T231327Z
UID:10001514-1738911600-1738938600@explorepeace.org
SUMMARY:Preschool & 4K
DESCRIPTION:
URL:https://explorepeace.org/event/preschool-4k-24/2025-02-07/
CATEGORIES:Preschool
END:VEVENT
BEGIN:VEVENT
DTSTART;TZID=America/Chicago:20250206T090000
DTEND;TZID=America/Chicago:20250206T100000
DTSTAMP:20260422T175702
CREATED:20250113T155626Z
LAST-MODIFIED:20250113T155626Z
UID:10001657-1738832400-1738836000@explorepeace.org
SUMMARY:Coffee and Chocolate with Pastor Doug
DESCRIPTION:Bible Study … with Coffee and Chocolate … meeting in the Fireside Room.
URL:https://explorepeace.org/event/coffee-and-chocolate-with-pastor-doug/2025-02-06/
CATEGORIES:Meetings/Gatherings
END:VEVENT
BEGIN:VEVENT
DTSTART;TZID=America/Chicago:20250206T070000
DTEND;TZID=America/Chicago:20250206T153000
DTSTAMP:20260422T175702
CREATED:20250109T231132Z
LAST-MODIFIED:20250109T231132Z
UID:10001493-1738825200-1738855800@explorepeace.org
SUMMARY:Preschool & 4K
DESCRIPTION:
URL:https://explorepeace.org/event/preschool-4k-23/2025-02-06/
CATEGORIES:Preschool
END:VEVENT
BEGIN:VEVENT
DTSTART;TZID=America/Chicago:20250205T181500
DTEND;TZID=America/Chicago:20250205T190000
DTSTAMP:20260422T175702
CREATED:20250116T182148Z
LAST-MODIFIED:20250116T182148Z
UID:10001691-1738779300-1738782000@explorepeace.org
SUMMARY:Route 78 & Adventure 910 Confirmation (7th-10th grades) - late session
DESCRIPTION:
URL:https://explorepeace.org/event/route-78-adventure-910-confirmation-7th-10th-grades-late-session/2025-02-05/
CATEGORIES:Youth
END:VEVENT
BEGIN:VEVENT
DTSTART;TZID=America/Chicago:20250205T181500
DTEND;TZID=America/Chicago:20250205T190000
DTSTAMP:20260422T175702
CREATED:20250113T152346Z
LAST-MODIFIED:20250206T194606Z
UID:10001601-1738779300-1738782000@explorepeace.org
SUMMARY:Wednesday Worship with Holy Communion
DESCRIPTION:
URL:https://explorepeace.org/event/wednesday-worship-with-holy-communion/2025-02-05/
CATEGORIES:Worship
END:VEVENT
BEGIN:VEVENT
DTSTART;TZID=America/Chicago:20250205T181500
DTEND;TZID=America/Chicago:20250205T190000
DTSTAMP:20260422T175702
CREATED:20250113T150927Z
LAST-MODIFIED:20250113T150927Z
UID:10001549-1738779300-1738782000@explorepeace.org
SUMMARY:KiX (Kids in Christ) for ages 3 through 4th grade (meet in Friendship Room)
DESCRIPTION:
URL:https://explorepeace.org/event/kix-kids-in-christ-for-ages-3-through-4th-grade-meet-in-friendship-room/2025-02-05/
CATEGORIES:Youth
END:VEVENT
BEGIN:VEVENT
DTSTART;TZID=America/Chicago:20250205T171500
DTEND;TZID=America/Chicago:20250205T181500
DTSTAMP:20260422T175702
CREATED:20250113T153755Z
LAST-MODIFIED:20250113T153755Z
UID:10001615-1738775700-1738779300@explorepeace.org
SUMMARY:Common Table Cafe
DESCRIPTION:Meal and conversation in the Gallery. Everyone is welcome!
URL:https://explorepeace.org/event/common-table-cafe-3/2025-02-05/
CATEGORIES:Meetings/Gatherings
END:VEVENT
BEGIN:VEVENT
DTSTART;TZID=America/Chicago:20250205T171500
DTEND;TZID=America/Chicago:20250205T180000
DTSTAMP:20260422T175702
CREATED:20250113T151849Z
LAST-MODIFIED:20250113T153219Z
UID:10001588-1738775700-1738778400@explorepeace.org
SUMMARY:Chapel Chimes (music group for 4th - 6th graders)
DESCRIPTION:Sherry Johnson is Chapel Chimes Director.
URL:https://explorepeace.org/event/chapel-chimes-music-group-for-4th-6th-graders/2025-02-05/
CATEGORIES:Music,Youth
END:VEVENT
BEGIN:VEVENT
DTSTART;TZID=America/Chicago:20250205T170000
DTEND;TZID=America/Chicago:20250205T173000
DTSTAMP:20260422T175702
CREATED:20250113T151416Z
LAST-MODIFIED:20250113T153030Z
UID:10001562-1738774800-1738776600@explorepeace.org
SUMMARY:Joyful Noise (ages 4 - 1st grade\, give or take a year)
DESCRIPTION:Children will learn basic vocal skills and have fun singing songs\, learning actions and playing games that will encourage a love for music. Interactive and lively songs are performed at occasionally scheduled Sunday and seasonal worship services throughout the school year.  Rehearsals will be Wednesdays from 5:00 to 5:30PM during the school year.  Joyful Noise director is Megan Tatzel.
URL:https://explorepeace.org/event/joyful-noise-ages-4-1st-grade-give-or-take-a-year/2025-02-05/
CATEGORIES:Music,Youth
END:VEVENT
BEGIN:VEVENT
DTSTART;TZID=America/Chicago:20250205T161500
DTEND;TZID=America/Chicago:20250205T171500
DTSTAMP:20260422T175702
CREATED:20250113T151640Z
LAST-MODIFIED:20250113T151640Z
UID:10001575-1738772100-1738775700@explorepeace.org
SUMMARY:Route 56 (confirmation for 5th and 6th graders)
DESCRIPTION:
URL:https://explorepeace.org/event/route-56-confirmation-for-5th-and-6th-graders/2025-02-05/
CATEGORIES:Youth
END:VEVENT
BEGIN:VEVENT
DTSTART;TZID=America/Chicago:20250205T160000
DTEND;TZID=America/Chicago:20250205T170000
DTSTAMP:20260422T175702
CREATED:20250113T154342Z
LAST-MODIFIED:20250116T182657Z
UID:10001629-1738771200-1738774800@explorepeace.org
SUMMARY:Route 78 & Adventure 910 Confirmation (7th-10 grade) - early session
DESCRIPTION:
URL:https://explorepeace.org/event/route-78-adventure-910-confirmation-for-7th-10th-grades/2025-02-05/
CATEGORIES:Youth
END:VEVENT
BEGIN:VEVENT
DTSTART;TZID=America/Chicago:20250205T070000
DTEND;TZID=America/Chicago:20250205T153000
DTSTAMP:20260422T175702
CREATED:20250109T231027Z
LAST-MODIFIED:20250528T191240Z
UID:10001420-1738738800-1738769400@explorepeace.org
SUMMARY:Preschool & 4K
DESCRIPTION:
URL:https://explorepeace.org/event/preschool-4k-22/2025-02-05/
CATEGORIES:Preschool
END:VEVENT
BEGIN:VEVENT
DTSTART;TZID=America/Chicago:20250204T070000
DTEND;TZID=America/Chicago:20250204T153000
DTSTAMP:20260422T175702
CREATED:20250109T230912Z
LAST-MODIFIED:20250109T230912Z
UID:10001399-1738652400-1738683000@explorepeace.org
SUMMARY:Preschool & 4K
DESCRIPTION:
URL:https://explorepeace.org/event/preschool-4k-21/2025-02-04/
CATEGORIES:Preschool
END:VEVENT
BEGIN:VEVENT
DTSTART;TZID=America/Chicago:20250203T070000
DTEND;TZID=America/Chicago:20250203T153000
DTSTAMP:20260422T175702
CREATED:20250109T230736Z
LAST-MODIFIED:20250109T230736Z
UID:10001381-1738566000-1738596600@explorepeace.org
SUMMARY:Preschool & 4K
DESCRIPTION:
URL:https://explorepeace.org/event/preschool-4k-20/2025-02-03/
CATEGORIES:Preschool
END:VEVENT
BEGIN:VEVENT
DTSTART;TZID=America/Chicago:20250202T180000
DTEND;TZID=America/Chicago:20250202T190000
DTSTAMP:20260422T175702
CREATED:20250113T155005Z
LAST-MODIFIED:20250113T155005Z
UID:10001642-1738519200-1738522800@explorepeace.org
SUMMARY:Radical Ringers (handbells for 7th-12th graders)
DESCRIPTION:Jan Rutkowski is the Radical Ringers Director.  Meet in the Music Room on Sunday evenings.
URL:https://explorepeace.org/event/radical-ringers-handbells-for-7th-12th-graders/2025-02-02/
CATEGORIES:Music,Youth
END:VEVENT
BEGIN:VEVENT
DTSTART;TZID=America/Chicago:20250202T100000
DTEND;TZID=America/Chicago:20250202T110000
DTSTAMP:20260422T175702
CREATED:20250109T230418Z
LAST-MODIFIED:20250109T230418Z
UID:10001332-1738490400-1738494000@explorepeace.org
SUMMARY:Coffee\, Donuts & Fellowship
DESCRIPTION:
URL:https://explorepeace.org/event/coffee-donuts-fellowship/2025-02-02/
CATEGORIES:Meetings/Gatherings
END:VEVENT
BEGIN:VEVENT
DTSTART;TZID=America/Chicago:20250202T090000
DTEND;TZID=America/Chicago:20250202T100000
DTSTAMP:20260422T175702
CREATED:20250109T225919Z
LAST-MODIFIED:20250109T225919Z
UID:10001268-1738486800-1738490400@explorepeace.org
SUMMARY:Sunday morning Worship
DESCRIPTION:
URL:https://explorepeace.org/event/sunday-morning-worship/2025-02-02/
CATEGORIES:Worship
END:VEVENT
BEGIN:VEVENT
DTSTART;TZID=America/Chicago:20250202T090000
DTEND;TZID=America/Chicago:20250202T094500
DTSTAMP:20260422T175702
CREATED:20250109T230208Z
LAST-MODIFIED:20250109T230208Z
UID:10001317-1738486800-1738489500@explorepeace.org
SUMMARY:KiX (Kids in Christ) for age 3 to 4th grade
DESCRIPTION:
URL:https://explorepeace.org/event/kix-kids-in-christ-for-age-3-to-4th-grade-2/2025-02-02/
CATEGORIES:Youth
END:VEVENT
BEGIN:VEVENT
DTSTART;TZID=America/Chicago:20250131T070000
DTEND;TZID=America/Chicago:20250131T143000
DTSTAMP:20260422T175702
CREATED:20250109T231327Z
LAST-MODIFIED:20250109T231327Z
UID:10001513-1738306800-1738333800@explorepeace.org
SUMMARY:Preschool & 4K
DESCRIPTION:
URL:https://explorepeace.org/event/preschool-4k-24/2025-01-31/
CATEGORIES:Preschool
END:VEVENT
BEGIN:VEVENT
DTSTART;TZID=America/Chicago:20250130T090000
DTEND;TZID=America/Chicago:20250130T100000
DTSTAMP:20260422T175702
CREATED:20250113T155626Z
LAST-MODIFIED:20250113T155626Z
UID:10001656-1738227600-1738231200@explorepeace.org
SUMMARY:Coffee and Chocolate with Pastor Doug
DESCRIPTION:Bible Study … with Coffee and Chocolate … meeting in the Fireside Room.
URL:https://explorepeace.org/event/coffee-and-chocolate-with-pastor-doug/2025-01-30/
CATEGORIES:Meetings/Gatherings
END:VEVENT
BEGIN:VEVENT
DTSTART;TZID=America/Chicago:20250130T070000
DTEND;TZID=America/Chicago:20250130T153000
DTSTAMP:20260422T175702
CREATED:20250109T231132Z
LAST-MODIFIED:20250109T231132Z
UID:10001492-1738220400-1738251000@explorepeace.org
SUMMARY:Preschool & 4K
DESCRIPTION:
URL:https://explorepeace.org/event/preschool-4k-23/2025-01-30/
CATEGORIES:Preschool
END:VEVENT
BEGIN:VEVENT
DTSTART;TZID=America/Chicago:20250129T181500
DTEND;TZID=America/Chicago:20250129T190000
DTSTAMP:20260422T175702
CREATED:20250116T182148Z
LAST-MODIFIED:20250116T182148Z
UID:10001690-1738174500-1738177200@explorepeace.org
SUMMARY:Route 78 & Adventure 910 Confirmation (7th-10th grades) - late session
DESCRIPTION:
URL:https://explorepeace.org/event/route-78-adventure-910-confirmation-7th-10th-grades-late-session/2025-01-29/
CATEGORIES:Youth
END:VEVENT
BEGIN:VEVENT
DTSTART;TZID=America/Chicago:20250129T181500
DTEND;TZID=America/Chicago:20250129T190000
DTSTAMP:20260422T175702
CREATED:20250113T152346Z
LAST-MODIFIED:20250206T194606Z
UID:10001600-1738174500-1738177200@explorepeace.org
SUMMARY:Wednesday Worship with Holy Communion
DESCRIPTION:
URL:https://explorepeace.org/event/wednesday-worship-with-holy-communion/2025-01-29/
CATEGORIES:Worship
END:VEVENT
BEGIN:VEVENT
DTSTART;TZID=America/Chicago:20250129T181500
DTEND;TZID=America/Chicago:20250129T190000
DTSTAMP:20260422T175702
CREATED:20250113T150927Z
LAST-MODIFIED:20250113T150927Z
UID:10001548-1738174500-1738177200@explorepeace.org
SUMMARY:KiX (Kids in Christ) for ages 3 through 4th grade (meet in Friendship Room)
DESCRIPTION:
URL:https://explorepeace.org/event/kix-kids-in-christ-for-ages-3-through-4th-grade-meet-in-friendship-room/2025-01-29/
CATEGORIES:Youth
END:VEVENT
BEGIN:VEVENT
DTSTART;TZID=America/Chicago:20250129T171500
DTEND;TZID=America/Chicago:20250129T181500
DTSTAMP:20260422T175702
CREATED:20250113T153755Z
LAST-MODIFIED:20250113T153755Z
UID:10001614-1738170900-1738174500@explorepeace.org
SUMMARY:Common Table Cafe
DESCRIPTION:Meal and conversation in the Gallery. Everyone is welcome!
URL:https://explorepeace.org/event/common-table-cafe-3/2025-01-29/
CATEGORIES:Meetings/Gatherings
END:VEVENT
BEGIN:VEVENT
DTSTART;TZID=America/Chicago:20250129T171500
DTEND;TZID=America/Chicago:20250129T180000
DTSTAMP:20260422T175702
CREATED:20250113T151849Z
LAST-MODIFIED:20250113T153219Z
UID:10001587-1738170900-1738173600@explorepeace.org
SUMMARY:Chapel Chimes (music group for 4th - 6th graders)
DESCRIPTION:Sherry Johnson is Chapel Chimes Director.
URL:https://explorepeace.org/event/chapel-chimes-music-group-for-4th-6th-graders/2025-01-29/
CATEGORIES:Music,Youth
END:VEVENT
BEGIN:VEVENT
DTSTART;TZID=America/Chicago:20250129T170000
DTEND;TZID=America/Chicago:20250129T173000
DTSTAMP:20260422T175702
CREATED:20250113T151416Z
LAST-MODIFIED:20250113T153030Z
UID:10001561-1738170000-1738171800@explorepeace.org
SUMMARY:Joyful Noise (ages 4 - 1st grade\, give or take a year)
DESCRIPTION:Children will learn basic vocal skills and have fun singing songs\, learning actions and playing games that will encourage a love for music. Interactive and lively songs are performed at occasionally scheduled Sunday and seasonal worship services throughout the school year.  Rehearsals will be Wednesdays from 5:00 to 5:30PM during the school year.  Joyful Noise director is Megan Tatzel.
URL:https://explorepeace.org/event/joyful-noise-ages-4-1st-grade-give-or-take-a-year/2025-01-29/
CATEGORIES:Music,Youth
END:VEVENT
BEGIN:VEVENT
DTSTART;TZID=America/Chicago:20250129T161500
DTEND;TZID=America/Chicago:20250129T171500
DTSTAMP:20260422T175702
CREATED:20250113T151640Z
LAST-MODIFIED:20250113T151640Z
UID:10001574-1738167300-1738170900@explorepeace.org
SUMMARY:Route 56 (confirmation for 5th and 6th graders)
DESCRIPTION:
URL:https://explorepeace.org/event/route-56-confirmation-for-5th-and-6th-graders/2025-01-29/
CATEGORIES:Youth
END:VEVENT
BEGIN:VEVENT
DTSTART;TZID=America/Chicago:20250129T160000
DTEND;TZID=America/Chicago:20250129T170000
DTSTAMP:20260422T175702
CREATED:20250113T154342Z
LAST-MODIFIED:20250116T182657Z
UID:10001628-1738166400-1738170000@explorepeace.org
SUMMARY:Route 78 & Adventure 910 Confirmation (7th-10 grade) - early session
DESCRIPTION:
URL:https://explorepeace.org/event/route-78-adventure-910-confirmation-for-7th-10th-grades/2025-01-29/
CATEGORIES:Youth
END:VEVENT
BEGIN:VEVENT
DTSTART;TZID=America/Chicago:20250129T070000
DTEND;TZID=America/Chicago:20250129T153000
DTSTAMP:20260422T175702
CREATED:20250109T231027Z
LAST-MODIFIED:20250528T191240Z
UID:10001419-1738134000-1738164600@explorepeace.org
SUMMARY:Preschool & 4K
DESCRIPTION:
URL:https://explorepeace.org/event/preschool-4k-22/2025-01-29/
CATEGORIES:Preschool
END:VEVENT
END:VCALENDAR