BEGIN:VCALENDAR
VERSION:2.0
PRODID:-//Peace Lutheran Church | Experience Christ. Explore Peace. - ECPv6.15.20//NONSGML v1.0//EN
CALSCALE:GREGORIAN
METHOD:PUBLISH
X-WR-CALNAME:Peace Lutheran Church | Experience Christ. Explore Peace.
X-ORIGINAL-URL:https://explorepeace.org
X-WR-CALDESC:Events for Peace Lutheran Church | Experience Christ. Explore Peace.
REFRESH-INTERVAL;VALUE=DURATION:PT1H
X-Robots-Tag:noindex
X-PUBLISHED-TTL:PT1H
BEGIN:VTIMEZONE
TZID:America/Chicago
BEGIN:DAYLIGHT
TZOFFSETFROM:-0600
TZOFFSETTO:-0500
TZNAME:CDT
DTSTART:20240310T080000
END:DAYLIGHT
BEGIN:STANDARD
TZOFFSETFROM:-0500
TZOFFSETTO:-0600
TZNAME:CST
DTSTART:20241103T070000
END:STANDARD
BEGIN:DAYLIGHT
TZOFFSETFROM:-0600
TZOFFSETTO:-0500
TZNAME:CDT
DTSTART:20250309T080000
END:DAYLIGHT
BEGIN:STANDARD
TZOFFSETFROM:-0500
TZOFFSETTO:-0600
TZNAME:CST
DTSTART:20251102T070000
END:STANDARD
BEGIN:DAYLIGHT
TZOFFSETFROM:-0600
TZOFFSETTO:-0500
TZNAME:CDT
DTSTART:20260308T080000
END:DAYLIGHT
BEGIN:STANDARD
TZOFFSETFROM:-0500
TZOFFSETTO:-0600
TZNAME:CST
DTSTART:20261101T070000
END:STANDARD
END:VTIMEZONE
BEGIN:VEVENT
DTSTART;TZID=America/Chicago:20250306T090000
DTEND;TZID=America/Chicago:20250306T100000
DTSTAMP:20260423T065233
CREATED:20250113T155626Z
LAST-MODIFIED:20250113T155626Z
UID:10001661-1741251600-1741255200@explorepeace.org
SUMMARY:Coffee and Chocolate with Pastor Doug
DESCRIPTION:Bible Study … with Coffee and Chocolate … meeting in the Fireside Room.
URL:https://explorepeace.org/event/coffee-and-chocolate-with-pastor-doug/2025-03-06/
CATEGORIES:Meetings/Gatherings
END:VEVENT
BEGIN:VEVENT
DTSTART;TZID=America/Chicago:20250306T070000
DTEND;TZID=America/Chicago:20250306T153000
DTSTAMP:20260423T065233
CREATED:20250109T231132Z
LAST-MODIFIED:20250109T231132Z
UID:10001497-1741244400-1741275000@explorepeace.org
SUMMARY:Preschool & 4K
DESCRIPTION:
URL:https://explorepeace.org/event/preschool-4k-23/2025-03-06/
CATEGORIES:Preschool
END:VEVENT
BEGIN:VEVENT
DTSTART;TZID=America/Chicago:20250305T181500
DTEND;TZID=America/Chicago:20250305T191500
DTSTAMP:20260423T065233
CREATED:20250116T175505Z
LAST-MODIFIED:20250116T175505Z
UID:10001687-1741198500-1741202100@explorepeace.org
SUMMARY:Ash Wednesday service
DESCRIPTION:
URL:https://explorepeace.org/event/ash-wednesday-service/
CATEGORIES:Worship
END:VEVENT
BEGIN:VEVENT
DTSTART;TZID=America/Chicago:20250305T171500
DTEND;TZID=America/Chicago:20250305T181500
DTSTAMP:20260423T065233
CREATED:20250113T153755Z
LAST-MODIFIED:20250113T153755Z
UID:10001619-1741194900-1741198500@explorepeace.org
SUMMARY:Common Table Cafe
DESCRIPTION:Meal and conversation in the Gallery. Everyone is welcome!
URL:https://explorepeace.org/event/common-table-cafe-3/2025-03-05/
CATEGORIES:Meetings/Gatherings
END:VEVENT
BEGIN:VEVENT
DTSTART;TZID=America/Chicago:20250305T160000
DTEND;TZID=America/Chicago:20250305T190000
DTSTAMP:20260423T065233
CREATED:20250206T194859Z
LAST-MODIFIED:20250206T194859Z
UID:10001712-1741190400-1741201200@explorepeace.org
SUMMARY:No Wednesday Programming (Youth and Music Groups)
DESCRIPTION:
URL:https://explorepeace.org/event/no-wednesday-programming-youth-and-music-groups/
CATEGORIES:Music,Youth
END:VEVENT
BEGIN:VEVENT
DTSTART;TZID=America/Chicago:20250305T070000
DTEND;TZID=America/Chicago:20250305T153000
DTSTAMP:20260423T065233
CREATED:20250109T231027Z
LAST-MODIFIED:20250528T191240Z
UID:10001424-1741158000-1741188600@explorepeace.org
SUMMARY:Preschool & 4K
DESCRIPTION:
URL:https://explorepeace.org/event/preschool-4k-22/2025-03-05/
CATEGORIES:Preschool
END:VEVENT
BEGIN:VEVENT
DTSTART;TZID=America/Chicago:20250304T070000
DTEND;TZID=America/Chicago:20250304T153000
DTSTAMP:20260423T065233
CREATED:20250109T230912Z
LAST-MODIFIED:20250109T230912Z
UID:10001403-1741071600-1741102200@explorepeace.org
SUMMARY:Preschool & 4K
DESCRIPTION:
URL:https://explorepeace.org/event/preschool-4k-21/2025-03-04/
CATEGORIES:Preschool
END:VEVENT
BEGIN:VEVENT
DTSTART;TZID=America/Chicago:20250303T070000
DTEND;TZID=America/Chicago:20250303T153000
DTSTAMP:20260423T065233
CREATED:20250109T230736Z
LAST-MODIFIED:20250109T230736Z
UID:10001385-1740985200-1741015800@explorepeace.org
SUMMARY:Preschool & 4K
DESCRIPTION:
URL:https://explorepeace.org/event/preschool-4k-20/2025-03-03/
CATEGORIES:Preschool
END:VEVENT
BEGIN:VEVENT
DTSTART;TZID=America/Chicago:20250302T180000
DTEND;TZID=America/Chicago:20250302T190000
DTSTAMP:20260423T065233
CREATED:20250206T192712Z
LAST-MODIFIED:20250206T192713Z
UID:10001695-1740938400-1740942000@explorepeace.org
SUMMARY:Radical Ringers (handbells for 7th-12th graders)
DESCRIPTION:Jan Rutkowski is the Radical Ringers Director.  Meet in the Music Room on Sunday evenings.
URL:https://explorepeace.org/event/radical-ringers-handbells-for-7th-12th-graders-2/2025-03-02/
CATEGORIES:Music,Youth
END:VEVENT
BEGIN:VEVENT
DTSTART;TZID=America/Chicago:20250302T100000
DTEND;TZID=America/Chicago:20250302T110000
DTSTAMP:20260423T065233
CREATED:20250206T193032Z
LAST-MODIFIED:20250206T193052Z
UID:10001699-1740909600-1740913200@explorepeace.org
SUMMARY:Peace Choir (rehearsing in the Music Room)
DESCRIPTION:
URL:https://explorepeace.org/event/peace-choir-rehearsing-in-the-music-room/2025-03-02/
CATEGORIES:Music
END:VEVENT
BEGIN:VEVENT
DTSTART;TZID=America/Chicago:20250302T100000
DTEND;TZID=America/Chicago:20250302T110000
DTSTAMP:20260423T065233
CREATED:20250109T230418Z
LAST-MODIFIED:20250109T230418Z
UID:10001336-1740909600-1740913200@explorepeace.org
SUMMARY:Coffee\, Donuts & Fellowship
DESCRIPTION:
URL:https://explorepeace.org/event/coffee-donuts-fellowship/2025-03-02/
CATEGORIES:Meetings/Gatherings
END:VEVENT
BEGIN:VEVENT
DTSTART;TZID=America/Chicago:20250302T090000
DTEND;TZID=America/Chicago:20250302T100000
DTSTAMP:20260423T065233
CREATED:20250109T225919Z
LAST-MODIFIED:20250109T225919Z
UID:10001272-1740906000-1740909600@explorepeace.org
SUMMARY:Sunday morning Worship
DESCRIPTION:
URL:https://explorepeace.org/event/sunday-morning-worship/2025-03-02/
CATEGORIES:Worship
END:VEVENT
BEGIN:VEVENT
DTSTART;TZID=America/Chicago:20250302T090000
DTEND;TZID=America/Chicago:20250302T094500
DTSTAMP:20260423T065233
CREATED:20250109T230208Z
LAST-MODIFIED:20250109T230208Z
UID:10001321-1740906000-1740908700@explorepeace.org
SUMMARY:KiX (Kids in Christ) for age 3 to 4th grade
DESCRIPTION:
URL:https://explorepeace.org/event/kix-kids-in-christ-for-age-3-to-4th-grade-2/2025-03-02/
CATEGORIES:Youth
END:VEVENT
BEGIN:VEVENT
DTSTART;TZID=America/Chicago:20250228T070000
DTEND;TZID=America/Chicago:20250228T143000
DTSTAMP:20260423T065233
CREATED:20250109T231539Z
LAST-MODIFIED:20250109T231539Z
UID:10001530-1740726000-1740753000@explorepeace.org
SUMMARY:No Preschool\, No 4K
DESCRIPTION:
URL:https://explorepeace.org/event/no-preschool-no-4k-5/
CATEGORIES:Preschool
END:VEVENT
BEGIN:VEVENT
DTSTART;TZID=America/Chicago:20250227T090000
DTEND;TZID=America/Chicago:20250227T100000
DTSTAMP:20260423T065233
CREATED:20250113T155626Z
LAST-MODIFIED:20250113T155626Z
UID:10001660-1740646800-1740650400@explorepeace.org
SUMMARY:Coffee and Chocolate with Pastor Doug
DESCRIPTION:Bible Study … with Coffee and Chocolate … meeting in the Fireside Room.
URL:https://explorepeace.org/event/coffee-and-chocolate-with-pastor-doug/2025-02-27/
CATEGORIES:Meetings/Gatherings
END:VEVENT
BEGIN:VEVENT
DTSTART;TZID=America/Chicago:20250227T070000
DTEND;TZID=America/Chicago:20250227T153000
DTSTAMP:20260423T065233
CREATED:20250109T231132Z
LAST-MODIFIED:20250109T231132Z
UID:10001496-1740639600-1740670200@explorepeace.org
SUMMARY:Preschool & 4K
DESCRIPTION:
URL:https://explorepeace.org/event/preschool-4k-23/2025-02-27/
CATEGORIES:Preschool
END:VEVENT
BEGIN:VEVENT
DTSTART;TZID=America/Chicago:20250226T181500
DTEND;TZID=America/Chicago:20250226T190000
DTSTAMP:20260423T065233
CREATED:20250116T182148Z
LAST-MODIFIED:20250116T182148Z
UID:10001694-1740593700-1740596400@explorepeace.org
SUMMARY:Route 78 & Adventure 910 Confirmation (7th-10th grades) - late session
DESCRIPTION:
URL:https://explorepeace.org/event/route-78-adventure-910-confirmation-7th-10th-grades-late-session/2025-02-26/
CATEGORIES:Youth
END:VEVENT
BEGIN:VEVENT
DTSTART;TZID=America/Chicago:20250226T181500
DTEND;TZID=America/Chicago:20250226T190000
DTSTAMP:20260423T065233
CREATED:20250113T152346Z
LAST-MODIFIED:20250206T194606Z
UID:10001604-1740593700-1740596400@explorepeace.org
SUMMARY:Wednesday Worship with Holy Communion
DESCRIPTION:
URL:https://explorepeace.org/event/wednesday-worship-with-holy-communion/2025-02-26/
CATEGORIES:Worship
END:VEVENT
BEGIN:VEVENT
DTSTART;TZID=America/Chicago:20250226T181500
DTEND;TZID=America/Chicago:20250226T190000
DTSTAMP:20260423T065233
CREATED:20250113T150927Z
LAST-MODIFIED:20250113T150927Z
UID:10001552-1740593700-1740596400@explorepeace.org
SUMMARY:KiX (Kids in Christ) for ages 3 through 4th grade (meet in Friendship Room)
DESCRIPTION:
URL:https://explorepeace.org/event/kix-kids-in-christ-for-ages-3-through-4th-grade-meet-in-friendship-room/2025-02-26/
CATEGORIES:Youth
END:VEVENT
BEGIN:VEVENT
DTSTART;TZID=America/Chicago:20250226T171500
DTEND;TZID=America/Chicago:20250226T181500
DTSTAMP:20260423T065233
CREATED:20250113T153755Z
LAST-MODIFIED:20250113T153755Z
UID:10001618-1740590100-1740593700@explorepeace.org
SUMMARY:Common Table Cafe
DESCRIPTION:Meal and conversation in the Gallery. Everyone is welcome!
URL:https://explorepeace.org/event/common-table-cafe-3/2025-02-26/
CATEGORIES:Meetings/Gatherings
END:VEVENT
BEGIN:VEVENT
DTSTART;TZID=America/Chicago:20250226T171500
DTEND;TZID=America/Chicago:20250226T180000
DTSTAMP:20260423T065233
CREATED:20250113T151849Z
LAST-MODIFIED:20250113T153219Z
UID:10001591-1740590100-1740592800@explorepeace.org
SUMMARY:Chapel Chimes (music group for 4th - 6th graders)
DESCRIPTION:Sherry Johnson is Chapel Chimes Director.
URL:https://explorepeace.org/event/chapel-chimes-music-group-for-4th-6th-graders/2025-02-26/
CATEGORIES:Music,Youth
END:VEVENT
BEGIN:VEVENT
DTSTART;TZID=America/Chicago:20250226T170000
DTEND;TZID=America/Chicago:20250226T173000
DTSTAMP:20260423T065233
CREATED:20250113T151416Z
LAST-MODIFIED:20250113T153030Z
UID:10001565-1740589200-1740591000@explorepeace.org
SUMMARY:Joyful Noise (ages 4 - 1st grade\, give or take a year)
DESCRIPTION:Children will learn basic vocal skills and have fun singing songs\, learning actions and playing games that will encourage a love for music. Interactive and lively songs are performed at occasionally scheduled Sunday and seasonal worship services throughout the school year.  Rehearsals will be Wednesdays from 5:00 to 5:30PM during the school year.  Joyful Noise director is Megan Tatzel.
URL:https://explorepeace.org/event/joyful-noise-ages-4-1st-grade-give-or-take-a-year/2025-02-26/
CATEGORIES:Music,Youth
END:VEVENT
BEGIN:VEVENT
DTSTART;TZID=America/Chicago:20250226T161500
DTEND;TZID=America/Chicago:20250226T171500
DTSTAMP:20260423T065233
CREATED:20250113T151640Z
LAST-MODIFIED:20250113T151640Z
UID:10001578-1740586500-1740590100@explorepeace.org
SUMMARY:Route 56 (confirmation for 5th and 6th graders)
DESCRIPTION:
URL:https://explorepeace.org/event/route-56-confirmation-for-5th-and-6th-graders/2025-02-26/
CATEGORIES:Youth
END:VEVENT
BEGIN:VEVENT
DTSTART;TZID=America/Chicago:20250226T160000
DTEND;TZID=America/Chicago:20250226T170000
DTSTAMP:20260423T065233
CREATED:20250113T154342Z
LAST-MODIFIED:20250116T182657Z
UID:10001632-1740585600-1740589200@explorepeace.org
SUMMARY:Route 78 & Adventure 910 Confirmation (7th-10 grade) - early session
DESCRIPTION:
URL:https://explorepeace.org/event/route-78-adventure-910-confirmation-for-7th-10th-grades/2025-02-26/
CATEGORIES:Youth
END:VEVENT
BEGIN:VEVENT
DTSTART;TZID=America/Chicago:20250226T070000
DTEND;TZID=America/Chicago:20250226T153000
DTSTAMP:20260423T065233
CREATED:20250109T231027Z
LAST-MODIFIED:20250528T191240Z
UID:10001423-1740553200-1740583800@explorepeace.org
SUMMARY:Preschool & 4K
DESCRIPTION:
URL:https://explorepeace.org/event/preschool-4k-22/2025-02-26/
CATEGORIES:Preschool
END:VEVENT
BEGIN:VEVENT
DTSTART;TZID=America/Chicago:20250225T070000
DTEND;TZID=America/Chicago:20250225T153000
DTSTAMP:20260423T065233
CREATED:20250109T230912Z
LAST-MODIFIED:20250109T230912Z
UID:10001402-1740466800-1740497400@explorepeace.org
SUMMARY:Preschool & 4K
DESCRIPTION:
URL:https://explorepeace.org/event/preschool-4k-21/2025-02-25/
CATEGORIES:Preschool
END:VEVENT
BEGIN:VEVENT
DTSTART;TZID=America/Chicago:20250224T070000
DTEND;TZID=America/Chicago:20250224T153000
DTSTAMP:20260423T065233
CREATED:20250109T230736Z
LAST-MODIFIED:20250109T230736Z
UID:10001384-1740380400-1740411000@explorepeace.org
SUMMARY:Preschool & 4K
DESCRIPTION:
URL:https://explorepeace.org/event/preschool-4k-20/2025-02-24/
CATEGORIES:Preschool
END:VEVENT
BEGIN:VEVENT
DTSTART;TZID=America/Chicago:20250223T180000
DTEND;TZID=America/Chicago:20250223T190000
DTSTAMP:20260423T065233
CREATED:20250206T192712Z
LAST-MODIFIED:20250206T192713Z
UID:10001645-1740333600-1740337200@explorepeace.org
SUMMARY:Radical Ringers (handbells for 7th-12th graders)
DESCRIPTION:Jan Rutkowski is the Radical Ringers Director.  Meet in the Music Room on Sunday evenings.
URL:https://explorepeace.org/event/radical-ringers-handbells-for-7th-12th-graders-2/2025-02-23/
CATEGORIES:Music,Youth
END:VEVENT
BEGIN:VEVENT
DTSTART;TZID=America/Chicago:20250223T100000
DTEND;TZID=America/Chicago:20250223T110000
DTSTAMP:20260423T065233
CREATED:20250206T193032Z
LAST-MODIFIED:20250206T193052Z
UID:10001698-1740304800-1740308400@explorepeace.org
SUMMARY:Peace Choir (rehearsing in the Music Room)
DESCRIPTION:
URL:https://explorepeace.org/event/peace-choir-rehearsing-in-the-music-room/2025-02-23/
CATEGORIES:Music
END:VEVENT
BEGIN:VEVENT
DTSTART;TZID=America/Chicago:20250223T100000
DTEND;TZID=America/Chicago:20250223T110000
DTSTAMP:20260423T065233
CREATED:20250109T230418Z
LAST-MODIFIED:20250109T230418Z
UID:10001335-1740304800-1740308400@explorepeace.org
SUMMARY:Coffee\, Donuts & Fellowship
DESCRIPTION:
URL:https://explorepeace.org/event/coffee-donuts-fellowship/2025-02-23/
CATEGORIES:Meetings/Gatherings
END:VEVENT
END:VCALENDAR