BEGIN:VCALENDAR
VERSION:2.0
PRODID:-//Peace Lutheran Church | Experience Christ. Explore Peace. - ECPv6.15.20//NONSGML v1.0//EN
CALSCALE:GREGORIAN
METHOD:PUBLISH
X-WR-CALNAME:Peace Lutheran Church | Experience Christ. Explore Peace.
X-ORIGINAL-URL:https://explorepeace.org
X-WR-CALDESC:Events for Peace Lutheran Church | Experience Christ. Explore Peace.
REFRESH-INTERVAL;VALUE=DURATION:PT1H
X-Robots-Tag:noindex
X-PUBLISHED-TTL:PT1H
BEGIN:VTIMEZONE
TZID:America/Chicago
BEGIN:DAYLIGHT
TZOFFSETFROM:-0600
TZOFFSETTO:-0500
TZNAME:CDT
DTSTART:20240310T080000
END:DAYLIGHT
BEGIN:STANDARD
TZOFFSETFROM:-0500
TZOFFSETTO:-0600
TZNAME:CST
DTSTART:20241103T070000
END:STANDARD
BEGIN:DAYLIGHT
TZOFFSETFROM:-0600
TZOFFSETTO:-0500
TZNAME:CDT
DTSTART:20250309T080000
END:DAYLIGHT
BEGIN:STANDARD
TZOFFSETFROM:-0500
TZOFFSETTO:-0600
TZNAME:CST
DTSTART:20251102T070000
END:STANDARD
BEGIN:DAYLIGHT
TZOFFSETFROM:-0600
TZOFFSETTO:-0500
TZNAME:CDT
DTSTART:20260308T080000
END:DAYLIGHT
BEGIN:STANDARD
TZOFFSETFROM:-0500
TZOFFSETTO:-0600
TZNAME:CST
DTSTART:20261101T070000
END:STANDARD
END:VTIMEZONE
BEGIN:VEVENT
DTSTART;TZID=America/Chicago:20250508T090000
DTEND;TZID=America/Chicago:20250508T100000
DTSTAMP:20260421T112451
CREATED:20250113T155626Z
LAST-MODIFIED:20250113T155626Z
UID:10001670-1746694800-1746698400@explorepeace.org
SUMMARY:Coffee and Chocolate with Pastor Doug
DESCRIPTION:Bible Study … with Coffee and Chocolate … meeting in the Fireside Room.
URL:https://explorepeace.org/event/coffee-and-chocolate-with-pastor-doug/2025-05-08/
CATEGORIES:Meetings/Gatherings
END:VEVENT
BEGIN:VEVENT
DTSTART;TZID=America/Chicago:20250508T070000
DTEND;TZID=America/Chicago:20250508T153000
DTSTAMP:20260421T112451
CREATED:20250109T231132Z
LAST-MODIFIED:20250109T231132Z
UID:10001505-1746687600-1746718200@explorepeace.org
SUMMARY:Preschool & 4K
DESCRIPTION:
URL:https://explorepeace.org/event/preschool-4k-23/2025-05-08/
CATEGORIES:Preschool
END:VEVENT
BEGIN:VEVENT
DTSTART;TZID=America/Chicago:20250507T070000
DTEND;TZID=America/Chicago:20250507T153000
DTSTAMP:20260421T112451
CREATED:20250109T231027Z
LAST-MODIFIED:20250528T191240Z
UID:10001432-1746601200-1746631800@explorepeace.org
SUMMARY:Preschool & 4K
DESCRIPTION:
URL:https://explorepeace.org/event/preschool-4k-22/2025-05-07/
CATEGORIES:Preschool
END:VEVENT
BEGIN:VEVENT
DTSTART;TZID=America/Chicago:20250506T070000
DTEND;TZID=America/Chicago:20250506T153000
DTSTAMP:20260421T112451
CREATED:20250109T230912Z
LAST-MODIFIED:20250109T230912Z
UID:10001411-1746514800-1746545400@explorepeace.org
SUMMARY:Preschool & 4K
DESCRIPTION:
URL:https://explorepeace.org/event/preschool-4k-21/2025-05-06/
CATEGORIES:Preschool
END:VEVENT
BEGIN:VEVENT
DTSTART;TZID=America/Chicago:20250505T070000
DTEND;TZID=America/Chicago:20250505T153000
DTSTAMP:20260421T112451
CREATED:20250109T230736Z
LAST-MODIFIED:20250109T230736Z
UID:10001392-1746428400-1746459000@explorepeace.org
SUMMARY:Preschool & 4K
DESCRIPTION:
URL:https://explorepeace.org/event/preschool-4k-20/2025-05-05/
CATEGORIES:Preschool
END:VEVENT
BEGIN:VEVENT
DTSTART;TZID=America/Chicago:20250504T180000
DTEND;TZID=America/Chicago:20250504T190000
DTSTAMP:20260421T112451
CREATED:20250206T192712Z
LAST-MODIFIED:20250206T192713Z
UID:10001651-1746381600-1746385200@explorepeace.org
SUMMARY:Radical Ringers (handbells for 7th-12th graders)
DESCRIPTION:Jan Rutkowski is the Radical Ringers Director.  Meet in the Music Room on Sunday evenings.
URL:https://explorepeace.org/event/radical-ringers-handbells-for-7th-12th-graders-2/2025-05-04/
CATEGORIES:Music,Youth
END:VEVENT
BEGIN:VEVENT
DTSTART;TZID=America/Chicago:20250504T100000
DTEND;TZID=America/Chicago:20250504T110000
DTSTAMP:20260421T112451
CREATED:20250206T193032Z
LAST-MODIFIED:20250206T193052Z
UID:10001707-1746352800-1746356400@explorepeace.org
SUMMARY:Peace Choir (rehearsing in the Music Room)
DESCRIPTION:
URL:https://explorepeace.org/event/peace-choir-rehearsing-in-the-music-room/2025-05-04/
CATEGORIES:Music
END:VEVENT
BEGIN:VEVENT
DTSTART;TZID=America/Chicago:20250504T100000
DTEND;TZID=America/Chicago:20250504T110000
DTSTAMP:20260421T112451
CREATED:20250109T230418Z
LAST-MODIFIED:20250109T230418Z
UID:10001344-1746352800-1746356400@explorepeace.org
SUMMARY:Coffee\, Donuts & Fellowship
DESCRIPTION:
URL:https://explorepeace.org/event/coffee-donuts-fellowship/2025-05-04/
CATEGORIES:Meetings/Gatherings
END:VEVENT
BEGIN:VEVENT
DTSTART;TZID=America/Chicago:20250504T090000
DTEND;TZID=America/Chicago:20250504T100000
DTSTAMP:20260421T112451
CREATED:20250109T225919Z
LAST-MODIFIED:20250109T225919Z
UID:10001280-1746349200-1746352800@explorepeace.org
SUMMARY:Sunday morning Worship
DESCRIPTION:
URL:https://explorepeace.org/event/sunday-morning-worship/2025-05-04/
CATEGORIES:Worship
END:VEVENT
BEGIN:VEVENT
DTSTART;TZID=America/Chicago:20250502T070000
DTEND;TZID=America/Chicago:20250502T143000
DTSTAMP:20260421T112451
CREATED:20250109T231327Z
LAST-MODIFIED:20250109T231327Z
UID:10001522-1746169200-1746196200@explorepeace.org
SUMMARY:Preschool & 4K
DESCRIPTION:
URL:https://explorepeace.org/event/preschool-4k-24/2025-05-02/
CATEGORIES:Preschool
END:VEVENT
BEGIN:VEVENT
DTSTART;TZID=America/Chicago:20250501T090000
DTEND;TZID=America/Chicago:20250501T100000
DTSTAMP:20260421T112451
CREATED:20250113T155626Z
LAST-MODIFIED:20250113T155626Z
UID:10001669-1746090000-1746093600@explorepeace.org
SUMMARY:Coffee and Chocolate with Pastor Doug
DESCRIPTION:Bible Study … with Coffee and Chocolate … meeting in the Fireside Room.
URL:https://explorepeace.org/event/coffee-and-chocolate-with-pastor-doug/2025-05-01/
CATEGORIES:Meetings/Gatherings
END:VEVENT
BEGIN:VEVENT
DTSTART;TZID=America/Chicago:20250501T070000
DTEND;TZID=America/Chicago:20250501T153000
DTSTAMP:20260421T112451
CREATED:20250109T231132Z
LAST-MODIFIED:20250109T231132Z
UID:10001504-1746082800-1746113400@explorepeace.org
SUMMARY:Preschool & 4K
DESCRIPTION:
URL:https://explorepeace.org/event/preschool-4k-23/2025-05-01/
CATEGORIES:Preschool
END:VEVENT
BEGIN:VEVENT
DTSTART;TZID=America/Chicago:20250430T181500
DTEND;TZID=America/Chicago:20250430T190000
DTSTAMP:20260421T112451
CREATED:20250113T152346Z
LAST-MODIFIED:20250206T194606Z
UID:10001611-1746036900-1746039600@explorepeace.org
SUMMARY:Wednesday Worship with Holy Communion
DESCRIPTION:
URL:https://explorepeace.org/event/wednesday-worship-with-holy-communion/2025-04-30/
CATEGORIES:Worship
END:VEVENT
BEGIN:VEVENT
DTSTART;TZID=America/Chicago:20250430T181500
DTEND;TZID=America/Chicago:20250430T190000
DTSTAMP:20260421T112451
CREATED:20250113T150927Z
LAST-MODIFIED:20250113T150927Z
UID:10001558-1746036900-1746039600@explorepeace.org
SUMMARY:KiX (Kids in Christ) for ages 3 through 4th grade (meet in Friendship Room)
DESCRIPTION:
URL:https://explorepeace.org/event/kix-kids-in-christ-for-ages-3-through-4th-grade-meet-in-friendship-room/2025-04-30/
CATEGORIES:Youth
END:VEVENT
BEGIN:VEVENT
DTSTART;TZID=America/Chicago:20250430T171500
DTEND;TZID=America/Chicago:20250430T181500
DTSTAMP:20260421T112451
CREATED:20250113T153755Z
LAST-MODIFIED:20250113T153755Z
UID:10001625-1746033300-1746036900@explorepeace.org
SUMMARY:Common Table Cafe
DESCRIPTION:Meal and conversation in the Gallery. Everyone is welcome!
URL:https://explorepeace.org/event/common-table-cafe-3/2025-04-30/
CATEGORIES:Meetings/Gatherings
END:VEVENT
BEGIN:VEVENT
DTSTART;TZID=America/Chicago:20250430T171500
DTEND;TZID=America/Chicago:20250430T180000
DTSTAMP:20260421T112451
CREATED:20250113T151849Z
LAST-MODIFIED:20250113T153219Z
UID:10001597-1746033300-1746036000@explorepeace.org
SUMMARY:Chapel Chimes (music group for 4th - 6th graders)
DESCRIPTION:Sherry Johnson is Chapel Chimes Director.
URL:https://explorepeace.org/event/chapel-chimes-music-group-for-4th-6th-graders/2025-04-30/
CATEGORIES:Music,Youth
END:VEVENT
BEGIN:VEVENT
DTSTART;TZID=America/Chicago:20250430T170000
DTEND;TZID=America/Chicago:20250430T173000
DTSTAMP:20260421T112451
CREATED:20250113T151416Z
LAST-MODIFIED:20250113T153030Z
UID:10001571-1746032400-1746034200@explorepeace.org
SUMMARY:Joyful Noise (ages 4 - 1st grade\, give or take a year)
DESCRIPTION:Children will learn basic vocal skills and have fun singing songs\, learning actions and playing games that will encourage a love for music. Interactive and lively songs are performed at occasionally scheduled Sunday and seasonal worship services throughout the school year.  Rehearsals will be Wednesdays from 5:00 to 5:30PM during the school year.  Joyful Noise director is Megan Tatzel.
URL:https://explorepeace.org/event/joyful-noise-ages-4-1st-grade-give-or-take-a-year/2025-04-30/
CATEGORIES:Music,Youth
END:VEVENT
BEGIN:VEVENT
DTSTART;TZID=America/Chicago:20250430T161500
DTEND;TZID=America/Chicago:20250430T171500
DTSTAMP:20260421T112451
CREATED:20250113T151640Z
LAST-MODIFIED:20250113T151640Z
UID:10001584-1746029700-1746033300@explorepeace.org
SUMMARY:Route 56 (confirmation for 5th and 6th graders)
DESCRIPTION:
URL:https://explorepeace.org/event/route-56-confirmation-for-5th-and-6th-graders/2025-04-30/
CATEGORIES:Youth
END:VEVENT
BEGIN:VEVENT
DTSTART;TZID=America/Chicago:20250430T160000
DTEND;TZID=America/Chicago:20250430T170000
DTSTAMP:20260421T112451
CREATED:20250113T154342Z
LAST-MODIFIED:20250116T182657Z
UID:10001638-1746028800-1746032400@explorepeace.org
SUMMARY:Route 78 & Adventure 910 Confirmation (7th-10 grade) - early session
DESCRIPTION:
URL:https://explorepeace.org/event/route-78-adventure-910-confirmation-for-7th-10th-grades/2025-04-30/
CATEGORIES:Youth
END:VEVENT
BEGIN:VEVENT
DTSTART;TZID=America/Chicago:20250430T070000
DTEND;TZID=America/Chicago:20250430T153000
DTSTAMP:20260421T112451
CREATED:20250109T231027Z
LAST-MODIFIED:20250528T191240Z
UID:10001431-1745996400-1746027000@explorepeace.org
SUMMARY:Preschool & 4K
DESCRIPTION:
URL:https://explorepeace.org/event/preschool-4k-22/2025-04-30/
CATEGORIES:Preschool
END:VEVENT
BEGIN:VEVENT
DTSTART;TZID=America/Chicago:20250429T070000
DTEND;TZID=America/Chicago:20250429T153000
DTSTAMP:20260421T112451
CREATED:20250109T230912Z
LAST-MODIFIED:20250109T230912Z
UID:10001410-1745910000-1745940600@explorepeace.org
SUMMARY:Preschool & 4K
DESCRIPTION:
URL:https://explorepeace.org/event/preschool-4k-21/2025-04-29/
CATEGORIES:Preschool
END:VEVENT
BEGIN:VEVENT
DTSTART;TZID=America/Chicago:20250428T070000
DTEND;TZID=America/Chicago:20250428T153000
DTSTAMP:20260421T112451
CREATED:20250109T230736Z
LAST-MODIFIED:20250109T230736Z
UID:10001391-1745823600-1745854200@explorepeace.org
SUMMARY:Preschool & 4K
DESCRIPTION:
URL:https://explorepeace.org/event/preschool-4k-20/2025-04-28/
CATEGORIES:Preschool
END:VEVENT
BEGIN:VEVENT
DTSTART;TZID=America/Chicago:20250427T180000
DTEND;TZID=America/Chicago:20250427T190000
DTSTAMP:20260421T112451
CREATED:20250206T192712Z
LAST-MODIFIED:20250206T192713Z
UID:10001650-1745776800-1745780400@explorepeace.org
SUMMARY:Radical Ringers (handbells for 7th-12th graders)
DESCRIPTION:Jan Rutkowski is the Radical Ringers Director.  Meet in the Music Room on Sunday evenings.
URL:https://explorepeace.org/event/radical-ringers-handbells-for-7th-12th-graders-2/2025-04-27/
CATEGORIES:Music,Youth
END:VEVENT
BEGIN:VEVENT
DTSTART;TZID=America/Chicago:20250427T100000
DTEND;TZID=America/Chicago:20250427T110000
DTSTAMP:20260421T112451
CREATED:20250206T193032Z
LAST-MODIFIED:20250206T193052Z
UID:10001706-1745748000-1745751600@explorepeace.org
SUMMARY:Peace Choir (rehearsing in the Music Room)
DESCRIPTION:
URL:https://explorepeace.org/event/peace-choir-rehearsing-in-the-music-room/2025-04-27/
CATEGORIES:Music
END:VEVENT
BEGIN:VEVENT
DTSTART;TZID=America/Chicago:20250427T100000
DTEND;TZID=America/Chicago:20250427T110000
DTSTAMP:20260421T112451
CREATED:20250109T230418Z
LAST-MODIFIED:20250109T230418Z
UID:10001343-1745748000-1745751600@explorepeace.org
SUMMARY:Coffee\, Donuts & Fellowship
DESCRIPTION:
URL:https://explorepeace.org/event/coffee-donuts-fellowship/2025-04-27/
CATEGORIES:Meetings/Gatherings
END:VEVENT
BEGIN:VEVENT
DTSTART;TZID=America/Chicago:20250427T090000
DTEND;TZID=America/Chicago:20250427T100000
DTSTAMP:20260421T112451
CREATED:20250109T225919Z
LAST-MODIFIED:20250109T225919Z
UID:10001279-1745744400-1745748000@explorepeace.org
SUMMARY:Sunday morning Worship
DESCRIPTION:
URL:https://explorepeace.org/event/sunday-morning-worship/2025-04-27/
CATEGORIES:Worship
END:VEVENT
BEGIN:VEVENT
DTSTART;TZID=America/Chicago:20250427T090000
DTEND;TZID=America/Chicago:20250427T094500
DTSTAMP:20260421T112451
CREATED:20250109T230208Z
LAST-MODIFIED:20250109T230208Z
UID:10001327-1745744400-1745747100@explorepeace.org
SUMMARY:KiX (Kids in Christ) for age 3 to 4th grade
DESCRIPTION:
URL:https://explorepeace.org/event/kix-kids-in-christ-for-age-3-to-4th-grade-2/2025-04-27/
CATEGORIES:Youth
END:VEVENT
BEGIN:VEVENT
DTSTART;TZID=America/Chicago:20250425T070000
DTEND;TZID=America/Chicago:20250425T143000
DTSTAMP:20260421T112451
CREATED:20250109T231327Z
LAST-MODIFIED:20250109T231327Z
UID:10001521-1745564400-1745591400@explorepeace.org
SUMMARY:Preschool & 4K
DESCRIPTION:
URL:https://explorepeace.org/event/preschool-4k-24/2025-04-25/
CATEGORIES:Preschool
END:VEVENT
BEGIN:VEVENT
DTSTART;TZID=America/Chicago:20250424T090000
DTEND;TZID=America/Chicago:20250424T100000
DTSTAMP:20260421T112451
CREATED:20250113T155626Z
LAST-MODIFIED:20250113T155626Z
UID:10001668-1745485200-1745488800@explorepeace.org
SUMMARY:Coffee and Chocolate with Pastor Doug
DESCRIPTION:Bible Study … with Coffee and Chocolate … meeting in the Fireside Room.
URL:https://explorepeace.org/event/coffee-and-chocolate-with-pastor-doug/2025-04-24/
CATEGORIES:Meetings/Gatherings
END:VEVENT
BEGIN:VEVENT
DTSTART;TZID=America/Chicago:20250424T070000
DTEND;TZID=America/Chicago:20250424T153000
DTSTAMP:20260421T112451
CREATED:20250109T231132Z
LAST-MODIFIED:20250109T231132Z
UID:10001503-1745478000-1745508600@explorepeace.org
SUMMARY:Preschool & 4K
DESCRIPTION:
URL:https://explorepeace.org/event/preschool-4k-23/2025-04-24/
CATEGORIES:Preschool
END:VEVENT
END:VCALENDAR