BEGIN:VCALENDAR
VERSION:2.0
PRODID:-//Peace Lutheran Church | Experience Christ. Explore Peace. - ECPv6.15.20//NONSGML v1.0//EN
CALSCALE:GREGORIAN
METHOD:PUBLISH
X-WR-CALNAME:Peace Lutheran Church | Experience Christ. Explore Peace.
X-ORIGINAL-URL:https://explorepeace.org
X-WR-CALDESC:Events for Peace Lutheran Church | Experience Christ. Explore Peace.
REFRESH-INTERVAL;VALUE=DURATION:PT1H
X-Robots-Tag:noindex
X-PUBLISHED-TTL:PT1H
BEGIN:VTIMEZONE
TZID:America/Chicago
BEGIN:DAYLIGHT
TZOFFSETFROM:-0600
TZOFFSETTO:-0500
TZNAME:CDT
DTSTART:20240310T080000
END:DAYLIGHT
BEGIN:STANDARD
TZOFFSETFROM:-0500
TZOFFSETTO:-0600
TZNAME:CST
DTSTART:20241103T070000
END:STANDARD
BEGIN:DAYLIGHT
TZOFFSETFROM:-0600
TZOFFSETTO:-0500
TZNAME:CDT
DTSTART:20250309T080000
END:DAYLIGHT
BEGIN:STANDARD
TZOFFSETFROM:-0500
TZOFFSETTO:-0600
TZNAME:CST
DTSTART:20251102T070000
END:STANDARD
BEGIN:DAYLIGHT
TZOFFSETFROM:-0600
TZOFFSETTO:-0500
TZNAME:CDT
DTSTART:20260308T080000
END:DAYLIGHT
BEGIN:STANDARD
TZOFFSETFROM:-0500
TZOFFSETTO:-0600
TZNAME:CST
DTSTART:20261101T070000
END:STANDARD
END:VTIMEZONE
BEGIN:VEVENT
DTSTART;TZID=America/Chicago:20250606T070000
DTEND;TZID=America/Chicago:20250606T143000
DTSTAMP:20260421T061905
CREATED:20250109T231327Z
LAST-MODIFIED:20250109T231327Z
UID:10001527-1749193200-1749220200@explorepeace.org
SUMMARY:Preschool & 4K
DESCRIPTION:
URL:https://explorepeace.org/event/preschool-4k-24/2025-06-06/
CATEGORIES:Preschool
END:VEVENT
BEGIN:VEVENT
DTSTART;TZID=America/Chicago:20250605T090000
DTEND;TZID=America/Chicago:20250605T100000
DTSTAMP:20260421T061905
CREATED:20250113T155626Z
LAST-MODIFIED:20250113T155626Z
UID:10001674-1749114000-1749117600@explorepeace.org
SUMMARY:Coffee and Chocolate with Pastor Doug
DESCRIPTION:Bible Study … with Coffee and Chocolate … meeting in the Fireside Room.
URL:https://explorepeace.org/event/coffee-and-chocolate-with-pastor-doug/2025-06-05/
CATEGORIES:Meetings/Gatherings
END:VEVENT
BEGIN:VEVENT
DTSTART;TZID=America/Chicago:20250605T070000
DTEND;TZID=America/Chicago:20250605T153000
DTSTAMP:20260421T061905
CREATED:20250109T231132Z
LAST-MODIFIED:20250109T231132Z
UID:10001509-1749106800-1749137400@explorepeace.org
SUMMARY:Preschool & 4K
DESCRIPTION:
URL:https://explorepeace.org/event/preschool-4k-23/2025-06-05/
CATEGORIES:Preschool
END:VEVENT
BEGIN:VEVENT
DTSTART;TZID=America/Chicago:20250604T070000
DTEND;TZID=America/Chicago:20250604T153000
DTSTAMP:20260421T061905
CREATED:20250528T191648Z
LAST-MODIFIED:20250528T191648Z
UID:10001722-1749020400-1749051000@explorepeace.org
SUMMARY:Preschool & 4K
DESCRIPTION:
URL:https://explorepeace.org/event/preschool-4k-25/
CATEGORIES:Preschool
END:VEVENT
BEGIN:VEVENT
DTSTART;TZID=America/Chicago:20250603T070000
DTEND;TZID=America/Chicago:20250603T153000
DTSTAMP:20260421T061905
CREATED:20250109T230912Z
LAST-MODIFIED:20250109T230912Z
UID:10001415-1748934000-1748964600@explorepeace.org
SUMMARY:Preschool & 4K
DESCRIPTION:
URL:https://explorepeace.org/event/preschool-4k-21/2025-06-03/
CATEGORIES:Preschool
END:VEVENT
BEGIN:VEVENT
DTSTART;TZID=America/Chicago:20250602T070000
DTEND;TZID=America/Chicago:20250602T153000
DTSTAMP:20260421T061905
CREATED:20250109T230736Z
LAST-MODIFIED:20250109T230736Z
UID:10001394-1748847600-1748878200@explorepeace.org
SUMMARY:Preschool & 4K
DESCRIPTION:
URL:https://explorepeace.org/event/preschool-4k-20/2025-06-02/
CATEGORIES:Preschool
END:VEVENT
BEGIN:VEVENT
DTSTART;TZID=America/Chicago:20250601T100000
DTEND;TZID=America/Chicago:20250601T110000
DTSTAMP:20260421T061905
CREATED:20250109T230418Z
LAST-MODIFIED:20250109T230418Z
UID:10001348-1748772000-1748775600@explorepeace.org
SUMMARY:Coffee\, Donuts & Fellowship
DESCRIPTION:
URL:https://explorepeace.org/event/coffee-donuts-fellowship/2025-06-01/
CATEGORIES:Meetings/Gatherings
END:VEVENT
BEGIN:VEVENT
DTSTART;TZID=America/Chicago:20250601T090000
DTEND;TZID=America/Chicago:20250601T100000
DTSTAMP:20260421T061905
CREATED:20250109T225919Z
LAST-MODIFIED:20250109T225919Z
UID:10001284-1748768400-1748772000@explorepeace.org
SUMMARY:Sunday morning Worship
DESCRIPTION:
URL:https://explorepeace.org/event/sunday-morning-worship/2025-06-01/
CATEGORIES:Worship
END:VEVENT
BEGIN:VEVENT
DTSTART;TZID=America/Chicago:20250530T070000
DTEND;TZID=America/Chicago:20250530T143000
DTSTAMP:20260421T061905
CREATED:20250109T231327Z
LAST-MODIFIED:20250109T231327Z
UID:10001526-1748588400-1748615400@explorepeace.org
SUMMARY:Preschool & 4K
DESCRIPTION:
URL:https://explorepeace.org/event/preschool-4k-24/2025-05-30/
CATEGORIES:Preschool
END:VEVENT
BEGIN:VEVENT
DTSTART;TZID=America/Chicago:20250529T090000
DTEND;TZID=America/Chicago:20250529T100000
DTSTAMP:20260421T061905
CREATED:20250113T155626Z
LAST-MODIFIED:20250113T155626Z
UID:10001673-1748509200-1748512800@explorepeace.org
SUMMARY:Coffee and Chocolate with Pastor Doug
DESCRIPTION:Bible Study … with Coffee and Chocolate … meeting in the Fireside Room.
URL:https://explorepeace.org/event/coffee-and-chocolate-with-pastor-doug/2025-05-29/
CATEGORIES:Meetings/Gatherings
END:VEVENT
BEGIN:VEVENT
DTSTART;TZID=America/Chicago:20250529T070000
DTEND;TZID=America/Chicago:20250529T153000
DTSTAMP:20260421T061905
CREATED:20250109T231132Z
LAST-MODIFIED:20250109T231132Z
UID:10001508-1748502000-1748532600@explorepeace.org
SUMMARY:Preschool & 4K
DESCRIPTION:
URL:https://explorepeace.org/event/preschool-4k-23/2025-05-29/
CATEGORIES:Preschool
END:VEVENT
BEGIN:VEVENT
DTSTART;TZID=America/Chicago:20250528T070000
DTEND;TZID=America/Chicago:20250528T153000
DTSTAMP:20260421T061905
CREATED:20250109T231027Z
LAST-MODIFIED:20250528T191240Z
UID:10001435-1748415600-1748446200@explorepeace.org
SUMMARY:Preschool & 4K
DESCRIPTION:
URL:https://explorepeace.org/event/preschool-4k-22/2025-05-28/
CATEGORIES:Preschool
END:VEVENT
BEGIN:VEVENT
DTSTART;TZID=America/Chicago:20250527T070000
DTEND;TZID=America/Chicago:20250527T153000
DTSTAMP:20260421T061905
CREATED:20250109T230912Z
LAST-MODIFIED:20250109T230912Z
UID:10001414-1748329200-1748359800@explorepeace.org
SUMMARY:Preschool & 4K
DESCRIPTION:
URL:https://explorepeace.org/event/preschool-4k-21/2025-05-27/
CATEGORIES:Preschool
END:VEVENT
BEGIN:VEVENT
DTSTART;VALUE=DATE:20250526
DTEND;VALUE=DATE:20250527
DTSTAMP:20260421T061905
CREATED:20250109T233435Z
LAST-MODIFIED:20250109T233435Z
UID:10001540-1748217600-1748303999@explorepeace.org
SUMMARY:Memorial Day
DESCRIPTION:
URL:https://explorepeace.org/event/memorial-day/
END:VEVENT
BEGIN:VEVENT
DTSTART;TZID=America/Chicago:20250525T100000
DTEND;TZID=America/Chicago:20250525T110000
DTSTAMP:20260421T061905
CREATED:20250109T230418Z
LAST-MODIFIED:20250109T230418Z
UID:10001347-1748167200-1748170800@explorepeace.org
SUMMARY:Coffee\, Donuts & Fellowship
DESCRIPTION:
URL:https://explorepeace.org/event/coffee-donuts-fellowship/2025-05-25/
CATEGORIES:Meetings/Gatherings
END:VEVENT
BEGIN:VEVENT
DTSTART;TZID=America/Chicago:20250525T090000
DTEND;TZID=America/Chicago:20250525T100000
DTSTAMP:20260421T061905
CREATED:20250109T225919Z
LAST-MODIFIED:20250109T225919Z
UID:10001283-1748163600-1748167200@explorepeace.org
SUMMARY:Sunday morning Worship
DESCRIPTION:
URL:https://explorepeace.org/event/sunday-morning-worship/2025-05-25/
CATEGORIES:Worship
END:VEVENT
BEGIN:VEVENT
DTSTART;TZID=America/Chicago:20250523T070000
DTEND;TZID=America/Chicago:20250523T143000
DTSTAMP:20260421T061905
CREATED:20250109T231327Z
LAST-MODIFIED:20250109T231327Z
UID:10001525-1747983600-1748010600@explorepeace.org
SUMMARY:Preschool & 4K
DESCRIPTION:
URL:https://explorepeace.org/event/preschool-4k-24/2025-05-23/
CATEGORIES:Preschool
END:VEVENT
BEGIN:VEVENT
DTSTART;TZID=America/Chicago:20250522T090000
DTEND;TZID=America/Chicago:20250522T100000
DTSTAMP:20260421T061905
CREATED:20250113T155626Z
LAST-MODIFIED:20250113T155626Z
UID:10001672-1747904400-1747908000@explorepeace.org
SUMMARY:Coffee and Chocolate with Pastor Doug
DESCRIPTION:Bible Study … with Coffee and Chocolate … meeting in the Fireside Room.
URL:https://explorepeace.org/event/coffee-and-chocolate-with-pastor-doug/2025-05-22/
CATEGORIES:Meetings/Gatherings
END:VEVENT
BEGIN:VEVENT
DTSTART;TZID=America/Chicago:20250522T070000
DTEND;TZID=America/Chicago:20250522T153000
DTSTAMP:20260421T061905
CREATED:20250109T231132Z
LAST-MODIFIED:20250109T231132Z
UID:10001507-1747897200-1747927800@explorepeace.org
SUMMARY:Preschool & 4K
DESCRIPTION:
URL:https://explorepeace.org/event/preschool-4k-23/2025-05-22/
CATEGORIES:Preschool
END:VEVENT
BEGIN:VEVENT
DTSTART;TZID=America/Chicago:20250521T070000
DTEND;TZID=America/Chicago:20250521T153000
DTSTAMP:20260421T061905
CREATED:20250109T231027Z
LAST-MODIFIED:20250528T191240Z
UID:10001434-1747810800-1747841400@explorepeace.org
SUMMARY:Preschool & 4K
DESCRIPTION:
URL:https://explorepeace.org/event/preschool-4k-22/2025-05-21/
CATEGORIES:Preschool
END:VEVENT
BEGIN:VEVENT
DTSTART;TZID=America/Chicago:20250520T070000
DTEND;TZID=America/Chicago:20250520T153000
DTSTAMP:20260421T061905
CREATED:20250109T230912Z
LAST-MODIFIED:20250109T230912Z
UID:10001413-1747724400-1747755000@explorepeace.org
SUMMARY:Preschool & 4K
DESCRIPTION:
URL:https://explorepeace.org/event/preschool-4k-21/2025-05-20/
CATEGORIES:Preschool
END:VEVENT
BEGIN:VEVENT
DTSTART;TZID=America/Chicago:20250519T070000
DTEND;TZID=America/Chicago:20250519T153000
DTSTAMP:20260421T061905
CREATED:20250109T233345Z
LAST-MODIFIED:20250109T233345Z
UID:10001539-1747638000-1747668600@explorepeace.org
SUMMARY:No Preschool\, No 4K
DESCRIPTION:
URL:https://explorepeace.org/event/no-preschool-no-4k-7/
CATEGORIES:Preschool
END:VEVENT
BEGIN:VEVENT
DTSTART;TZID=America/Chicago:20250518T100000
DTEND;TZID=America/Chicago:20250518T110000
DTSTAMP:20260421T061905
CREATED:20250206T193032Z
LAST-MODIFIED:20250206T193052Z
UID:10001709-1747562400-1747566000@explorepeace.org
SUMMARY:Peace Choir (rehearsing in the Music Room)
DESCRIPTION:
URL:https://explorepeace.org/event/peace-choir-rehearsing-in-the-music-room/2025-05-18/
CATEGORIES:Music
END:VEVENT
BEGIN:VEVENT
DTSTART;TZID=America/Chicago:20250518T100000
DTEND;TZID=America/Chicago:20250518T110000
DTSTAMP:20260421T061905
CREATED:20250109T230418Z
LAST-MODIFIED:20250109T230418Z
UID:10001346-1747562400-1747566000@explorepeace.org
SUMMARY:Coffee\, Donuts & Fellowship
DESCRIPTION:
URL:https://explorepeace.org/event/coffee-donuts-fellowship/2025-05-18/
CATEGORIES:Meetings/Gatherings
END:VEVENT
BEGIN:VEVENT
DTSTART;TZID=America/Chicago:20250518T090000
DTEND;TZID=America/Chicago:20250518T100000
DTSTAMP:20260421T061905
CREATED:20250109T225919Z
LAST-MODIFIED:20250109T225919Z
UID:10001282-1747558800-1747562400@explorepeace.org
SUMMARY:Sunday morning Worship
DESCRIPTION:
URL:https://explorepeace.org/event/sunday-morning-worship/2025-05-18/
CATEGORIES:Worship
END:VEVENT
BEGIN:VEVENT
DTSTART;TZID=America/Chicago:20250516T070000
DTEND;TZID=America/Chicago:20250516T143000
DTSTAMP:20260421T061905
CREATED:20250109T231327Z
LAST-MODIFIED:20250109T231327Z
UID:10001524-1747378800-1747405800@explorepeace.org
SUMMARY:Preschool & 4K
DESCRIPTION:
URL:https://explorepeace.org/event/preschool-4k-24/2025-05-16/
CATEGORIES:Preschool
END:VEVENT
BEGIN:VEVENT
DTSTART;TZID=America/Chicago:20250515T090000
DTEND;TZID=America/Chicago:20250515T100000
DTSTAMP:20260421T061905
CREATED:20250113T155626Z
LAST-MODIFIED:20250113T155626Z
UID:10001671-1747299600-1747303200@explorepeace.org
SUMMARY:Coffee and Chocolate with Pastor Doug
DESCRIPTION:Bible Study … with Coffee and Chocolate … meeting in the Fireside Room.
URL:https://explorepeace.org/event/coffee-and-chocolate-with-pastor-doug/2025-05-15/
CATEGORIES:Meetings/Gatherings
END:VEVENT
BEGIN:VEVENT
DTSTART;TZID=America/Chicago:20250515T070000
DTEND;TZID=America/Chicago:20250515T153000
DTSTAMP:20260421T061905
CREATED:20250109T231132Z
LAST-MODIFIED:20250109T231132Z
UID:10001506-1747292400-1747323000@explorepeace.org
SUMMARY:Preschool & 4K
DESCRIPTION:
URL:https://explorepeace.org/event/preschool-4k-23/2025-05-15/
CATEGORIES:Preschool
END:VEVENT
BEGIN:VEVENT
DTSTART;TZID=America/Chicago:20250514T070000
DTEND;TZID=America/Chicago:20250514T153000
DTSTAMP:20260421T061905
CREATED:20250109T231027Z
LAST-MODIFIED:20250528T191240Z
UID:10001433-1747206000-1747236600@explorepeace.org
SUMMARY:Preschool & 4K
DESCRIPTION:
URL:https://explorepeace.org/event/preschool-4k-22/2025-05-14/
CATEGORIES:Preschool
END:VEVENT
BEGIN:VEVENT
DTSTART;TZID=America/Chicago:20250513T070000
DTEND;TZID=America/Chicago:20250513T153000
DTSTAMP:20260421T061905
CREATED:20250109T230912Z
LAST-MODIFIED:20250109T230912Z
UID:10001412-1747119600-1747150200@explorepeace.org
SUMMARY:Preschool & 4K
DESCRIPTION:
URL:https://explorepeace.org/event/preschool-4k-21/2025-05-13/
CATEGORIES:Preschool
END:VEVENT
END:VCALENDAR