BEGIN:VCALENDAR
VERSION:2.0
PRODID:-//Peace Lutheran Church | Experience Christ. Explore Peace. - ECPv6.15.20//NONSGML v1.0//EN
CALSCALE:GREGORIAN
METHOD:PUBLISH
X-WR-CALNAME:Peace Lutheran Church | Experience Christ. Explore Peace.
X-ORIGINAL-URL:https://explorepeace.org
X-WR-CALDESC:Events for Peace Lutheran Church | Experience Christ. Explore Peace.
REFRESH-INTERVAL;VALUE=DURATION:PT1H
X-Robots-Tag:noindex
X-PUBLISHED-TTL:PT1H
BEGIN:VTIMEZONE
TZID:America/Chicago
BEGIN:DAYLIGHT
TZOFFSETFROM:-0600
TZOFFSETTO:-0500
TZNAME:CDT
DTSTART:20240310T080000
END:DAYLIGHT
BEGIN:STANDARD
TZOFFSETFROM:-0500
TZOFFSETTO:-0600
TZNAME:CST
DTSTART:20241103T070000
END:STANDARD
BEGIN:DAYLIGHT
TZOFFSETFROM:-0600
TZOFFSETTO:-0500
TZNAME:CDT
DTSTART:20250309T080000
END:DAYLIGHT
BEGIN:STANDARD
TZOFFSETFROM:-0500
TZOFFSETTO:-0600
TZNAME:CST
DTSTART:20251102T070000
END:STANDARD
BEGIN:DAYLIGHT
TZOFFSETFROM:-0600
TZOFFSETTO:-0500
TZNAME:CDT
DTSTART:20260308T080000
END:DAYLIGHT
BEGIN:STANDARD
TZOFFSETFROM:-0500
TZOFFSETTO:-0600
TZNAME:CST
DTSTART:20261101T070000
END:STANDARD
END:VTIMEZONE
BEGIN:VEVENT
DTSTART;TZID=America/Chicago:20250717T090000
DTEND;TZID=America/Chicago:20250717T100000
DTSTAMP:20260421T023549
CREATED:20250113T155626Z
LAST-MODIFIED:20250113T155626Z
UID:10001680-1752742800-1752746400@explorepeace.org
SUMMARY:Coffee and Chocolate with Pastor Doug
DESCRIPTION:Bible Study … with Coffee and Chocolate … meeting in the Fireside Room.
URL:https://explorepeace.org/event/coffee-and-chocolate-with-pastor-doug/2025-07-17/
CATEGORIES:Meetings/Gatherings
END:VEVENT
BEGIN:VEVENT
DTSTART;TZID=America/Chicago:20250716T090000
DTEND;TZID=America/Chicago:20250716T120000
DTSTAMP:20260421T023549
CREATED:20250709T171549Z
LAST-MODIFIED:20250709T171549Z
UID:10001733-1752656400-1752667200@explorepeace.org
SUMMARY:Church Office Summer Hours
DESCRIPTION:
URL:https://explorepeace.org/event/church-office-summer-hours/2025-07-16/
END:VEVENT
BEGIN:VEVENT
DTSTART;TZID=America/Chicago:20250715T090000
DTEND;TZID=America/Chicago:20250715T120000
DTSTAMP:20260421T023549
CREATED:20250709T171735Z
LAST-MODIFIED:20250709T171735Z
UID:10001748-1752570000-1752580800@explorepeace.org
SUMMARY:Church Office Summer Hours
DESCRIPTION:
URL:https://explorepeace.org/event/church-office-summer-hours-3/2025-07-15/
END:VEVENT
BEGIN:VEVENT
DTSTART;TZID=America/Chicago:20250715T090000
DTEND;TZID=America/Chicago:20250715T120000
DTSTAMP:20260421T023549
CREATED:20250528T192240Z
LAST-MODIFIED:20250528T192240Z
UID:10001723-1752570000-1752580800@explorepeace.org
SUMMARY:PLC Quilters (meeting in the Gallery)
DESCRIPTION:Quilting may not appear as a line item in the budget\, but it relies on many of the church’s funded resources—like the building\, heating and cooling\, and storage space. Thanks to your contributions\, this important ministry continues to thrive. Below is a note from Sue Hineline\, who leads our quilting group.\n     Peace Lutheran Church has been making quilts for people in need throughout the world for more than 10 years.  Quilters include church members as well as others from the Waunakee community.  We enjoy a friendly gathering with good conversation as we work.  The youth of Peace have also joined us about once a year to tie some of the quilts.\nMany years we have sent the finished quilts to Lutheran World Relief for distribution to wherever they are needed most.  Some have gone to India\, Mauritania\, Iraq\, Ukraine and Lebanon.  The last couple of years we have given them locally to Waunakee Neighborhood Connection clients during their winter coat distribution.\nMuch of our fabric originally came from the former Ben Franklin Store when it closed.  Other material comes from donations which we welcome. We would love to have more people join us.  We currently meet the third Tuesday of every month at Peace from 9 am to noon.  Come for all of it\, or for whatever works for you. No experience required!
URL:https://explorepeace.org/event/plc-quilters-meeting-in-the-gallery/2025-07-15/
CATEGORIES:Meetings/Gatherings
END:VEVENT
BEGIN:VEVENT
DTSTART;TZID=America/Chicago:20250713T100000
DTEND;TZID=America/Chicago:20250713T110000
DTSTAMP:20260421T023549
CREATED:20250109T230418Z
LAST-MODIFIED:20250109T230418Z
UID:10001354-1752400800-1752404400@explorepeace.org
SUMMARY:Coffee\, Donuts & Fellowship
DESCRIPTION:
URL:https://explorepeace.org/event/coffee-donuts-fellowship/2025-07-13/
CATEGORIES:Meetings/Gatherings
END:VEVENT
BEGIN:VEVENT
DTSTART;TZID=America/Chicago:20250713T090000
DTEND;TZID=America/Chicago:20250713T100000
DTSTAMP:20260421T023549
CREATED:20250109T225919Z
LAST-MODIFIED:20250109T225919Z
UID:10001290-1752397200-1752400800@explorepeace.org
SUMMARY:Sunday morning Worship
DESCRIPTION:
URL:https://explorepeace.org/event/sunday-morning-worship/2025-07-13/
CATEGORIES:Worship
END:VEVENT
BEGIN:VEVENT
DTSTART;TZID=America/Chicago:20250710T090000
DTEND;TZID=America/Chicago:20250710T120000
DTSTAMP:20260421T023549
CREATED:20250709T171652Z
LAST-MODIFIED:20250709T171652Z
UID:10001740-1752138000-1752148800@explorepeace.org
SUMMARY:Church Office Summer Hours
DESCRIPTION:
URL:https://explorepeace.org/event/church-office-summer-hours-2/2025-07-10/
END:VEVENT
BEGIN:VEVENT
DTSTART;TZID=America/Chicago:20250710T090000
DTEND;TZID=America/Chicago:20250710T100000
DTSTAMP:20260421T023549
CREATED:20250113T155626Z
LAST-MODIFIED:20250113T155626Z
UID:10001679-1752138000-1752141600@explorepeace.org
SUMMARY:Coffee and Chocolate with Pastor Doug
DESCRIPTION:Bible Study … with Coffee and Chocolate … meeting in the Fireside Room.
URL:https://explorepeace.org/event/coffee-and-chocolate-with-pastor-doug/2025-07-10/
CATEGORIES:Meetings/Gatherings
END:VEVENT
BEGIN:VEVENT
DTSTART;TZID=America/Chicago:20250709T090000
DTEND;TZID=America/Chicago:20250709T120000
DTSTAMP:20260421T023549
CREATED:20250709T171549Z
LAST-MODIFIED:20250709T171549Z
UID:10001732-1752051600-1752062400@explorepeace.org
SUMMARY:Church Office Summer Hours
DESCRIPTION:
URL:https://explorepeace.org/event/church-office-summer-hours/2025-07-09/
END:VEVENT
BEGIN:VEVENT
DTSTART;TZID=America/Chicago:20250706T100000
DTEND;TZID=America/Chicago:20250706T110000
DTSTAMP:20260421T023549
CREATED:20250109T230418Z
LAST-MODIFIED:20250109T230418Z
UID:10001353-1751796000-1751799600@explorepeace.org
SUMMARY:Coffee\, Donuts & Fellowship
DESCRIPTION:
URL:https://explorepeace.org/event/coffee-donuts-fellowship/2025-07-06/
CATEGORIES:Meetings/Gatherings
END:VEVENT
BEGIN:VEVENT
DTSTART;TZID=America/Chicago:20250706T090000
DTEND;TZID=America/Chicago:20250706T100000
DTSTAMP:20260421T023549
CREATED:20250109T225919Z
LAST-MODIFIED:20250109T225919Z
UID:10001289-1751792400-1751796000@explorepeace.org
SUMMARY:Sunday morning Worship
DESCRIPTION:
URL:https://explorepeace.org/event/sunday-morning-worship/2025-07-06/
CATEGORIES:Worship
END:VEVENT
BEGIN:VEVENT
DTSTART;TZID=America/Chicago:20250703T090000
DTEND;TZID=America/Chicago:20250703T100000
DTSTAMP:20260421T023549
CREATED:20250113T155626Z
LAST-MODIFIED:20250113T155626Z
UID:10001678-1751533200-1751536800@explorepeace.org
SUMMARY:Coffee and Chocolate with Pastor Doug
DESCRIPTION:Bible Study … with Coffee and Chocolate … meeting in the Fireside Room.
URL:https://explorepeace.org/event/coffee-and-chocolate-with-pastor-doug/2025-07-03/
CATEGORIES:Meetings/Gatherings
END:VEVENT
BEGIN:VEVENT
DTSTART;TZID=America/Chicago:20250629T100000
DTEND;TZID=America/Chicago:20250629T110000
DTSTAMP:20260421T023549
CREATED:20250109T230418Z
LAST-MODIFIED:20250109T230418Z
UID:10001352-1751191200-1751194800@explorepeace.org
SUMMARY:Coffee\, Donuts & Fellowship
DESCRIPTION:
URL:https://explorepeace.org/event/coffee-donuts-fellowship/2025-06-29/
CATEGORIES:Meetings/Gatherings
END:VEVENT
BEGIN:VEVENT
DTSTART;TZID=America/Chicago:20250629T090000
DTEND;TZID=America/Chicago:20250629T100000
DTSTAMP:20260421T023549
CREATED:20250109T225919Z
LAST-MODIFIED:20250109T225919Z
UID:10001288-1751187600-1751191200@explorepeace.org
SUMMARY:Sunday morning Worship
DESCRIPTION:
URL:https://explorepeace.org/event/sunday-morning-worship/2025-06-29/
CATEGORIES:Worship
END:VEVENT
BEGIN:VEVENT
DTSTART;TZID=America/Chicago:20250626T090000
DTEND;TZID=America/Chicago:20250626T100000
DTSTAMP:20260421T023549
CREATED:20250113T155626Z
LAST-MODIFIED:20250113T155626Z
UID:10001677-1750928400-1750932000@explorepeace.org
SUMMARY:Coffee and Chocolate with Pastor Doug
DESCRIPTION:Bible Study … with Coffee and Chocolate … meeting in the Fireside Room.
URL:https://explorepeace.org/event/coffee-and-chocolate-with-pastor-doug/2025-06-26/
CATEGORIES:Meetings/Gatherings
END:VEVENT
BEGIN:VEVENT
DTSTART;TZID=America/Chicago:20250622T100000
DTEND;TZID=America/Chicago:20250622T110000
DTSTAMP:20260421T023549
CREATED:20250109T230418Z
LAST-MODIFIED:20250109T230418Z
UID:10001351-1750586400-1750590000@explorepeace.org
SUMMARY:Coffee\, Donuts & Fellowship
DESCRIPTION:
URL:https://explorepeace.org/event/coffee-donuts-fellowship/2025-06-22/
CATEGORIES:Meetings/Gatherings
END:VEVENT
BEGIN:VEVENT
DTSTART;TZID=America/Chicago:20250622T090000
DTEND;TZID=America/Chicago:20250622T100000
DTSTAMP:20260421T023549
CREATED:20250109T225919Z
LAST-MODIFIED:20250109T225919Z
UID:10001287-1750582800-1750586400@explorepeace.org
SUMMARY:Sunday morning Worship
DESCRIPTION:
URL:https://explorepeace.org/event/sunday-morning-worship/2025-06-22/
CATEGORIES:Worship
END:VEVENT
BEGIN:VEVENT
DTSTART;TZID=America/Chicago:20250619T090000
DTEND;TZID=America/Chicago:20250619T100000
DTSTAMP:20260421T023549
CREATED:20250113T155626Z
LAST-MODIFIED:20250113T155626Z
UID:10001676-1750323600-1750327200@explorepeace.org
SUMMARY:Coffee and Chocolate with Pastor Doug
DESCRIPTION:Bible Study … with Coffee and Chocolate … meeting in the Fireside Room.
URL:https://explorepeace.org/event/coffee-and-chocolate-with-pastor-doug/2025-06-19/
CATEGORIES:Meetings/Gatherings
END:VEVENT
BEGIN:VEVENT
DTSTART;TZID=America/Chicago:20250615T100000
DTEND;TZID=America/Chicago:20250615T110000
DTSTAMP:20260421T023549
CREATED:20250109T230418Z
LAST-MODIFIED:20250109T230418Z
UID:10001350-1749981600-1749985200@explorepeace.org
SUMMARY:Coffee\, Donuts & Fellowship
DESCRIPTION:
URL:https://explorepeace.org/event/coffee-donuts-fellowship/2025-06-15/
CATEGORIES:Meetings/Gatherings
END:VEVENT
BEGIN:VEVENT
DTSTART;TZID=America/Chicago:20250615T090000
DTEND;TZID=America/Chicago:20250615T100000
DTSTAMP:20260421T023549
CREATED:20250109T225919Z
LAST-MODIFIED:20250109T225919Z
UID:10001286-1749978000-1749981600@explorepeace.org
SUMMARY:Sunday morning Worship
DESCRIPTION:
URL:https://explorepeace.org/event/sunday-morning-worship/2025-06-15/
CATEGORIES:Worship
END:VEVENT
BEGIN:VEVENT
DTSTART;TZID=America/Chicago:20250612T090000
DTEND;TZID=America/Chicago:20250612T100000
DTSTAMP:20260421T023549
CREATED:20250113T155626Z
LAST-MODIFIED:20250113T155626Z
UID:10001675-1749718800-1749722400@explorepeace.org
SUMMARY:Coffee and Chocolate with Pastor Doug
DESCRIPTION:Bible Study … with Coffee and Chocolate … meeting in the Fireside Room.
URL:https://explorepeace.org/event/coffee-and-chocolate-with-pastor-doug/2025-06-12/
CATEGORIES:Meetings/Gatherings
END:VEVENT
BEGIN:VEVENT
DTSTART;TZID=America/Chicago:20250609T070000
DTEND;TZID=America/Chicago:20250609T153000
DTSTAMP:20260421T023549
CREATED:20250109T233521Z
LAST-MODIFIED:20250109T233521Z
UID:10001541-1749452400-1749483000@explorepeace.org
SUMMARY:Last day of 4K
DESCRIPTION:
URL:https://explorepeace.org/event/last-day-of-4k/
CATEGORIES:Preschool
END:VEVENT
BEGIN:VEVENT
DTSTART;TZID=America/Chicago:20250608T100000
DTEND;TZID=America/Chicago:20250608T110000
DTSTAMP:20260421T023549
CREATED:20250109T230418Z
LAST-MODIFIED:20250109T230418Z
UID:10001349-1749376800-1749380400@explorepeace.org
SUMMARY:Coffee\, Donuts & Fellowship
DESCRIPTION:
URL:https://explorepeace.org/event/coffee-donuts-fellowship/2025-06-08/
CATEGORIES:Meetings/Gatherings
END:VEVENT
BEGIN:VEVENT
DTSTART;TZID=America/Chicago:20250608T090000
DTEND;TZID=America/Chicago:20250608T100000
DTSTAMP:20260421T023549
CREATED:20250109T225919Z
LAST-MODIFIED:20250109T225919Z
UID:10001285-1749373200-1749376800@explorepeace.org
SUMMARY:Sunday morning Worship
DESCRIPTION:
URL:https://explorepeace.org/event/sunday-morning-worship/2025-06-08/
CATEGORIES:Worship
END:VEVENT
BEGIN:VEVENT
DTSTART;TZID=America/Chicago:20250606T070000
DTEND;TZID=America/Chicago:20250606T143000
DTSTAMP:20260421T023549
CREATED:20250109T231327Z
LAST-MODIFIED:20250109T231327Z
UID:10001527-1749193200-1749220200@explorepeace.org
SUMMARY:Preschool & 4K
DESCRIPTION:
URL:https://explorepeace.org/event/preschool-4k-24/2025-06-06/
CATEGORIES:Preschool
END:VEVENT
BEGIN:VEVENT
DTSTART;TZID=America/Chicago:20250605T090000
DTEND;TZID=America/Chicago:20250605T100000
DTSTAMP:20260421T023549
CREATED:20250113T155626Z
LAST-MODIFIED:20250113T155626Z
UID:10001674-1749114000-1749117600@explorepeace.org
SUMMARY:Coffee and Chocolate with Pastor Doug
DESCRIPTION:Bible Study … with Coffee and Chocolate … meeting in the Fireside Room.
URL:https://explorepeace.org/event/coffee-and-chocolate-with-pastor-doug/2025-06-05/
CATEGORIES:Meetings/Gatherings
END:VEVENT
BEGIN:VEVENT
DTSTART;TZID=America/Chicago:20250605T070000
DTEND;TZID=America/Chicago:20250605T153000
DTSTAMP:20260421T023549
CREATED:20250109T231132Z
LAST-MODIFIED:20250109T231132Z
UID:10001509-1749106800-1749137400@explorepeace.org
SUMMARY:Preschool & 4K
DESCRIPTION:
URL:https://explorepeace.org/event/preschool-4k-23/2025-06-05/
CATEGORIES:Preschool
END:VEVENT
BEGIN:VEVENT
DTSTART;TZID=America/Chicago:20250604T070000
DTEND;TZID=America/Chicago:20250604T153000
DTSTAMP:20260421T023549
CREATED:20250528T191648Z
LAST-MODIFIED:20250528T191648Z
UID:10001722-1749020400-1749051000@explorepeace.org
SUMMARY:Preschool & 4K
DESCRIPTION:
URL:https://explorepeace.org/event/preschool-4k-25/
CATEGORIES:Preschool
END:VEVENT
BEGIN:VEVENT
DTSTART;TZID=America/Chicago:20250603T070000
DTEND;TZID=America/Chicago:20250603T153000
DTSTAMP:20260421T023549
CREATED:20250109T230912Z
LAST-MODIFIED:20250109T230912Z
UID:10001415-1748934000-1748964600@explorepeace.org
SUMMARY:Preschool & 4K
DESCRIPTION:
URL:https://explorepeace.org/event/preschool-4k-21/2025-06-03/
CATEGORIES:Preschool
END:VEVENT
BEGIN:VEVENT
DTSTART;TZID=America/Chicago:20250602T070000
DTEND;TZID=America/Chicago:20250602T153000
DTSTAMP:20260421T023549
CREATED:20250109T230736Z
LAST-MODIFIED:20250109T230736Z
UID:10001394-1748847600-1748878200@explorepeace.org
SUMMARY:Preschool & 4K
DESCRIPTION:
URL:https://explorepeace.org/event/preschool-4k-20/2025-06-02/
CATEGORIES:Preschool
END:VEVENT
END:VCALENDAR