BEGIN:VCALENDAR
VERSION:2.0
PRODID:-//Peace Lutheran Church | Experience Christ. Explore Peace. - ECPv6.15.20//NONSGML v1.0//EN
CALSCALE:GREGORIAN
METHOD:PUBLISH
X-WR-CALNAME:Peace Lutheran Church | Experience Christ. Explore Peace.
X-ORIGINAL-URL:https://explorepeace.org
X-WR-CALDESC:Events for Peace Lutheran Church | Experience Christ. Explore Peace.
REFRESH-INTERVAL;VALUE=DURATION:PT1H
X-Robots-Tag:noindex
X-PUBLISHED-TTL:PT1H
BEGIN:VTIMEZONE
TZID:America/Chicago
BEGIN:DAYLIGHT
TZOFFSETFROM:-0600
TZOFFSETTO:-0500
TZNAME:CDT
DTSTART:20240310T080000
END:DAYLIGHT
BEGIN:STANDARD
TZOFFSETFROM:-0500
TZOFFSETTO:-0600
TZNAME:CST
DTSTART:20241103T070000
END:STANDARD
BEGIN:DAYLIGHT
TZOFFSETFROM:-0600
TZOFFSETTO:-0500
TZNAME:CDT
DTSTART:20250309T080000
END:DAYLIGHT
BEGIN:STANDARD
TZOFFSETFROM:-0500
TZOFFSETTO:-0600
TZNAME:CST
DTSTART:20251102T070000
END:STANDARD
BEGIN:DAYLIGHT
TZOFFSETFROM:-0600
TZOFFSETTO:-0500
TZNAME:CDT
DTSTART:20260308T080000
END:DAYLIGHT
BEGIN:STANDARD
TZOFFSETFROM:-0500
TZOFFSETTO:-0600
TZNAME:CST
DTSTART:20261101T070000
END:STANDARD
END:VTIMEZONE
BEGIN:VEVENT
DTSTART;TZID=America/Chicago:20250817T090000
DTEND;TZID=America/Chicago:20250817T100000
DTSTAMP:20260422T181537
CREATED:20250109T225919Z
LAST-MODIFIED:20250109T225919Z
UID:10001295-1755421200-1755424800@explorepeace.org
SUMMARY:Sunday morning Worship
DESCRIPTION:
URL:https://explorepeace.org/event/sunday-morning-worship/2025-08-17/
CATEGORIES:Worship
END:VEVENT
BEGIN:VEVENT
DTSTART;TZID=America/Chicago:20250814T090000
DTEND;TZID=America/Chicago:20250814T120000
DTSTAMP:20260422T181537
CREATED:20250709T171652Z
LAST-MODIFIED:20250709T171652Z
UID:10001745-1755162000-1755172800@explorepeace.org
SUMMARY:Church Office Summer Hours
DESCRIPTION:
URL:https://explorepeace.org/event/church-office-summer-hours-2/2025-08-14/
END:VEVENT
BEGIN:VEVENT
DTSTART;TZID=America/Chicago:20250814T090000
DTEND;TZID=America/Chicago:20250814T100000
DTSTAMP:20260422T181537
CREATED:20250113T155626Z
LAST-MODIFIED:20250113T155626Z
UID:10001684-1755162000-1755165600@explorepeace.org
SUMMARY:Coffee and Chocolate with Pastor Doug
DESCRIPTION:Bible Study … with Coffee and Chocolate … meeting in the Fireside Room.
URL:https://explorepeace.org/event/coffee-and-chocolate-with-pastor-doug/2025-08-14/
CATEGORIES:Meetings/Gatherings
END:VEVENT
BEGIN:VEVENT
DTSTART;TZID=America/Chicago:20250813T090000
DTEND;TZID=America/Chicago:20250813T120000
DTSTAMP:20260422T181537
CREATED:20250709T171549Z
LAST-MODIFIED:20250709T171549Z
UID:10001737-1755075600-1755086400@explorepeace.org
SUMMARY:Church Office Summer Hours
DESCRIPTION:
URL:https://explorepeace.org/event/church-office-summer-hours/2025-08-13/
END:VEVENT
BEGIN:VEVENT
DTSTART;TZID=America/Chicago:20250812T090000
DTEND;TZID=America/Chicago:20250812T120000
DTSTAMP:20260422T181537
CREATED:20250709T171735Z
LAST-MODIFIED:20250709T171735Z
UID:10001752-1754989200-1755000000@explorepeace.org
SUMMARY:Church Office Summer Hours
DESCRIPTION:
URL:https://explorepeace.org/event/church-office-summer-hours-3/2025-08-12/
END:VEVENT
BEGIN:VEVENT
DTSTART;TZID=America/Chicago:20250810T100000
DTEND;TZID=America/Chicago:20250810T110000
DTSTAMP:20260422T181537
CREATED:20250109T230418Z
LAST-MODIFIED:20250109T230418Z
UID:10001358-1754820000-1754823600@explorepeace.org
SUMMARY:Coffee\, Donuts & Fellowship
DESCRIPTION:
URL:https://explorepeace.org/event/coffee-donuts-fellowship/2025-08-10/
CATEGORIES:Meetings/Gatherings
END:VEVENT
BEGIN:VEVENT
DTSTART;TZID=America/Chicago:20250810T090000
DTEND;TZID=America/Chicago:20250810T100000
DTSTAMP:20260422T181537
CREATED:20250109T225919Z
LAST-MODIFIED:20250109T225919Z
UID:10001294-1754816400-1754820000@explorepeace.org
SUMMARY:Sunday morning Worship
DESCRIPTION:
URL:https://explorepeace.org/event/sunday-morning-worship/2025-08-10/
CATEGORIES:Worship
END:VEVENT
BEGIN:VEVENT
DTSTART;TZID=America/Chicago:20250808T160000
DTEND;TZID=America/Chicago:20250808T190000
DTSTAMP:20260422T181537
CREATED:20250528T193443Z
LAST-MODIFIED:20250528T193443Z
UID:10001731-1754668800-1754679600@explorepeace.org
SUMMARY:CAMP PEACE (August 5-8\, 2025)
DESCRIPTION:(drop off starting at 3:30PM)\nAges: Kindergarten thru 6th Grade\nCost: $80 per camper\nJoin us for a fun filled week of Peace Camp! Together we will share a love of Jesus through age specific activities. Each evening will entail a theme as we explore God’s creation through outdoor exploration\, musical movement and hands on learning with games\, crafts and science. \nDaily themes include: Art & Crafts\, Nature at Schumacher Farm in Waunakee\, Camping & Outdoor Fun\, Sports & Recreation \nDinner will be provided each evening.
URL:https://explorepeace.org/event/camp-peace-august-5-8-2025/2025-08-08/
CATEGORIES:Special Events,Youth
END:VEVENT
BEGIN:VEVENT
DTSTART;TZID=America/Chicago:20250807T160000
DTEND;TZID=America/Chicago:20250807T190000
DTSTAMP:20260422T181537
CREATED:20250528T193443Z
LAST-MODIFIED:20250528T193443Z
UID:10001730-1754582400-1754593200@explorepeace.org
SUMMARY:CAMP PEACE (August 5-8\, 2025)
DESCRIPTION:(drop off starting at 3:30PM)\nAges: Kindergarten thru 6th Grade\nCost: $80 per camper\nJoin us for a fun filled week of Peace Camp! Together we will share a love of Jesus through age specific activities. Each evening will entail a theme as we explore God’s creation through outdoor exploration\, musical movement and hands on learning with games\, crafts and science. \nDaily themes include: Art & Crafts\, Nature at Schumacher Farm in Waunakee\, Camping & Outdoor Fun\, Sports & Recreation \nDinner will be provided each evening.
URL:https://explorepeace.org/event/camp-peace-august-5-8-2025/2025-08-07/
CATEGORIES:Special Events,Youth
END:VEVENT
BEGIN:VEVENT
DTSTART;TZID=America/Chicago:20250807T090000
DTEND;TZID=America/Chicago:20250807T120000
DTSTAMP:20260422T181537
CREATED:20250709T171652Z
LAST-MODIFIED:20250709T171652Z
UID:10001744-1754557200-1754568000@explorepeace.org
SUMMARY:Church Office Summer Hours
DESCRIPTION:
URL:https://explorepeace.org/event/church-office-summer-hours-2/2025-08-07/
END:VEVENT
BEGIN:VEVENT
DTSTART;TZID=America/Chicago:20250807T090000
DTEND;TZID=America/Chicago:20250807T100000
DTSTAMP:20260422T181537
CREATED:20250113T155626Z
LAST-MODIFIED:20250113T155626Z
UID:10001683-1754557200-1754560800@explorepeace.org
SUMMARY:Coffee and Chocolate with Pastor Doug
DESCRIPTION:Bible Study … with Coffee and Chocolate … meeting in the Fireside Room.
URL:https://explorepeace.org/event/coffee-and-chocolate-with-pastor-doug/2025-08-07/
CATEGORIES:Meetings/Gatherings
END:VEVENT
BEGIN:VEVENT
DTSTART;TZID=America/Chicago:20250806T160000
DTEND;TZID=America/Chicago:20250806T190000
DTSTAMP:20260422T181537
CREATED:20250528T193443Z
LAST-MODIFIED:20250528T193443Z
UID:10001729-1754496000-1754506800@explorepeace.org
SUMMARY:CAMP PEACE (August 5-8\, 2025)
DESCRIPTION:(drop off starting at 3:30PM)\nAges: Kindergarten thru 6th Grade\nCost: $80 per camper\nJoin us for a fun filled week of Peace Camp! Together we will share a love of Jesus through age specific activities. Each evening will entail a theme as we explore God’s creation through outdoor exploration\, musical movement and hands on learning with games\, crafts and science. \nDaily themes include: Art & Crafts\, Nature at Schumacher Farm in Waunakee\, Camping & Outdoor Fun\, Sports & Recreation \nDinner will be provided each evening.
URL:https://explorepeace.org/event/camp-peace-august-5-8-2025/2025-08-06/
CATEGORIES:Special Events,Youth
END:VEVENT
BEGIN:VEVENT
DTSTART;TZID=America/Chicago:20250806T090000
DTEND;TZID=America/Chicago:20250806T120000
DTSTAMP:20260422T181537
CREATED:20250709T171549Z
LAST-MODIFIED:20250709T171549Z
UID:10001736-1754470800-1754481600@explorepeace.org
SUMMARY:Church Office Summer Hours
DESCRIPTION:
URL:https://explorepeace.org/event/church-office-summer-hours/2025-08-06/
END:VEVENT
BEGIN:VEVENT
DTSTART;TZID=America/Chicago:20250805T160000
DTEND;TZID=America/Chicago:20250805T190000
DTSTAMP:20260422T181537
CREATED:20250528T193443Z
LAST-MODIFIED:20250528T193443Z
UID:10001728-1754409600-1754420400@explorepeace.org
SUMMARY:CAMP PEACE (August 5-8\, 2025)
DESCRIPTION:(drop off starting at 3:30PM)\nAges: Kindergarten thru 6th Grade\nCost: $80 per camper\nJoin us for a fun filled week of Peace Camp! Together we will share a love of Jesus through age specific activities. Each evening will entail a theme as we explore God’s creation through outdoor exploration\, musical movement and hands on learning with games\, crafts and science. \nDaily themes include: Art & Crafts\, Nature at Schumacher Farm in Waunakee\, Camping & Outdoor Fun\, Sports & Recreation \nDinner will be provided each evening.
URL:https://explorepeace.org/event/camp-peace-august-5-8-2025/2025-08-05/
CATEGORIES:Special Events,Youth
END:VEVENT
BEGIN:VEVENT
DTSTART;TZID=America/Chicago:20250805T090000
DTEND;TZID=America/Chicago:20250805T120000
DTSTAMP:20260422T181537
CREATED:20250709T171735Z
LAST-MODIFIED:20250709T171735Z
UID:10001751-1754384400-1754395200@explorepeace.org
SUMMARY:Church Office Summer Hours
DESCRIPTION:
URL:https://explorepeace.org/event/church-office-summer-hours-3/2025-08-05/
END:VEVENT
BEGIN:VEVENT
DTSTART;TZID=America/Chicago:20250803T100000
DTEND;TZID=America/Chicago:20250803T110000
DTSTAMP:20260422T181537
CREATED:20250109T230418Z
LAST-MODIFIED:20250109T230418Z
UID:10001357-1754215200-1754218800@explorepeace.org
SUMMARY:Coffee\, Donuts & Fellowship
DESCRIPTION:
URL:https://explorepeace.org/event/coffee-donuts-fellowship/2025-08-03/
CATEGORIES:Meetings/Gatherings
END:VEVENT
BEGIN:VEVENT
DTSTART;TZID=America/Chicago:20250803T090000
DTEND;TZID=America/Chicago:20250803T100000
DTSTAMP:20260422T181537
CREATED:20250109T225919Z
LAST-MODIFIED:20250109T225919Z
UID:10001293-1754211600-1754215200@explorepeace.org
SUMMARY:Sunday morning Worship
DESCRIPTION:
URL:https://explorepeace.org/event/sunday-morning-worship/2025-08-03/
CATEGORIES:Worship
END:VEVENT
BEGIN:VEVENT
DTSTART;TZID=America/Chicago:20250731T090000
DTEND;TZID=America/Chicago:20250731T120000
DTSTAMP:20260422T181537
CREATED:20250709T171652Z
LAST-MODIFIED:20250709T171652Z
UID:10001743-1753952400-1753963200@explorepeace.org
SUMMARY:Church Office Summer Hours
DESCRIPTION:
URL:https://explorepeace.org/event/church-office-summer-hours-2/2025-07-31/
END:VEVENT
BEGIN:VEVENT
DTSTART;TZID=America/Chicago:20250731T090000
DTEND;TZID=America/Chicago:20250731T100000
DTSTAMP:20260422T181537
CREATED:20250113T155626Z
LAST-MODIFIED:20250113T155626Z
UID:10001682-1753952400-1753956000@explorepeace.org
SUMMARY:Coffee and Chocolate with Pastor Doug
DESCRIPTION:Bible Study … with Coffee and Chocolate … meeting in the Fireside Room.
URL:https://explorepeace.org/event/coffee-and-chocolate-with-pastor-doug/2025-07-31/
CATEGORIES:Meetings/Gatherings
END:VEVENT
BEGIN:VEVENT
DTSTART;TZID=America/Chicago:20250730T090000
DTEND;TZID=America/Chicago:20250730T120000
DTSTAMP:20260422T181537
CREATED:20250709T171549Z
LAST-MODIFIED:20250709T171549Z
UID:10001735-1753866000-1753876800@explorepeace.org
SUMMARY:Church Office Summer Hours
DESCRIPTION:
URL:https://explorepeace.org/event/church-office-summer-hours/2025-07-30/
END:VEVENT
BEGIN:VEVENT
DTSTART;TZID=America/Chicago:20250729T090000
DTEND;TZID=America/Chicago:20250729T120000
DTSTAMP:20260422T181537
CREATED:20250709T171735Z
LAST-MODIFIED:20250709T171735Z
UID:10001750-1753779600-1753790400@explorepeace.org
SUMMARY:Church Office Summer Hours
DESCRIPTION:
URL:https://explorepeace.org/event/church-office-summer-hours-3/2025-07-29/
END:VEVENT
BEGIN:VEVENT
DTSTART;TZID=America/Chicago:20250727T100000
DTEND;TZID=America/Chicago:20250727T110000
DTSTAMP:20260422T181537
CREATED:20250109T230418Z
LAST-MODIFIED:20250109T230418Z
UID:10001356-1753610400-1753614000@explorepeace.org
SUMMARY:Coffee\, Donuts & Fellowship
DESCRIPTION:
URL:https://explorepeace.org/event/coffee-donuts-fellowship/2025-07-27/
CATEGORIES:Meetings/Gatherings
END:VEVENT
BEGIN:VEVENT
DTSTART;TZID=America/Chicago:20250727T090000
DTEND;TZID=America/Chicago:20250727T100000
DTSTAMP:20260422T181537
CREATED:20250109T225919Z
LAST-MODIFIED:20250109T225919Z
UID:10001292-1753606800-1753610400@explorepeace.org
SUMMARY:Sunday morning Worship
DESCRIPTION:
URL:https://explorepeace.org/event/sunday-morning-worship/2025-07-27/
CATEGORIES:Worship
END:VEVENT
BEGIN:VEVENT
DTSTART;TZID=America/Chicago:20250724T090000
DTEND;TZID=America/Chicago:20250724T120000
DTSTAMP:20260422T181537
CREATED:20250709T171652Z
LAST-MODIFIED:20250709T171652Z
UID:10001742-1753347600-1753358400@explorepeace.org
SUMMARY:Church Office Summer Hours
DESCRIPTION:
URL:https://explorepeace.org/event/church-office-summer-hours-2/2025-07-24/
END:VEVENT
BEGIN:VEVENT
DTSTART;TZID=America/Chicago:20250724T090000
DTEND;TZID=America/Chicago:20250724T100000
DTSTAMP:20260422T181537
CREATED:20250113T155626Z
LAST-MODIFIED:20250113T155626Z
UID:10001681-1753347600-1753351200@explorepeace.org
SUMMARY:Coffee and Chocolate with Pastor Doug
DESCRIPTION:Bible Study … with Coffee and Chocolate … meeting in the Fireside Room.
URL:https://explorepeace.org/event/coffee-and-chocolate-with-pastor-doug/2025-07-24/
CATEGORIES:Meetings/Gatherings
END:VEVENT
BEGIN:VEVENT
DTSTART;TZID=America/Chicago:20250723T090000
DTEND;TZID=America/Chicago:20250723T120000
DTSTAMP:20260422T181537
CREATED:20250709T171549Z
LAST-MODIFIED:20250709T171549Z
UID:10001734-1753261200-1753272000@explorepeace.org
SUMMARY:Church Office Summer Hours
DESCRIPTION:
URL:https://explorepeace.org/event/church-office-summer-hours/2025-07-23/
END:VEVENT
BEGIN:VEVENT
DTSTART;TZID=America/Chicago:20250722T090000
DTEND;TZID=America/Chicago:20250722T120000
DTSTAMP:20260422T181537
CREATED:20250709T171735Z
LAST-MODIFIED:20250709T171735Z
UID:10001749-1753174800-1753185600@explorepeace.org
SUMMARY:Church Office Summer Hours
DESCRIPTION:
URL:https://explorepeace.org/event/church-office-summer-hours-3/2025-07-22/
END:VEVENT
BEGIN:VEVENT
DTSTART;TZID=America/Chicago:20250720T100000
DTEND;TZID=America/Chicago:20250720T110000
DTSTAMP:20260422T181537
CREATED:20250109T230418Z
LAST-MODIFIED:20250109T230418Z
UID:10001355-1753005600-1753009200@explorepeace.org
SUMMARY:Coffee\, Donuts & Fellowship
DESCRIPTION:
URL:https://explorepeace.org/event/coffee-donuts-fellowship/2025-07-20/
CATEGORIES:Meetings/Gatherings
END:VEVENT
BEGIN:VEVENT
DTSTART;TZID=America/Chicago:20250720T090000
DTEND;TZID=America/Chicago:20250720T100000
DTSTAMP:20260422T181537
CREATED:20250109T225919Z
LAST-MODIFIED:20250109T225919Z
UID:10001291-1753002000-1753005600@explorepeace.org
SUMMARY:Sunday morning Worship
DESCRIPTION:
URL:https://explorepeace.org/event/sunday-morning-worship/2025-07-20/
CATEGORIES:Worship
END:VEVENT
BEGIN:VEVENT
DTSTART;TZID=America/Chicago:20250717T160000
DTEND;TZID=America/Chicago:20250717T190000
DTSTAMP:20260422T181537
CREATED:20250709T173432Z
LAST-MODIFIED:20250709T173432Z
UID:10001758-1752768000-1752778800@explorepeace.org
SUMMARY:Reception for 'Ink\, Image\, Impression' (in Peace Lutheran Gallery)
DESCRIPTION:Create Waunakee has leased our gallery walls and is proud to sponsor Ink\, Image\, Impression\, part of the Waunakee Summer of Print Arts 2025. This village-wide initiative explores the rich and diverse world of printmaking – from centuries-old copperplate engraving to contemporary photographic prints. The exhibition will run July 4 through August 29\, in the Peace Lutheran Gallery.
URL:https://explorepeace.org/event/reception-for-ink-image-impression-in-peace-lutheran-gallery/
CATEGORIES:Special Events
END:VEVENT
END:VCALENDAR