BEGIN:VCALENDAR
VERSION:2.0
PRODID:-//Peace Lutheran Church | Experience Christ. Explore Peace. - ECPv6.15.20//NONSGML v1.0//EN
CALSCALE:GREGORIAN
METHOD:PUBLISH
X-WR-CALNAME:Peace Lutheran Church | Experience Christ. Explore Peace.
X-ORIGINAL-URL:https://explorepeace.org
X-WR-CALDESC:Events for Peace Lutheran Church | Experience Christ. Explore Peace.
REFRESH-INTERVAL;VALUE=DURATION:PT1H
X-Robots-Tag:noindex
X-PUBLISHED-TTL:PT1H
BEGIN:VTIMEZONE
TZID:America/Chicago
BEGIN:DAYLIGHT
TZOFFSETFROM:-0600
TZOFFSETTO:-0500
TZNAME:CDT
DTSTART:20240310T080000
END:DAYLIGHT
BEGIN:STANDARD
TZOFFSETFROM:-0500
TZOFFSETTO:-0600
TZNAME:CST
DTSTART:20241103T070000
END:STANDARD
BEGIN:DAYLIGHT
TZOFFSETFROM:-0600
TZOFFSETTO:-0500
TZNAME:CDT
DTSTART:20250309T080000
END:DAYLIGHT
BEGIN:STANDARD
TZOFFSETFROM:-0500
TZOFFSETTO:-0600
TZNAME:CST
DTSTART:20251102T070000
END:STANDARD
BEGIN:DAYLIGHT
TZOFFSETFROM:-0600
TZOFFSETTO:-0500
TZNAME:CDT
DTSTART:20260308T080000
END:DAYLIGHT
BEGIN:STANDARD
TZOFFSETFROM:-0500
TZOFFSETTO:-0600
TZNAME:CST
DTSTART:20261101T070000
END:STANDARD
END:VTIMEZONE
BEGIN:VEVENT
DTSTART;TZID=America/Chicago:20251007T070000
DTEND;TZID=America/Chicago:20251007T153000
DTSTAMP:20260419T202638
CREATED:20250709T173817Z
LAST-MODIFIED:20250709T173817Z
UID:10001764-1759820400-1759851000@explorepeace.org
SUMMARY:Preschool & 4K
DESCRIPTION:
URL:https://explorepeace.org/event/preschool-4k-26/2025-10-07/
CATEGORIES:Preschool
END:VEVENT
BEGIN:VEVENT
DTSTART;TZID=America/Chicago:20251006T070000
DTEND;TZID=America/Chicago:20251006T153000
DTSTAMP:20260419T202638
CREATED:20250709T192801Z
LAST-MODIFIED:20250709T192801Z
UID:10001887-1759734000-1759764600@explorepeace.org
SUMMARY:Preschool & 4K
DESCRIPTION:
URL:https://explorepeace.org/event/preschool-4k-30/2025-10-06/
CATEGORIES:Preschool
END:VEVENT
BEGIN:VEVENT
DTSTART;TZID=America/Chicago:20251005T180000
DTEND;TZID=America/Chicago:20251005T190000
DTSTAMP:20260419T202638
CREATED:20251007T195751Z
LAST-MODIFIED:20251007T195751Z
UID:10001913-1759687200-1759690800@explorepeace.org
SUMMARY:Radical Ringers handbell rehearsal (7th - 12th graders)
DESCRIPTION:A middle and high school handbell group that performs 6-7 times/year at Sunday worship and the Variety Show!  Sunday evening rehearsals from 6-7pm. Come join in the fun of ringing! Jan Rutkowski\, RR Director
URL:https://explorepeace.org/event/radical-ringers-handbell-rehearsal-7th-12th-graders-2/2025-10-05/
CATEGORIES:Music,Youth
END:VEVENT
BEGIN:VEVENT
DTSTART;TZID=America/Chicago:20251005T100000
DTEND;TZID=America/Chicago:20251005T110000
DTSTAMP:20260419T202638
CREATED:20250109T230418Z
LAST-MODIFIED:20250109T230418Z
UID:10001366-1759658400-1759662000@explorepeace.org
SUMMARY:Coffee\, Donuts & Fellowship
DESCRIPTION:
URL:https://explorepeace.org/event/coffee-donuts-fellowship/2025-10-05/
CATEGORIES:Meetings/Gatherings
END:VEVENT
BEGIN:VEVENT
DTSTART;TZID=America/Chicago:20251005T090000
DTEND;TZID=America/Chicago:20251005T100000
DTSTAMP:20260419T202638
CREATED:20250109T225919Z
LAST-MODIFIED:20250109T225919Z
UID:10001302-1759654800-1759658400@explorepeace.org
SUMMARY:Sunday morning Worship
DESCRIPTION:
URL:https://explorepeace.org/event/sunday-morning-worship/2025-10-05/
CATEGORIES:Worship
END:VEVENT
BEGIN:VEVENT
DTSTART;TZID=America/Chicago:20251005T090000
DTEND;TZID=America/Chicago:20251005T094500
DTSTAMP:20260419T202638
CREATED:20250709T180921Z
LAST-MODIFIED:20251007T201827Z
UID:10001847-1759654800-1759657500@explorepeace.org
SUMMARY:KiX (Kids in Christ) aka Sunday School
DESCRIPTION:Engaging faith formation class where children ages 3 through grade 4 explore hands-on projects and engage in various experiences to learn about Jesus and important stores of the Bible. Let’s meet in the Friendship Room!
URL:https://explorepeace.org/event/kix-kids-in-christ-aka-sunday-school/2025-10-05/
CATEGORIES:Youth
END:VEVENT
BEGIN:VEVENT
DTSTART;TZID=America/Chicago:20251003T070000
DTEND;TZID=America/Chicago:20251003T143000
DTSTAMP:20260419T202638
CREATED:20250709T174350Z
LAST-MODIFIED:20250709T174350Z
UID:10001808-1759474800-1759501800@explorepeace.org
SUMMARY:Preschool & 4K
DESCRIPTION:
URL:https://explorepeace.org/event/preschool-4k-29/2025-10-03/
CATEGORIES:Preschool
END:VEVENT
BEGIN:VEVENT
DTSTART;TZID=America/Chicago:20251002T100000
DTEND;TZID=America/Chicago:20251002T113000
DTSTAMP:20260419T202638
CREATED:20250709T174759Z
LAST-MODIFIED:20250910T192903Z
UID:10001836-1759399200-1759404600@explorepeace.org
SUMMARY:Walking By Faith (with Pastor Doug)
DESCRIPTION:…. weather permitting!
URL:https://explorepeace.org/event/walking-by-faith-with-pastor-doug-3/2025-10-02/
CATEGORIES:Meetings/Gatherings
END:VEVENT
BEGIN:VEVENT
DTSTART;TZID=America/Chicago:20251002T090000
DTEND;TZID=America/Chicago:20251002T100000
DTSTAMP:20260419T202638
CREATED:20250709T174610Z
LAST-MODIFIED:20251120T191256Z
UID:10001821-1759395600-1759399200@explorepeace.org
SUMMARY:Coffee & Chocolate Bible Study (meet in Fireside Room)
DESCRIPTION:Coffee and Chocolate is a group that meets each week to contemplate and discuss the Revised Common Lectionary texts alongside the current world news. It is always a deep and lively conversation … and the chocolate and coffee are an added bonus. Meet in the Fireside Room with Pastor Doug.
URL:https://explorepeace.org/event/coffee-chocolate-bible-study-with-pastor-doug-meeting-in-fireside-room/2025-10-02/
CATEGORIES:Meetings/Gatherings
END:VEVENT
BEGIN:VEVENT
DTSTART;TZID=America/Chicago:20251002T070000
DTEND;TZID=America/Chicago:20251002T153000
DTSTAMP:20260419T202638
CREATED:20250709T174159Z
LAST-MODIFIED:20250709T174159Z
UID:10001794-1759388400-1759419000@explorepeace.org
SUMMARY:Preschool & 4K
DESCRIPTION:
URL:https://explorepeace.org/event/preschool-4k-28/2025-10-02/
CATEGORIES:Preschool
END:VEVENT
BEGIN:VEVENT
DTSTART;TZID=America/Chicago:20251001T170000
DTEND;TZID=America/Chicago:20251001T190000
DTSTAMP:20260419T202638
CREATED:20251007T194741Z
LAST-MODIFIED:20251007T194741Z
UID:10001912-1759338000-1759345200@explorepeace.org
SUMMARY:PeaceFest!
DESCRIPTION:Join us for Peace Fest\, an open-house style event to explore all that Peace has to offer: \n🎶 Music Groups – stop in on rehearsals\, see the action\, and ask questions! \n🙌 KiX & Route.567 – (Route 56 now including 7th grade!) – registration now open. \n✨Explore.8910 – our newly designed confirmation group for 8th–10th graders\, with tentative plans to meet monthly for hands-on learning opportunities in the community. \n📚Adult Ed Opportunities – grow in faith and conversation\, plus explore exciting new adult art initiatives. \n🍽 Dinner at the CTC\n🍹Mocktail Bar \nSo many exciting opportunities to connect\, grow\, and get involved. Come celebrate community and kick off the fall with us!
URL:https://explorepeace.org/event/peacefest/
CATEGORIES:Music,Special Events,Youth
END:VEVENT
BEGIN:VEVENT
DTSTART;TZID=America/Chicago:20251001T070000
DTEND;TZID=America/Chicago:20251001T153000
DTSTAMP:20260419T202638
CREATED:20250709T173946Z
LAST-MODIFIED:20250709T173946Z
UID:10001779-1759302000-1759332600@explorepeace.org
SUMMARY:Preschool & 4K
DESCRIPTION:
URL:https://explorepeace.org/event/preschool-4k-27/2025-10-01/
CATEGORIES:Preschool
END:VEVENT
BEGIN:VEVENT
DTSTART;TZID=America/Chicago:20250930T070000
DTEND;TZID=America/Chicago:20250930T153000
DTSTAMP:20260419T202638
CREATED:20250709T173817Z
LAST-MODIFIED:20250709T173817Z
UID:10001763-1759215600-1759246200@explorepeace.org
SUMMARY:Preschool & 4K
DESCRIPTION:
URL:https://explorepeace.org/event/preschool-4k-26/2025-09-30/
CATEGORIES:Preschool
END:VEVENT
BEGIN:VEVENT
DTSTART;TZID=America/Chicago:20250929T070000
DTEND;TZID=America/Chicago:20250929T153000
DTSTAMP:20260419T202638
CREATED:20250709T192801Z
LAST-MODIFIED:20250709T192801Z
UID:10001886-1759129200-1759159800@explorepeace.org
SUMMARY:Preschool & 4K
DESCRIPTION:
URL:https://explorepeace.org/event/preschool-4k-30/2025-09-29/
CATEGORIES:Preschool
END:VEVENT
BEGIN:VEVENT
DTSTART;TZID=America/Chicago:20250928T100000
DTEND;TZID=America/Chicago:20250928T110000
DTSTAMP:20260419T202638
CREATED:20250814T194858Z
LAST-MODIFIED:20250814T194858Z
UID:10001908-1759053600-1759057200@explorepeace.org
SUMMARY:Congregation Annual Meeting (held in Peace Sanctuary)
DESCRIPTION:
URL:https://explorepeace.org/event/congregation-annual-meeting-held-in-peace-sanctuary/
CATEGORIES:Meetings/Gatherings
END:VEVENT
BEGIN:VEVENT
DTSTART;TZID=America/Chicago:20250928T100000
DTEND;TZID=America/Chicago:20250928T110000
DTSTAMP:20260419T202638
CREATED:20250109T230418Z
LAST-MODIFIED:20250109T230418Z
UID:10001365-1759053600-1759057200@explorepeace.org
SUMMARY:Coffee\, Donuts & Fellowship
DESCRIPTION:
URL:https://explorepeace.org/event/coffee-donuts-fellowship/2025-09-28/
CATEGORIES:Meetings/Gatherings
END:VEVENT
BEGIN:VEVENT
DTSTART;TZID=America/Chicago:20250928T090000
DTEND;TZID=America/Chicago:20250928T100000
DTSTAMP:20260419T202638
CREATED:20250109T225919Z
LAST-MODIFIED:20250109T225919Z
UID:10001301-1759050000-1759053600@explorepeace.org
SUMMARY:Sunday morning Worship
DESCRIPTION:
URL:https://explorepeace.org/event/sunday-morning-worship/2025-09-28/
CATEGORIES:Worship
END:VEVENT
BEGIN:VEVENT
DTSTART;TZID=America/Chicago:20250926T070000
DTEND;TZID=America/Chicago:20250926T143000
DTSTAMP:20260419T202638
CREATED:20250709T174350Z
LAST-MODIFIED:20250709T174350Z
UID:10001807-1758870000-1758897000@explorepeace.org
SUMMARY:Preschool & 4K
DESCRIPTION:
URL:https://explorepeace.org/event/preschool-4k-29/2025-09-26/
CATEGORIES:Preschool
END:VEVENT
BEGIN:VEVENT
DTSTART;TZID=America/Chicago:20250925T100000
DTEND;TZID=America/Chicago:20250925T113000
DTSTAMP:20260419T202638
CREATED:20250709T174759Z
LAST-MODIFIED:20250910T192903Z
UID:10001835-1758794400-1758799800@explorepeace.org
SUMMARY:Walking By Faith (with Pastor Doug)
DESCRIPTION:…. weather permitting!
URL:https://explorepeace.org/event/walking-by-faith-with-pastor-doug-3/2025-09-25/
CATEGORIES:Meetings/Gatherings
END:VEVENT
BEGIN:VEVENT
DTSTART;TZID=America/Chicago:20250925T090000
DTEND;TZID=America/Chicago:20250925T100000
DTSTAMP:20260419T202638
CREATED:20250709T174610Z
LAST-MODIFIED:20251120T191256Z
UID:10001911-1758790800-1758794400@explorepeace.org
SUMMARY:Coffee & Chocolate Bible Study (meet in Fireside Room)
DESCRIPTION:Coffee and Chocolate is a group that meets each week to contemplate and discuss the Revised Common Lectionary texts alongside the current world news. It is always a deep and lively conversation … and the chocolate and coffee are an added bonus. Meet in the Fireside Room with Pastor Doug.
URL:https://explorepeace.org/event/coffee-chocolate-bible-study-with-pastor-doug-meeting-in-fireside-room/2025-09-25/
CATEGORIES:Meetings/Gatherings
END:VEVENT
BEGIN:VEVENT
DTSTART;TZID=America/Chicago:20250925T070000
DTEND;TZID=America/Chicago:20250925T153000
DTSTAMP:20260419T202638
CREATED:20250709T174159Z
LAST-MODIFIED:20250709T174159Z
UID:10001793-1758783600-1758814200@explorepeace.org
SUMMARY:Preschool & 4K
DESCRIPTION:
URL:https://explorepeace.org/event/preschool-4k-28/2025-09-25/
CATEGORIES:Preschool
END:VEVENT
BEGIN:VEVENT
DTSTART;TZID=America/Chicago:20250924T070000
DTEND;TZID=America/Chicago:20250924T153000
DTSTAMP:20260419T202638
CREATED:20250709T173946Z
LAST-MODIFIED:20250709T173946Z
UID:10001778-1758697200-1758727800@explorepeace.org
SUMMARY:Preschool & 4K
DESCRIPTION:
URL:https://explorepeace.org/event/preschool-4k-27/2025-09-24/
CATEGORIES:Preschool
END:VEVENT
BEGIN:VEVENT
DTSTART;TZID=America/Chicago:20250923T070000
DTEND;TZID=America/Chicago:20250923T153000
DTSTAMP:20260419T202638
CREATED:20250709T173817Z
LAST-MODIFIED:20250709T173817Z
UID:10001762-1758610800-1758641400@explorepeace.org
SUMMARY:Preschool & 4K
DESCRIPTION:
URL:https://explorepeace.org/event/preschool-4k-26/2025-09-23/
CATEGORIES:Preschool
END:VEVENT
BEGIN:VEVENT
DTSTART;TZID=America/Chicago:20250922T070000
DTEND;TZID=America/Chicago:20250922T153000
DTSTAMP:20260419T202638
CREATED:20250709T192801Z
LAST-MODIFIED:20250709T192801Z
UID:10001885-1758524400-1758555000@explorepeace.org
SUMMARY:Preschool & 4K
DESCRIPTION:
URL:https://explorepeace.org/event/preschool-4k-30/2025-09-22/
CATEGORIES:Preschool
END:VEVENT
BEGIN:VEVENT
DTSTART;TZID=America/Chicago:20250921T100000
DTEND;TZID=America/Chicago:20250921T110000
DTSTAMP:20260419T202638
CREATED:20250109T230418Z
LAST-MODIFIED:20250109T230418Z
UID:10001364-1758448800-1758452400@explorepeace.org
SUMMARY:Coffee\, Donuts & Fellowship
DESCRIPTION:
URL:https://explorepeace.org/event/coffee-donuts-fellowship/2025-09-21/
CATEGORIES:Meetings/Gatherings
END:VEVENT
BEGIN:VEVENT
DTSTART;TZID=America/Chicago:20250921T090000
DTEND;TZID=America/Chicago:20250921T100000
DTSTAMP:20260419T202638
CREATED:20250109T225919Z
LAST-MODIFIED:20250109T225919Z
UID:10001300-1758445200-1758448800@explorepeace.org
SUMMARY:Sunday morning Worship
DESCRIPTION:
URL:https://explorepeace.org/event/sunday-morning-worship/2025-09-21/
CATEGORIES:Worship
END:VEVENT
BEGIN:VEVENT
DTSTART;TZID=America/Chicago:20250919T070000
DTEND;TZID=America/Chicago:20250919T143000
DTSTAMP:20260419T202638
CREATED:20250709T174350Z
LAST-MODIFIED:20250709T174350Z
UID:10001806-1758265200-1758292200@explorepeace.org
SUMMARY:Preschool & 4K
DESCRIPTION:
URL:https://explorepeace.org/event/preschool-4k-29/2025-09-19/
CATEGORIES:Preschool
END:VEVENT
BEGIN:VEVENT
DTSTART;TZID=America/Chicago:20250918T090000
DTEND;TZID=America/Chicago:20250918T113000
DTSTAMP:20260419T202638
CREATED:20250910T192611Z
LAST-MODIFIED:20250910T193001Z
UID:10001910-1758186000-1758195000@explorepeace.org
SUMMARY:NO Coffee & Chocolate OR Walking By Faith TODAY
DESCRIPTION:
URL:https://explorepeace.org/event/no-coffee-chocolate-today/
END:VEVENT
BEGIN:VEVENT
DTSTART;TZID=America/Chicago:20250918T070000
DTEND;TZID=America/Chicago:20250918T153000
DTSTAMP:20260419T202638
CREATED:20250709T174159Z
LAST-MODIFIED:20250709T174159Z
UID:10001792-1758178800-1758209400@explorepeace.org
SUMMARY:Preschool & 4K
DESCRIPTION:
URL:https://explorepeace.org/event/preschool-4k-28/2025-09-18/
CATEGORIES:Preschool
END:VEVENT
BEGIN:VEVENT
DTSTART;TZID=America/Chicago:20250917T070000
DTEND;TZID=America/Chicago:20250917T153000
DTSTAMP:20260419T202638
CREATED:20250709T173946Z
LAST-MODIFIED:20250709T173946Z
UID:10001777-1758092400-1758123000@explorepeace.org
SUMMARY:Preschool & 4K
DESCRIPTION:
URL:https://explorepeace.org/event/preschool-4k-27/2025-09-17/
CATEGORIES:Preschool
END:VEVENT
END:VCALENDAR