BEGIN:VCALENDAR
VERSION:2.0
PRODID:-//Peace Lutheran Church | Experience Christ. Explore Peace. - ECPv6.15.20//NONSGML v1.0//EN
CALSCALE:GREGORIAN
METHOD:PUBLISH
X-WR-CALNAME:Peace Lutheran Church | Experience Christ. Explore Peace.
X-ORIGINAL-URL:https://explorepeace.org
X-WR-CALDESC:Events for Peace Lutheran Church | Experience Christ. Explore Peace.
REFRESH-INTERVAL;VALUE=DURATION:PT1H
X-Robots-Tag:noindex
X-PUBLISHED-TTL:PT1H
BEGIN:VTIMEZONE
TZID:America/Chicago
BEGIN:DAYLIGHT
TZOFFSETFROM:-0600
TZOFFSETTO:-0500
TZNAME:CDT
DTSTART:20240310T080000
END:DAYLIGHT
BEGIN:STANDARD
TZOFFSETFROM:-0500
TZOFFSETTO:-0600
TZNAME:CST
DTSTART:20241103T070000
END:STANDARD
BEGIN:DAYLIGHT
TZOFFSETFROM:-0600
TZOFFSETTO:-0500
TZNAME:CDT
DTSTART:20250309T080000
END:DAYLIGHT
BEGIN:STANDARD
TZOFFSETFROM:-0500
TZOFFSETTO:-0600
TZNAME:CST
DTSTART:20251102T070000
END:STANDARD
BEGIN:DAYLIGHT
TZOFFSETFROM:-0600
TZOFFSETTO:-0500
TZNAME:CDT
DTSTART:20260308T080000
END:DAYLIGHT
BEGIN:STANDARD
TZOFFSETFROM:-0500
TZOFFSETTO:-0600
TZNAME:CST
DTSTART:20261101T070000
END:STANDARD
END:VTIMEZONE
BEGIN:VEVENT
DTSTART;TZID=America/Chicago:20251021T090000
DTEND;TZID=America/Chicago:20251021T120000
DTSTAMP:20260419T221138
CREATED:20250528T192240Z
LAST-MODIFIED:20250528T192240Z
UID:10001726-1761037200-1761048000@explorepeace.org
SUMMARY:PLC Quilters (meeting in the Gallery)
DESCRIPTION:Quilting may not appear as a line item in the budget\, but it relies on many of the church’s funded resources—like the building\, heating and cooling\, and storage space. Thanks to your contributions\, this important ministry continues to thrive. Below is a note from Sue Hineline\, who leads our quilting group.\n     Peace Lutheran Church has been making quilts for people in need throughout the world for more than 10 years.  Quilters include church members as well as others from the Waunakee community.  We enjoy a friendly gathering with good conversation as we work.  The youth of Peace have also joined us about once a year to tie some of the quilts.\nMany years we have sent the finished quilts to Lutheran World Relief for distribution to wherever they are needed most.  Some have gone to India\, Mauritania\, Iraq\, Ukraine and Lebanon.  The last couple of years we have given them locally to Waunakee Neighborhood Connection clients during their winter coat distribution.\nMuch of our fabric originally came from the former Ben Franklin Store when it closed.  Other material comes from donations which we welcome. We would love to have more people join us.  We currently meet the third Tuesday of every month at Peace from 9 am to noon.  Come for all of it\, or for whatever works for you. No experience required!
URL:https://explorepeace.org/event/plc-quilters-meeting-in-the-gallery/2025-10-21/
CATEGORIES:Meetings/Gatherings
END:VEVENT
BEGIN:VEVENT
DTSTART;TZID=America/Chicago:20251021T070000
DTEND;TZID=America/Chicago:20251021T153000
DTSTAMP:20260419T221138
CREATED:20250709T173817Z
LAST-MODIFIED:20250709T173817Z
UID:10001766-1761030000-1761060600@explorepeace.org
SUMMARY:Preschool & 4K
DESCRIPTION:
URL:https://explorepeace.org/event/preschool-4k-26/2025-10-21/
CATEGORIES:Preschool
END:VEVENT
BEGIN:VEVENT
DTSTART;TZID=America/Chicago:20251020T070000
DTEND;TZID=America/Chicago:20251020T153000
DTSTAMP:20260419T221138
CREATED:20250709T192801Z
LAST-MODIFIED:20250709T192801Z
UID:10001889-1760943600-1760974200@explorepeace.org
SUMMARY:Preschool & 4K
DESCRIPTION:
URL:https://explorepeace.org/event/preschool-4k-30/2025-10-20/
CATEGORIES:Preschool
END:VEVENT
BEGIN:VEVENT
DTSTART;TZID=America/Chicago:20251019T100000
DTEND;TZID=America/Chicago:20251019T110000
DTSTAMP:20260419T221138
CREATED:20250109T230418Z
LAST-MODIFIED:20250109T230418Z
UID:10001368-1760868000-1760871600@explorepeace.org
SUMMARY:Coffee\, Donuts & Fellowship
DESCRIPTION:
URL:https://explorepeace.org/event/coffee-donuts-fellowship/2025-10-19/
CATEGORIES:Meetings/Gatherings
END:VEVENT
BEGIN:VEVENT
DTSTART;TZID=America/Chicago:20251019T090000
DTEND;TZID=America/Chicago:20251019T100000
DTSTAMP:20260419T221138
CREATED:20250109T225919Z
LAST-MODIFIED:20250109T225919Z
UID:10001304-1760864400-1760868000@explorepeace.org
SUMMARY:Sunday morning Worship
DESCRIPTION:
URL:https://explorepeace.org/event/sunday-morning-worship/2025-10-19/
CATEGORIES:Worship
END:VEVENT
BEGIN:VEVENT
DTSTART;TZID=America/Chicago:20251019T090000
DTEND;TZID=America/Chicago:20251019T094500
DTSTAMP:20260419T221138
CREATED:20250709T180921Z
LAST-MODIFIED:20251007T201827Z
UID:10001849-1760864400-1760867100@explorepeace.org
SUMMARY:KiX (Kids in Christ) aka Sunday School
DESCRIPTION:Engaging faith formation class where children ages 3 through grade 4 explore hands-on projects and engage in various experiences to learn about Jesus and important stores of the Bible. Let’s meet in the Friendship Room!
URL:https://explorepeace.org/event/kix-kids-in-christ-aka-sunday-school/2025-10-19/
CATEGORIES:Youth
END:VEVENT
BEGIN:VEVENT
DTSTART;TZID=America/Chicago:20251017T070000
DTEND;TZID=America/Chicago:20251017T143000
DTSTAMP:20260419T221138
CREATED:20250709T185134Z
LAST-MODIFIED:20250709T185134Z
UID:10001868-1760684400-1760711400@explorepeace.org
SUMMARY:School Closed
DESCRIPTION:
URL:https://explorepeace.org/event/school-closed/2025-10-17/
CATEGORIES:Preschool
END:VEVENT
BEGIN:VEVENT
DTSTART;TZID=America/Chicago:20251016T100000
DTEND;TZID=America/Chicago:20251016T113000
DTSTAMP:20260419T221138
CREATED:20250709T174759Z
LAST-MODIFIED:20250910T192903Z
UID:10001838-1760608800-1760614200@explorepeace.org
SUMMARY:Walking By Faith (with Pastor Doug)
DESCRIPTION:…. weather permitting!
URL:https://explorepeace.org/event/walking-by-faith-with-pastor-doug-3/2025-10-16/
CATEGORIES:Meetings/Gatherings
END:VEVENT
BEGIN:VEVENT
DTSTART;TZID=America/Chicago:20251016T090000
DTEND;TZID=America/Chicago:20251016T100000
DTSTAMP:20260419T221138
CREATED:20250709T174610Z
LAST-MODIFIED:20251120T191256Z
UID:10001823-1760605200-1760608800@explorepeace.org
SUMMARY:Coffee & Chocolate Bible Study (meet in Fireside Room)
DESCRIPTION:Coffee and Chocolate is a group that meets each week to contemplate and discuss the Revised Common Lectionary texts alongside the current world news. It is always a deep and lively conversation … and the chocolate and coffee are an added bonus. Meet in the Fireside Room with Pastor Doug.
URL:https://explorepeace.org/event/coffee-chocolate-bible-study-with-pastor-doug-meeting-in-fireside-room/2025-10-16/
CATEGORIES:Meetings/Gatherings
END:VEVENT
BEGIN:VEVENT
DTSTART;TZID=America/Chicago:20251016T070000
DTEND;TZID=America/Chicago:20251016T153000
DTSTAMP:20260419T221138
CREATED:20250709T174159Z
LAST-MODIFIED:20250709T174159Z
UID:10001796-1760598000-1760628600@explorepeace.org
SUMMARY:Preschool & 4K
DESCRIPTION:
URL:https://explorepeace.org/event/preschool-4k-28/2025-10-16/
CATEGORIES:Preschool
END:VEVENT
BEGIN:VEVENT
DTSTART;TZID=America/Chicago:20251015T181500
DTEND;TZID=America/Chicago:20251015T190000
DTSTAMP:20260419T221138
CREATED:20251007T204245Z
LAST-MODIFIED:20251007T204245Z
UID:10002000-1760552100-1760554800@explorepeace.org
SUMMARY:Forum: Who is Jesus?
DESCRIPTION:As Christians\, aren’t we supposed to know? And yet\, today’s culture holds many misunderstandings about who Jesus is…how He relates to us…and what He wants from us. This new Wednesday night series with Pastor Karen invites you to learn\, discuss\, and discern together as we let the Gospels guide our understanding.\nOnce a month on Wed. at 6:15PM \nEach session begins with a 15–20 minute introduction by Pastor Karen\, followed by Scripture-based discussion and questions. Come to every session—or simply the ones that fit your schedule.\nUpcoming topics:\nOctober 15 – Who is Jesus?: As a part of the Triune God\nNovember 5 – Who is Jesus?: The Beginning of the Story of Jesus…\nDecember 3 – Who is Jesus?: The Infant as the Incarnate Nature of God\nLooking ahead in 2026:\nJanuary: The Human—Child\, Adolescent\, Adult\nFebruary: The Transforming Nature of Jesus’ Work\nMarch: The Advocate\, The Leader\, The Messiah\nApril: The Risen Savior \nCome ready to explore\, question\, and deepen your faith.
URL:https://explorepeace.org/event/forum-who-is-jesus/2025-10-15/
CATEGORIES:Meetings/Gatherings
END:VEVENT
BEGIN:VEVENT
DTSTART;TZID=America/Chicago:20251015T181500
DTEND;TZID=America/Chicago:20251015T190000
DTSTAMP:20260419T221138
CREATED:20251007T201321Z
LAST-MODIFIED:20251007T201321Z
UID:10001955-1760552100-1760554800@explorepeace.org
SUMMARY:KiX (Kids in Christ) - meet in the Friendship Room
DESCRIPTION:Engaging faith formation class where children ages 3 through grade 4 explore hands-on projects and engage in various experiences to learn about Jesus and important stores of the Bible.
URL:https://explorepeace.org/event/kix-kids-in-christ-meet-in-the-friendship-room/2025-10-15/
CATEGORIES:Youth
END:VEVENT
BEGIN:VEVENT
DTSTART;TZID=America/Chicago:20251015T173000
DTEND;TZID=America/Chicago:20251015T181500
DTSTAMP:20260419T221138
CREATED:20251007T200850Z
LAST-MODIFIED:20251007T202154Z
UID:10001974-1760549400-1760552100@explorepeace.org
SUMMARY:Chapel Chimes (4th - 6th graders)
DESCRIPTION:A youth hand chime group for children in 4th through 6th grade that performs at Wednesday worship services and occasionally at scheduled Sunday worship services and the Variety Show. Meet in the Music Room with Sherry Johnson\, Chapel Chimes Director
URL:https://explorepeace.org/event/chapel-chimes-4th-6th-graders/2025-10-15/
CATEGORIES:Music,Youth
END:VEVENT
BEGIN:VEVENT
DTSTART;TZID=America/Chicago:20251015T170000
DTEND;TZID=America/Chicago:20251015T181500
DTSTAMP:20260419T221138
CREATED:20251007T204624Z
LAST-MODIFIED:20251007T204624Z
UID:10002004-1760547600-1760552100@explorepeace.org
SUMMARY:Common Table Cafe (meal in the Gallery)
DESCRIPTION:Everyone’s welcome!
URL:https://explorepeace.org/event/common-table-cafe-meal-in-the-gallery-2/2025-10-15/
CATEGORIES:Meetings/Gatherings
END:VEVENT
BEGIN:VEVENT
DTSTART;TZID=America/Chicago:20251015T170000
DTEND;TZID=America/Chicago:20251015T173000
DTSTAMP:20260419T221138
CREATED:20251007T203303Z
LAST-MODIFIED:20251007T203303Z
UID:10001992-1760547600-1760549400@explorepeace.org
SUMMARY:Joyful Noise children's choir (meet in the Music Room)
DESCRIPTION:A young vocal choir for children ages 3 through 2nd grade. Interactive and lively songs are performed on occasionally scheduled Sundays\, seasonal worship services and at the Variety Show. Come and sing with Megan Tatzel\, Joyful Noise Director!
URL:https://explorepeace.org/event/joyful-noise-childrens-choir-meet-in-the-music-room/2025-10-15/
CATEGORIES:Music,Youth
END:VEVENT
BEGIN:VEVENT
DTSTART;TZID=America/Chicago:20251015T160000
DTEND;TZID=America/Chicago:20251015T170000
DTSTAMP:20260419T221138
CREATED:20251007T200125Z
LAST-MODIFIED:20251007T202453Z
UID:10001983-1760544000-1760547600@explorepeace.org
SUMMARY:Route 567 (5th - 7th graders)
DESCRIPTION:A place for intermediate/middle school students grades 5th – 7th grade to continue to learn and grow in faith. Meet on Wednesdays from 4-5pm during the school year.
URL:https://explorepeace.org/event/route-567-5th-7th-graders/2025-10-15/
CATEGORIES:Youth
END:VEVENT
BEGIN:VEVENT
DTSTART;TZID=America/Chicago:20251015T070000
DTEND;TZID=America/Chicago:20251015T153000
DTSTAMP:20260419T221138
CREATED:20250709T173946Z
LAST-MODIFIED:20250709T173946Z
UID:10001781-1760511600-1760542200@explorepeace.org
SUMMARY:Preschool & 4K
DESCRIPTION:
URL:https://explorepeace.org/event/preschool-4k-27/2025-10-15/
CATEGORIES:Preschool
END:VEVENT
BEGIN:VEVENT
DTSTART;TZID=America/Chicago:20251014T070000
DTEND;TZID=America/Chicago:20251014T153000
DTSTAMP:20260419T221138
CREATED:20250709T173817Z
LAST-MODIFIED:20250709T173817Z
UID:10001765-1760425200-1760455800@explorepeace.org
SUMMARY:Preschool & 4K
DESCRIPTION:
URL:https://explorepeace.org/event/preschool-4k-26/2025-10-14/
CATEGORIES:Preschool
END:VEVENT
BEGIN:VEVENT
DTSTART;TZID=America/Chicago:20251013T070000
DTEND;TZID=America/Chicago:20251013T153000
DTSTAMP:20260419T221138
CREATED:20250709T192801Z
LAST-MODIFIED:20250709T192801Z
UID:10001888-1760338800-1760369400@explorepeace.org
SUMMARY:Preschool & 4K
DESCRIPTION:
URL:https://explorepeace.org/event/preschool-4k-30/2025-10-13/
CATEGORIES:Preschool
END:VEVENT
BEGIN:VEVENT
DTSTART;TZID=America/Chicago:20251012T180000
DTEND;TZID=America/Chicago:20251012T190000
DTSTAMP:20260419T221138
CREATED:20251007T195751Z
LAST-MODIFIED:20251007T195751Z
UID:10001914-1760292000-1760295600@explorepeace.org
SUMMARY:Radical Ringers handbell rehearsal (7th - 12th graders)
DESCRIPTION:A middle and high school handbell group that performs 6-7 times/year at Sunday worship and the Variety Show!  Sunday evening rehearsals from 6-7pm. Come join in the fun of ringing! Jan Rutkowski\, RR Director
URL:https://explorepeace.org/event/radical-ringers-handbell-rehearsal-7th-12th-graders-2/2025-10-12/
CATEGORIES:Music,Youth
END:VEVENT
BEGIN:VEVENT
DTSTART;TZID=America/Chicago:20251012T100000
DTEND;TZID=America/Chicago:20251012T110000
DTSTAMP:20260419T221138
CREATED:20250109T230418Z
LAST-MODIFIED:20250109T230418Z
UID:10001367-1760263200-1760266800@explorepeace.org
SUMMARY:Coffee\, Donuts & Fellowship
DESCRIPTION:
URL:https://explorepeace.org/event/coffee-donuts-fellowship/2025-10-12/
CATEGORIES:Meetings/Gatherings
END:VEVENT
BEGIN:VEVENT
DTSTART;TZID=America/Chicago:20251012T090000
DTEND;TZID=America/Chicago:20251012T100000
DTSTAMP:20260419T221138
CREATED:20250109T225919Z
LAST-MODIFIED:20250109T225919Z
UID:10001303-1760259600-1760263200@explorepeace.org
SUMMARY:Sunday morning Worship
DESCRIPTION:
URL:https://explorepeace.org/event/sunday-morning-worship/2025-10-12/
CATEGORIES:Worship
END:VEVENT
BEGIN:VEVENT
DTSTART;TZID=America/Chicago:20251012T090000
DTEND;TZID=America/Chicago:20251012T094500
DTSTAMP:20260419T221138
CREATED:20250709T180921Z
LAST-MODIFIED:20251007T201827Z
UID:10001848-1760259600-1760262300@explorepeace.org
SUMMARY:KiX (Kids in Christ) aka Sunday School
DESCRIPTION:Engaging faith formation class where children ages 3 through grade 4 explore hands-on projects and engage in various experiences to learn about Jesus and important stores of the Bible. Let’s meet in the Friendship Room!
URL:https://explorepeace.org/event/kix-kids-in-christ-aka-sunday-school/2025-10-12/
CATEGORIES:Youth
END:VEVENT
BEGIN:VEVENT
DTSTART;TZID=America/Chicago:20251010T070000
DTEND;TZID=America/Chicago:20251010T143000
DTSTAMP:20260419T221138
CREATED:20250709T174350Z
LAST-MODIFIED:20250709T174350Z
UID:10001809-1760079600-1760106600@explorepeace.org
SUMMARY:Preschool & 4K
DESCRIPTION:
URL:https://explorepeace.org/event/preschool-4k-29/2025-10-10/
CATEGORIES:Preschool
END:VEVENT
BEGIN:VEVENT
DTSTART;TZID=America/Chicago:20251009T100000
DTEND;TZID=America/Chicago:20251009T113000
DTSTAMP:20260419T221138
CREATED:20250709T174759Z
LAST-MODIFIED:20250910T192903Z
UID:10001837-1760004000-1760009400@explorepeace.org
SUMMARY:Walking By Faith (with Pastor Doug)
DESCRIPTION:…. weather permitting!
URL:https://explorepeace.org/event/walking-by-faith-with-pastor-doug-3/2025-10-09/
CATEGORIES:Meetings/Gatherings
END:VEVENT
BEGIN:VEVENT
DTSTART;TZID=America/Chicago:20251009T090000
DTEND;TZID=America/Chicago:20251009T100000
DTSTAMP:20260419T221138
CREATED:20250709T174610Z
LAST-MODIFIED:20251120T191256Z
UID:10001822-1760000400-1760004000@explorepeace.org
SUMMARY:Coffee & Chocolate Bible Study (meet in Fireside Room)
DESCRIPTION:Coffee and Chocolate is a group that meets each week to contemplate and discuss the Revised Common Lectionary texts alongside the current world news. It is always a deep and lively conversation … and the chocolate and coffee are an added bonus. Meet in the Fireside Room with Pastor Doug.
URL:https://explorepeace.org/event/coffee-chocolate-bible-study-with-pastor-doug-meeting-in-fireside-room/2025-10-09/
CATEGORIES:Meetings/Gatherings
END:VEVENT
BEGIN:VEVENT
DTSTART;TZID=America/Chicago:20251009T070000
DTEND;TZID=America/Chicago:20251009T153000
DTSTAMP:20260419T221138
CREATED:20250709T174159Z
LAST-MODIFIED:20250709T174159Z
UID:10001795-1759993200-1760023800@explorepeace.org
SUMMARY:Preschool & 4K
DESCRIPTION:
URL:https://explorepeace.org/event/preschool-4k-28/2025-10-09/
CATEGORIES:Preschool
END:VEVENT
BEGIN:VEVENT
DTSTART;TZID=America/Chicago:20251008T182000
DTEND;TZID=America/Chicago:20251008T190000
DTSTAMP:20260419T221138
CREATED:20251008T150907Z
LAST-MODIFIED:20251008T151711Z
UID:10002075-1759947600-1759950000@explorepeace.org
SUMMARY:Wednesday Worship
DESCRIPTION:Roxy and Alan Fauque (Sax and Piano duo) will be leading a contemporary music worship!
URL:https://explorepeace.org/event/wednesday-worship-7/
CATEGORIES:Worship
END:VEVENT
BEGIN:VEVENT
DTSTART;TZID=America/Chicago:20251008T181500
DTEND;TZID=America/Chicago:20251008T190000
DTSTAMP:20260419T221138
CREATED:20251007T201321Z
LAST-MODIFIED:20251007T201321Z
UID:10001954-1759947300-1759950000@explorepeace.org
SUMMARY:KiX (Kids in Christ) - meet in the Friendship Room
DESCRIPTION:Engaging faith formation class where children ages 3 through grade 4 explore hands-on projects and engage in various experiences to learn about Jesus and important stores of the Bible.
URL:https://explorepeace.org/event/kix-kids-in-christ-meet-in-the-friendship-room/2025-10-08/
CATEGORIES:Youth
END:VEVENT
BEGIN:VEVENT
DTSTART;TZID=America/Chicago:20251008T173000
DTEND;TZID=America/Chicago:20251008T181500
DTSTAMP:20260419T221138
CREATED:20251007T200850Z
LAST-MODIFIED:20251007T202154Z
UID:10001973-1759944600-1759947300@explorepeace.org
SUMMARY:Chapel Chimes (4th - 6th graders)
DESCRIPTION:A youth hand chime group for children in 4th through 6th grade that performs at Wednesday worship services and occasionally at scheduled Sunday worship services and the Variety Show. Meet in the Music Room with Sherry Johnson\, Chapel Chimes Director
URL:https://explorepeace.org/event/chapel-chimes-4th-6th-graders/2025-10-08/
CATEGORIES:Music,Youth
END:VEVENT
END:VCALENDAR