BEGIN:VCALENDAR
VERSION:2.0
PRODID:-//Peace Lutheran Church | Experience Christ. Explore Peace. - ECPv6.15.20//NONSGML v1.0//EN
CALSCALE:GREGORIAN
METHOD:PUBLISH
X-WR-CALNAME:Peace Lutheran Church | Experience Christ. Explore Peace.
X-ORIGINAL-URL:https://explorepeace.org
X-WR-CALDESC:Events for Peace Lutheran Church | Experience Christ. Explore Peace.
REFRESH-INTERVAL;VALUE=DURATION:PT1H
X-Robots-Tag:noindex
X-PUBLISHED-TTL:PT1H
BEGIN:VTIMEZONE
TZID:America/Chicago
BEGIN:DAYLIGHT
TZOFFSETFROM:-0600
TZOFFSETTO:-0500
TZNAME:CDT
DTSTART:20230312T080000
END:DAYLIGHT
BEGIN:STANDARD
TZOFFSETFROM:-0500
TZOFFSETTO:-0600
TZNAME:CST
DTSTART:20231105T070000
END:STANDARD
BEGIN:DAYLIGHT
TZOFFSETFROM:-0600
TZOFFSETTO:-0500
TZNAME:CDT
DTSTART:20240310T080000
END:DAYLIGHT
BEGIN:STANDARD
TZOFFSETFROM:-0500
TZOFFSETTO:-0600
TZNAME:CST
DTSTART:20241103T070000
END:STANDARD
BEGIN:DAYLIGHT
TZOFFSETFROM:-0600
TZOFFSETTO:-0500
TZNAME:CDT
DTSTART:20250309T080000
END:DAYLIGHT
BEGIN:STANDARD
TZOFFSETFROM:-0500
TZOFFSETTO:-0600
TZNAME:CST
DTSTART:20251102T070000
END:STANDARD
END:VTIMEZONE
BEGIN:VEVENT
DTSTART;TZID=America/Chicago:20240418T090000
DTEND;TZID=America/Chicago:20240418T100000
DTSTAMP:20260425T195559
CREATED:20240124T190742Z
LAST-MODIFIED:20240124T190742Z
UID:10000330-1713430800-1713434400@explorepeace.org
SUMMARY:Coffee & Chocolate with Pastor Doug (Fireside Room)
DESCRIPTION:
URL:https://explorepeace.org/event/coffee-chocolate-with-pastor-doug-fireside-room-2/2024-04-18/
CATEGORIES:Meetings/Gatherings
END:VEVENT
BEGIN:VEVENT
DTSTART;TZID=America/Chicago:20240418T070000
DTEND;TZID=America/Chicago:20240418T153000
DTSTAMP:20260425T195600
CREATED:20240124T185226Z
LAST-MODIFIED:20240124T185226Z
UID:10000286-1713423600-1713454200@explorepeace.org
SUMMARY:Preschool & 4K
DESCRIPTION:
URL:https://explorepeace.org/event/preschool-4k-12/2024-04-18/
CATEGORIES:Preschool
END:VEVENT
BEGIN:VEVENT
DTSTART;TZID=America/Chicago:20240417T181500
DTEND;TZID=America/Chicago:20240417T190000
DTSTAMP:20260425T195600
CREATED:20240404T190430Z
LAST-MODIFIED:20240404T190430Z
UID:10000451-1713377700-1713380400@explorepeace.org
SUMMARY:Wednesday Worship
DESCRIPTION:
URL:https://explorepeace.org/event/wednesday-worship-3/2024-04-17/
CATEGORIES:Worship
END:VEVENT
BEGIN:VEVENT
DTSTART;TZID=America/Chicago:20240417T181500
DTEND;TZID=America/Chicago:20240417T190000
DTSTAMP:20260425T195600
CREATED:20240124T190348Z
LAST-MODIFIED:20240124T190348Z
UID:10000318-1713377700-1713380400@explorepeace.org
SUMMARY:KiX (Kids in Christ) for 3 yr olds-4th graders
DESCRIPTION:
URL:https://explorepeace.org/event/kix-kids-in-christ-for-3-yr-olds-4th-graders/2024-04-17/
CATEGORIES:Youth
END:VEVENT
BEGIN:VEVENT
DTSTART;TZID=America/Chicago:20240417T171500
DTEND;TZID=America/Chicago:20240417T180000
DTSTAMP:20260425T195600
CREATED:20240124T185747Z
LAST-MODIFIED:20240124T185747Z
UID:10000310-1713374100-1713376800@explorepeace.org
SUMMARY:Chapel Chimes rehearsal (4th-6th graders)
DESCRIPTION:Sherry Johnson is the Chapel Chimes Director
URL:https://explorepeace.org/event/chapel-chimes-rehearsal-4th-6th-graders/2024-04-17/
CATEGORIES:Music,Youth
END:VEVENT
BEGIN:VEVENT
DTSTART;TZID=America/Chicago:20240417T170000
DTEND;TZID=America/Chicago:20240417T181500
DTSTAMP:20260425T195600
CREATED:20240201T195253Z
LAST-MODIFIED:20240201T195253Z
UID:10000409-1713373200-1713377700@explorepeace.org
SUMMARY:Common Table Café
DESCRIPTION:Practicing the essence of GRACE each week\, the CTC strives to provide busy people with healthy\, delicious food and experience of renewal mid week. All the food is free. Donors provide us with the staples and volunteer chefs cook the meals. Our goal is to provide wonderful meals – filled with good wholesome ingredients – that fill our bodies and souls with all that we need to be whole again. \nWednesdays from 5:00 – 6:15 PM during the academic year. \nWe practice generosity by sharing whatever we have to offer in a free will basket that is designated for an outreach ministry in our community or greater world. It is not about paying for food or any other costs associated with the Common Table Café. It is the kind of grace we can pass along to others on the days that we have something good to add to the greater goodness of the world beyond ourselves.
URL:https://explorepeace.org/event/common-table-cafe/2024-04-17/
CATEGORIES:Meetings/Gatherings
END:VEVENT
BEGIN:VEVENT
DTSTART;TZID=America/Chicago:20240417T164500
DTEND;TZID=America/Chicago:20240417T171500
DTSTAMP:20260425T195600
CREATED:20240313T154645Z
LAST-MODIFIED:20240313T154645Z
UID:10000436-1713372300-1713374100@explorepeace.org
SUMMARY:Joyful Noise (4K - 1 grade)
DESCRIPTION:Children will learn basic vocal skills and have fun singing songs\, learning actions and playing games that will encourage a love for music!  Let’s meet in the Music Room!  Melissa Hathaway\, Director \n 
URL:https://explorepeace.org/event/joyful-noise-4k-1-grade/2024-04-17/
CATEGORIES:Music,Youth
END:VEVENT
BEGIN:VEVENT
DTSTART;TZID=America/Chicago:20240417T161500
DTEND;TZID=America/Chicago:20240417T171500
DTSTAMP:20260425T195600
CREATED:20240124T185542Z
LAST-MODIFIED:20240124T185542Z
UID:10000306-1713370500-1713374100@explorepeace.org
SUMMARY:Route 56 (5th and 6th graders)
DESCRIPTION:
URL:https://explorepeace.org/event/route-56-5th-and-6th-graders/2024-04-17/
CATEGORIES:Youth
END:VEVENT
BEGIN:VEVENT
DTSTART;TZID=America/Chicago:20240417T160000
DTEND;TZID=America/Chicago:20240417T163000
DTSTAMP:20260425T195600
CREATED:20240313T155722Z
LAST-MODIFIED:20240313T155722Z
UID:10000443-1713369600-1713371400@explorepeace.org
SUMMARY:SonShiners (2nd grade - 4th grade)
DESCRIPTION:Children will continue to learn vocal skills and warm ups\, while having fun learning songs\, actions\, playing simple instruments\, and learn basic performance etiquette to encourage confidence!  Let’s meet in the Music Room!  Melissa Hathaway\, Director
URL:https://explorepeace.org/event/sonshiners-2nd-grade-4th-grade/2024-04-17/
CATEGORIES:Music,Youth
END:VEVENT
BEGIN:VEVENT
DTSTART;TZID=America/Chicago:20240417T090000
DTEND;TZID=America/Chicago:20240417T170000
DTSTAMP:20260425T195600
CREATED:20240116T200856Z
LAST-MODIFIED:20240116T200856Z
UID:10000082-1713344400-1713373200@explorepeace.org
SUMMARY:Church Office Hours (Wednesdays  9AM - 5PM)
DESCRIPTION:
URL:https://explorepeace.org/event/church-office-hours-wednesdays-9am-5pm/2024-04-17/
END:VEVENT
BEGIN:VEVENT
DTSTART;TZID=America/Chicago:20240417T070000
DTEND;TZID=America/Chicago:20240417T153000
DTSTAMP:20260425T195600
CREATED:20240124T185129Z
LAST-MODIFIED:20240124T185129Z
UID:10000276-1713337200-1713367800@explorepeace.org
SUMMARY:Preschool & 4K
DESCRIPTION:
URL:https://explorepeace.org/event/preschool-4k-11/2024-04-17/
CATEGORIES:Preschool
END:VEVENT
BEGIN:VEVENT
DTSTART;TZID=America/Chicago:20240416T090000
DTEND;TZID=America/Chicago:20240416T150000
DTSTAMP:20260425T195600
CREATED:20240116T200720Z
LAST-MODIFIED:20240116T200720Z
UID:10000062-1713258000-1713279600@explorepeace.org
SUMMARY:Church Office Hours (Tuesdays  9AM-3PM)
DESCRIPTION:
URL:https://explorepeace.org/event/church-office-hours-tuesdays-9am-3pm/2024-04-16/
END:VEVENT
BEGIN:VEVENT
DTSTART;TZID=America/Chicago:20240416T090000
DTEND;TZID=America/Chicago:20240416T120000
DTSTAMP:20260425T195600
CREATED:20240411T144322Z
LAST-MODIFIED:20240411T144322Z
UID:10000453-1713258000-1713268800@explorepeace.org
SUMMARY:PLC Quilters (meet in Fellowship Hall)
DESCRIPTION:
URL:https://explorepeace.org/event/plc-quilters-meet-in-fellowship-hall/
CATEGORIES:Meetings/Gatherings
END:VEVENT
BEGIN:VEVENT
DTSTART;TZID=America/Chicago:20240416T070000
DTEND;TZID=America/Chicago:20240416T153000
DTSTAMP:20260425T195600
CREATED:20240124T185034Z
LAST-MODIFIED:20240124T185034Z
UID:10000266-1713250800-1713281400@explorepeace.org
SUMMARY:Preschool & 4K
DESCRIPTION:
URL:https://explorepeace.org/event/preschool-4k-10/2024-04-16/
CATEGORIES:Preschool
END:VEVENT
BEGIN:VEVENT
DTSTART;TZID=America/Chicago:20240415T070000
DTEND;TZID=America/Chicago:20240415T153000
DTSTAMP:20260425T195600
CREATED:20240124T184246Z
LAST-MODIFIED:20240124T184246Z
UID:10000256-1713164400-1713195000@explorepeace.org
SUMMARY:Preschool & 4K
DESCRIPTION:
URL:https://explorepeace.org/event/preschool-4k-8/2024-04-15/
CATEGORIES:Preschool
END:VEVENT
BEGIN:VEVENT
DTSTART;TZID=America/Chicago:20240414T180000
DTEND;TZID=America/Chicago:20240414T190000
DTSTAMP:20260425T195600
CREATED:20240306T205159Z
LAST-MODIFIED:20240306T205159Z
UID:10000431-1713117600-1713121200@explorepeace.org
SUMMARY:Radical Ringers handbell rehearsal (7th-12th graders)
DESCRIPTION:
URL:https://explorepeace.org/event/radical-ringers-handbell-rehearsal-7th-12th-graders/2024-04-14/
CATEGORIES:Music,Youth
END:VEVENT
BEGIN:VEVENT
DTSTART;TZID=America/Chicago:20240414T103000
DTEND;TZID=America/Chicago:20240414T113000
DTSTAMP:20260425T195600
CREATED:20240403T174941Z
LAST-MODIFIED:20240403T174941Z
UID:10000448-1713090600-1713094200@explorepeace.org
SUMMARY:Communicating and Relating in the Family Life Cycle Free Seminar
DESCRIPTION:Amanda Weigel-Kuznacic\, Licensed Psychologist and a member of Peace will do a presentation on Sunday\, April 14 from 10:30-11:30 on family communications. The focus will be on the family life span\, multi-generational change (in families) and healthy communication in relationships. This is free and open to everyone. It is a wonderful opportunity to learn about improving the communication avenues and habits of our family dynamics.
URL:https://explorepeace.org/event/communicating-and-relating-in-the-family-life-cycle-free-seminar/
CATEGORIES:Meetings/Gatherings
END:VEVENT
BEGIN:VEVENT
DTSTART;TZID=America/Chicago:20240414T100000
DTEND;TZID=America/Chicago:20240414T110000
DTSTAMP:20260425T195600
CREATED:20240124T191436Z
LAST-MODIFIED:20240124T191436Z
UID:10000337-1713088800-1713092400@explorepeace.org
SUMMARY:Peace Choir rehearsal
DESCRIPTION:Jerry Johnson is the Peace Choir Director.  Rehearsing in the Music Room.
URL:https://explorepeace.org/event/peace-choir-rehearsal-2/2024-04-14/
CATEGORIES:Music
END:VEVENT
BEGIN:VEVENT
DTSTART;TZID=America/Chicago:20240414T090000
DTEND;TZID=America/Chicago:20240414T100000
DTSTAMP:20260425T195600
CREATED:20240124T175300Z
LAST-MODIFIED:20240124T175300Z
UID:10000234-1713085200-1713088800@explorepeace.org
SUMMARY:Sunday Worship with Holy Communion
DESCRIPTION:
URL:https://explorepeace.org/event/sunday-worship-with-holy-communion-2/2024-04-14/
CATEGORIES:Worship
END:VEVENT
BEGIN:VEVENT
DTSTART;TZID=America/Chicago:20240414T090000
DTEND;TZID=America/Chicago:20240414T094500
DTSTAMP:20260425T195600
CREATED:20240124T191232Z
LAST-MODIFIED:20240124T191232Z
UID:10000333-1713085200-1713087900@explorepeace.org
SUMMARY:KiX (Kids in Christ) 3 yr olds - 4th graders
DESCRIPTION:
URL:https://explorepeace.org/event/kix-kids-in-christ-3-yr-olds-4th-graders/2024-04-14/
CATEGORIES:Youth
END:VEVENT
BEGIN:VEVENT
DTSTART;TZID=America/Chicago:20240412T070000
DTEND;TZID=America/Chicago:20240412T143000
DTSTAMP:20260425T195600
CREATED:20240124T185329Z
LAST-MODIFIED:20240514T153520Z
UID:10000295-1712905200-1712932200@explorepeace.org
SUMMARY:Preschool & 4K
DESCRIPTION:
URL:https://explorepeace.org/event/preschool-4k-13/2024-04-12/
CATEGORIES:Preschool
END:VEVENT
BEGIN:VEVENT
DTSTART;TZID=America/Chicago:20240411T090000
DTEND;TZID=America/Chicago:20240411T150000
DTSTAMP:20260425T195600
CREATED:20240116T201002Z
LAST-MODIFIED:20240116T201002Z
UID:10000101-1712826000-1712847600@explorepeace.org
SUMMARY:Church Office Hours (Thursdays  9AM - 3PM)
DESCRIPTION:
URL:https://explorepeace.org/event/church-office-hours-thursdays-9am-3pm/2024-04-11/
END:VEVENT
BEGIN:VEVENT
DTSTART;TZID=America/Chicago:20240411T090000
DTEND;TZID=America/Chicago:20240411T100000
DTSTAMP:20260425T195600
CREATED:20240124T190742Z
LAST-MODIFIED:20240124T190742Z
UID:10000329-1712826000-1712829600@explorepeace.org
SUMMARY:Coffee & Chocolate with Pastor Doug (Fireside Room)
DESCRIPTION:
URL:https://explorepeace.org/event/coffee-chocolate-with-pastor-doug-fireside-room-2/2024-04-11/
CATEGORIES:Meetings/Gatherings
END:VEVENT
BEGIN:VEVENT
DTSTART;TZID=America/Chicago:20240411T070000
DTEND;TZID=America/Chicago:20240411T153000
DTSTAMP:20260425T195600
CREATED:20240124T185226Z
LAST-MODIFIED:20240124T185226Z
UID:10000285-1712818800-1712849400@explorepeace.org
SUMMARY:Preschool & 4K
DESCRIPTION:
URL:https://explorepeace.org/event/preschool-4k-12/2024-04-11/
CATEGORIES:Preschool
END:VEVENT
BEGIN:VEVENT
DTSTART;TZID=America/Chicago:20240410T181500
DTEND;TZID=America/Chicago:20240410T190000
DTSTAMP:20260425T195600
CREATED:20240404T190430Z
LAST-MODIFIED:20240404T190430Z
UID:10000450-1712772900-1712775600@explorepeace.org
SUMMARY:Wednesday Worship
DESCRIPTION:
URL:https://explorepeace.org/event/wednesday-worship-3/2024-04-10/
CATEGORIES:Worship
END:VEVENT
BEGIN:VEVENT
DTSTART;TZID=America/Chicago:20240410T181500
DTEND;TZID=America/Chicago:20240410T190000
DTSTAMP:20260425T195600
CREATED:20240124T190348Z
LAST-MODIFIED:20240124T190348Z
UID:10000317-1712772900-1712775600@explorepeace.org
SUMMARY:KiX (Kids in Christ) for 3 yr olds-4th graders
DESCRIPTION:
URL:https://explorepeace.org/event/kix-kids-in-christ-for-3-yr-olds-4th-graders/2024-04-10/
CATEGORIES:Youth
END:VEVENT
BEGIN:VEVENT
DTSTART;TZID=America/Chicago:20240410T171500
DTEND;TZID=America/Chicago:20240410T180000
DTSTAMP:20260425T195600
CREATED:20240124T185747Z
LAST-MODIFIED:20240124T185747Z
UID:10000309-1712769300-1712772000@explorepeace.org
SUMMARY:Chapel Chimes rehearsal (4th-6th graders)
DESCRIPTION:Sherry Johnson is the Chapel Chimes Director
URL:https://explorepeace.org/event/chapel-chimes-rehearsal-4th-6th-graders/2024-04-10/
CATEGORIES:Music,Youth
END:VEVENT
BEGIN:VEVENT
DTSTART;TZID=America/Chicago:20240410T170000
DTEND;TZID=America/Chicago:20240410T181500
DTSTAMP:20260425T195600
CREATED:20240201T195253Z
LAST-MODIFIED:20240201T195253Z
UID:10000408-1712768400-1712772900@explorepeace.org
SUMMARY:Common Table Café
DESCRIPTION:Practicing the essence of GRACE each week\, the CTC strives to provide busy people with healthy\, delicious food and experience of renewal mid week. All the food is free. Donors provide us with the staples and volunteer chefs cook the meals. Our goal is to provide wonderful meals – filled with good wholesome ingredients – that fill our bodies and souls with all that we need to be whole again. \nWednesdays from 5:00 – 6:15 PM during the academic year. \nWe practice generosity by sharing whatever we have to offer in a free will basket that is designated for an outreach ministry in our community or greater world. It is not about paying for food or any other costs associated with the Common Table Café. It is the kind of grace we can pass along to others on the days that we have something good to add to the greater goodness of the world beyond ourselves.
URL:https://explorepeace.org/event/common-table-cafe/2024-04-10/
CATEGORIES:Meetings/Gatherings
END:VEVENT
BEGIN:VEVENT
DTSTART;TZID=America/Chicago:20240410T164500
DTEND;TZID=America/Chicago:20240410T171500
DTSTAMP:20260425T195600
CREATED:20240313T154645Z
LAST-MODIFIED:20240313T154645Z
UID:10000435-1712767500-1712769300@explorepeace.org
SUMMARY:Joyful Noise (4K - 1 grade)
DESCRIPTION:Children will learn basic vocal skills and have fun singing songs\, learning actions and playing games that will encourage a love for music!  Let’s meet in the Music Room!  Melissa Hathaway\, Director \n 
URL:https://explorepeace.org/event/joyful-noise-4k-1-grade/2024-04-10/
CATEGORIES:Music,Youth
END:VEVENT
BEGIN:VEVENT
DTSTART;TZID=America/Chicago:20240410T161500
DTEND;TZID=America/Chicago:20240410T171500
DTSTAMP:20260425T195600
CREATED:20240124T185542Z
LAST-MODIFIED:20240124T185542Z
UID:10000305-1712765700-1712769300@explorepeace.org
SUMMARY:Route 56 (5th and 6th graders)
DESCRIPTION:
URL:https://explorepeace.org/event/route-56-5th-and-6th-graders/2024-04-10/
CATEGORIES:Youth
END:VEVENT
END:VCALENDAR