BEGIN:VCALENDAR
VERSION:2.0
PRODID:-//Peace Lutheran Church | Experience Christ. Explore Peace. - ECPv6.15.20//NONSGML v1.0//EN
CALSCALE:GREGORIAN
METHOD:PUBLISH
X-WR-CALNAME:Peace Lutheran Church | Experience Christ. Explore Peace.
X-ORIGINAL-URL:https://explorepeace.org
X-WR-CALDESC:Events for Peace Lutheran Church | Experience Christ. Explore Peace.
REFRESH-INTERVAL;VALUE=DURATION:PT1H
X-Robots-Tag:noindex
X-PUBLISHED-TTL:PT1H
BEGIN:VTIMEZONE
TZID:America/Chicago
BEGIN:DAYLIGHT
TZOFFSETFROM:-0600
TZOFFSETTO:-0500
TZNAME:CDT
DTSTART:20230312T080000
END:DAYLIGHT
BEGIN:STANDARD
TZOFFSETFROM:-0500
TZOFFSETTO:-0600
TZNAME:CST
DTSTART:20231105T070000
END:STANDARD
BEGIN:DAYLIGHT
TZOFFSETFROM:-0600
TZOFFSETTO:-0500
TZNAME:CDT
DTSTART:20240310T080000
END:DAYLIGHT
BEGIN:STANDARD
TZOFFSETFROM:-0500
TZOFFSETTO:-0600
TZNAME:CST
DTSTART:20241103T070000
END:STANDARD
BEGIN:DAYLIGHT
TZOFFSETFROM:-0600
TZOFFSETTO:-0500
TZNAME:CDT
DTSTART:20250309T080000
END:DAYLIGHT
BEGIN:STANDARD
TZOFFSETFROM:-0500
TZOFFSETTO:-0600
TZNAME:CST
DTSTART:20251102T070000
END:STANDARD
END:VTIMEZONE
BEGIN:VEVENT
DTSTART;TZID=America/Chicago:20240508T070000
DTEND;TZID=America/Chicago:20240508T153000
DTSTAMP:20260425T142435
CREATED:20240124T185129Z
LAST-MODIFIED:20240124T185129Z
UID:10000279-1715151600-1715182200@explorepeace.org
SUMMARY:Preschool & 4K
DESCRIPTION:
URL:https://explorepeace.org/event/preschool-4k-11/2024-05-08/
CATEGORIES:Preschool
END:VEVENT
BEGIN:VEVENT
DTSTART;TZID=America/Chicago:20240507T090000
DTEND;TZID=America/Chicago:20240507T150000
DTSTAMP:20260425T142435
CREATED:20240116T200720Z
LAST-MODIFIED:20240116T200720Z
UID:10000065-1715072400-1715094000@explorepeace.org
SUMMARY:Church Office Hours (Tuesdays  9AM-3PM)
DESCRIPTION:
URL:https://explorepeace.org/event/church-office-hours-tuesdays-9am-3pm/2024-05-07/
END:VEVENT
BEGIN:VEVENT
DTSTART;TZID=America/Chicago:20240507T070000
DTEND;TZID=America/Chicago:20240507T153000
DTSTAMP:20260425T142435
CREATED:20240124T185034Z
LAST-MODIFIED:20240124T185034Z
UID:10000269-1715065200-1715095800@explorepeace.org
SUMMARY:Preschool & 4K
DESCRIPTION:
URL:https://explorepeace.org/event/preschool-4k-10/2024-05-07/
CATEGORIES:Preschool
END:VEVENT
BEGIN:VEVENT
DTSTART;TZID=America/Chicago:20240506T070000
DTEND;TZID=America/Chicago:20240506T153000
DTSTAMP:20260425T142435
CREATED:20240124T184246Z
LAST-MODIFIED:20240124T184246Z
UID:10000259-1714978800-1715009400@explorepeace.org
SUMMARY:Preschool & 4K
DESCRIPTION:
URL:https://explorepeace.org/event/preschool-4k-8/2024-05-06/
CATEGORIES:Preschool
END:VEVENT
BEGIN:VEVENT
DTSTART;TZID=America/Chicago:20240505T100000
DTEND;TZID=America/Chicago:20240505T110000
DTSTAMP:20260425T142435
CREATED:20240124T191436Z
LAST-MODIFIED:20240124T191436Z
UID:10000340-1714903200-1714906800@explorepeace.org
SUMMARY:Peace Choir rehearsal
DESCRIPTION:Jerry Johnson is the Peace Choir Director.  Rehearsing in the Music Room.
URL:https://explorepeace.org/event/peace-choir-rehearsal-2/2024-05-05/
CATEGORIES:Music
END:VEVENT
BEGIN:VEVENT
DTSTART;TZID=America/Chicago:20240505T090000
DTEND;TZID=America/Chicago:20240505T100000
DTSTAMP:20260425T142435
CREATED:20240124T175300Z
LAST-MODIFIED:20240124T175300Z
UID:10000237-1714899600-1714903200@explorepeace.org
SUMMARY:Sunday Worship with Holy Communion
DESCRIPTION:
URL:https://explorepeace.org/event/sunday-worship-with-holy-communion-2/2024-05-05/
CATEGORIES:Worship
END:VEVENT
BEGIN:VEVENT
DTSTART;TZID=America/Chicago:20240503T070000
DTEND;TZID=America/Chicago:20240503T143000
DTSTAMP:20260425T142435
CREATED:20240124T185329Z
LAST-MODIFIED:20240514T153520Z
UID:10000298-1714719600-1714746600@explorepeace.org
SUMMARY:Preschool & 4K
DESCRIPTION:
URL:https://explorepeace.org/event/preschool-4k-13/2024-05-03/
CATEGORIES:Preschool
END:VEVENT
BEGIN:VEVENT
DTSTART;TZID=America/Chicago:20240502T100000
DTEND;TZID=America/Chicago:20240502T120000
DTSTAMP:20260425T142435
CREATED:20240522T180708Z
LAST-MODIFIED:20240522T180708Z
UID:10000873-1714644000-1714651200@explorepeace.org
SUMMARY:Walking by Faith (with Pastor Doug)
DESCRIPTION:
URL:https://explorepeace.org/event/walking-by-faith-with-pastor-doug/2024-05-02/
CATEGORIES:Meetings/Gatherings
END:VEVENT
BEGIN:VEVENT
DTSTART;TZID=America/Chicago:20240502T090000
DTEND;TZID=America/Chicago:20240502T150000
DTSTAMP:20260425T142435
CREATED:20240116T201002Z
LAST-MODIFIED:20240116T201002Z
UID:10000104-1714640400-1714662000@explorepeace.org
SUMMARY:Church Office Hours (Thursdays  9AM - 3PM)
DESCRIPTION:
URL:https://explorepeace.org/event/church-office-hours-thursdays-9am-3pm/2024-05-02/
END:VEVENT
BEGIN:VEVENT
DTSTART;TZID=America/Chicago:20240502T090000
DTEND;TZID=America/Chicago:20240502T100000
DTSTAMP:20260425T142435
CREATED:20240522T180542Z
LAST-MODIFIED:20240522T180542Z
UID:10000856-1714640400-1714644000@explorepeace.org
SUMMARY:Coffee & Chocolate Bible Study (with Pastor Doug)
DESCRIPTION:Meet in the Fireside Room.  Bring your coffee!  We’ll have chocolate to share!
URL:https://explorepeace.org/event/coffee-chocolate-bible-study-with-pastor-doug/2024-05-02/
CATEGORIES:Meetings/Gatherings
END:VEVENT
BEGIN:VEVENT
DTSTART;TZID=America/Chicago:20240502T070000
DTEND;TZID=America/Chicago:20240502T153000
DTSTAMP:20260425T142435
CREATED:20240124T185226Z
LAST-MODIFIED:20240124T185226Z
UID:10000288-1714633200-1714663800@explorepeace.org
SUMMARY:Preschool & 4K
DESCRIPTION:
URL:https://explorepeace.org/event/preschool-4k-12/2024-05-02/
CATEGORIES:Preschool
END:VEVENT
BEGIN:VEVENT
DTSTART;TZID=America/Chicago:20240501T181500
DTEND;TZID=America/Chicago:20240501T190000
DTSTAMP:20260425T142435
CREATED:20240423T175237Z
LAST-MODIFIED:20240423T175237Z
UID:10000462-1714587300-1714590000@explorepeace.org
SUMMARY:KiX (Kids in Christ)
DESCRIPTION:
URL:https://explorepeace.org/event/kix-kids-in-christ/
CATEGORIES:Youth
END:VEVENT
BEGIN:VEVENT
DTSTART;TZID=America/Chicago:20240501T181500
DTEND;TZID=America/Chicago:20240501T190000
DTSTAMP:20260425T142435
CREATED:20240423T174324Z
LAST-MODIFIED:20240423T174324Z
UID:10000460-1714587300-1714590000@explorepeace.org
SUMMARY:Wednesday Worship
DESCRIPTION:
URL:https://explorepeace.org/event/wednesday-worship-4/
CATEGORIES:Worship
END:VEVENT
BEGIN:VEVENT
DTSTART;TZID=America/Chicago:20240501T170000
DTEND;TZID=America/Chicago:20240501T181500
DTSTAMP:20260425T142435
CREATED:20240423T174435Z
LAST-MODIFIED:20240423T174435Z
UID:10000461-1714582800-1714587300@explorepeace.org
SUMMARY:Common Table Cafe
DESCRIPTION:
URL:https://explorepeace.org/event/common-table-cafe-2/
CATEGORIES:Meetings/Gatherings
END:VEVENT
BEGIN:VEVENT
DTSTART;TZID=America/Chicago:20240501T164500
DTEND;TZID=America/Chicago:20240501T171500
DTSTAMP:20260425T142435
CREATED:20240423T174152Z
LAST-MODIFIED:20240423T174152Z
UID:10000455-1714581900-1714583700@explorepeace.org
SUMMARY:Joyful Noise rehearsal
DESCRIPTION:
URL:https://explorepeace.org/event/joyful-noise-rehearsal/2024-05-01/
CATEGORIES:Music,Youth
END:VEVENT
BEGIN:VEVENT
DTSTART;TZID=America/Chicago:20240501T160000
DTEND;TZID=America/Chicago:20240501T163000
DTSTAMP:20260425T142435
CREATED:20240423T174012Z
LAST-MODIFIED:20240423T174012Z
UID:10000454-1714579200-1714581000@explorepeace.org
SUMMARY:SonShiners rehearsal
DESCRIPTION:
URL:https://explorepeace.org/event/sonshiners-rehearsal/
CATEGORIES:Music,Youth
END:VEVENT
BEGIN:VEVENT
DTSTART;TZID=America/Chicago:20240501T090000
DTEND;TZID=America/Chicago:20240501T170000
DTSTAMP:20260425T142435
CREATED:20240116T200856Z
LAST-MODIFIED:20240116T200856Z
UID:10000084-1714554000-1714582800@explorepeace.org
SUMMARY:Church Office Hours (Wednesdays  9AM - 5PM)
DESCRIPTION:
URL:https://explorepeace.org/event/church-office-hours-wednesdays-9am-5pm/2024-05-01/
END:VEVENT
BEGIN:VEVENT
DTSTART;TZID=America/Chicago:20240501T070000
DTEND;TZID=America/Chicago:20240501T153000
DTSTAMP:20260425T142435
CREATED:20240124T185129Z
LAST-MODIFIED:20240124T185129Z
UID:10000278-1714546800-1714577400@explorepeace.org
SUMMARY:Preschool & 4K
DESCRIPTION:
URL:https://explorepeace.org/event/preschool-4k-11/2024-05-01/
CATEGORIES:Preschool
END:VEVENT
BEGIN:VEVENT
DTSTART;TZID=America/Chicago:20240430T090000
DTEND;TZID=America/Chicago:20240430T150000
DTSTAMP:20260425T142435
CREATED:20240116T200720Z
LAST-MODIFIED:20240116T200720Z
UID:10000064-1714467600-1714489200@explorepeace.org
SUMMARY:Church Office Hours (Tuesdays  9AM-3PM)
DESCRIPTION:
URL:https://explorepeace.org/event/church-office-hours-tuesdays-9am-3pm/2024-04-30/
END:VEVENT
BEGIN:VEVENT
DTSTART;TZID=America/Chicago:20240430T070000
DTEND;TZID=America/Chicago:20240430T153000
DTSTAMP:20260425T142435
CREATED:20240124T185034Z
LAST-MODIFIED:20240124T185034Z
UID:10000268-1714460400-1714491000@explorepeace.org
SUMMARY:Preschool & 4K
DESCRIPTION:
URL:https://explorepeace.org/event/preschool-4k-10/2024-04-30/
CATEGORIES:Preschool
END:VEVENT
BEGIN:VEVENT
DTSTART;TZID=America/Chicago:20240429T070000
DTEND;TZID=America/Chicago:20240429T153000
DTSTAMP:20260425T142435
CREATED:20240124T184246Z
LAST-MODIFIED:20240124T184246Z
UID:10000258-1714374000-1714404600@explorepeace.org
SUMMARY:Preschool & 4K
DESCRIPTION:
URL:https://explorepeace.org/event/preschool-4k-8/2024-04-29/
CATEGORIES:Preschool
END:VEVENT
BEGIN:VEVENT
DTSTART;TZID=America/Chicago:20240428T150000
DTEND;TZID=America/Chicago:20240428T170000
DTSTAMP:20260425T142435
CREATED:20240221T222517Z
LAST-MODIFIED:20240221T222517Z
UID:10000428-1714316400-1714323600@explorepeace.org
SUMMARY:Peace Variety Show & Silent Auction
DESCRIPTION:Cities\, towns\, places around the world … ‘Oh\, the Places You’ll Go’ … that’s this year’s theme! \nCome and enjoy all the places that these performers will be travelling to!  The Variety Show begins at 3:00PM.  Location?  The Peace sanctuary!  The Silent Auction happens just after the Variety Show.  And that location?  Fellowship Hall!  Just in time for bidding on your favorite baskets. \n‘Oh\, the Places You’ll Go’!
URL:https://explorepeace.org/event/peace-variety-show-silent-auction/
CATEGORIES:Special Events
END:VEVENT
BEGIN:VEVENT
DTSTART;TZID=America/Chicago:20240428T100000
DTEND;TZID=America/Chicago:20240428T110000
DTSTAMP:20260425T142435
CREATED:20240124T191436Z
LAST-MODIFIED:20240124T191436Z
UID:10000339-1714298400-1714302000@explorepeace.org
SUMMARY:Peace Choir rehearsal
DESCRIPTION:Jerry Johnson is the Peace Choir Director.  Rehearsing in the Music Room.
URL:https://explorepeace.org/event/peace-choir-rehearsal-2/2024-04-28/
CATEGORIES:Music
END:VEVENT
BEGIN:VEVENT
DTSTART;TZID=America/Chicago:20240428T090000
DTEND;TZID=America/Chicago:20240428T100000
DTSTAMP:20260425T142435
CREATED:20240124T175300Z
LAST-MODIFIED:20240124T175300Z
UID:10000236-1714294800-1714298400@explorepeace.org
SUMMARY:Sunday Worship with Holy Communion
DESCRIPTION:
URL:https://explorepeace.org/event/sunday-worship-with-holy-communion-2/2024-04-28/
CATEGORIES:Worship
END:VEVENT
BEGIN:VEVENT
DTSTART;TZID=America/Chicago:20240428T090000
DTEND;TZID=America/Chicago:20240428T094500
DTSTAMP:20260425T142435
CREATED:20240124T191232Z
LAST-MODIFIED:20240124T191232Z
UID:10000335-1714294800-1714297500@explorepeace.org
SUMMARY:KiX (Kids in Christ) 3 yr olds - 4th graders
DESCRIPTION:
URL:https://explorepeace.org/event/kix-kids-in-christ-3-yr-olds-4th-graders/2024-04-28/
CATEGORIES:Youth
END:VEVENT
BEGIN:VEVENT
DTSTART;TZID=America/Chicago:20240426T170000
DTEND;TZID=America/Chicago:20240426T180000
DTSTAMP:20260425T142435
CREATED:20240403T174647Z
LAST-MODIFIED:20240403T174647Z
UID:10000447-1714150800-1714154400@explorepeace.org
SUMMARY:One-And-Only Variety Show Rehearsal
DESCRIPTION:Bring your props!  Bring your instruments!  Wear your costumes and dancin’ shoes! \nWe’ll run through the Variety Show program\, work with the microphones\, practice on ‘sanctuary stage’\, learn the ‘all participants’ finale number\, and of course remembering to bow! \nAny questions\, contact Jan Rutkowski  (608.849.7322) or jan.rutkowski@explorepeace.org \nSee you then!
URL:https://explorepeace.org/event/one-and-only-variety-show-rehearsal/
CATEGORIES:Meetings/Gatherings
END:VEVENT
BEGIN:VEVENT
DTSTART;TZID=America/Chicago:20240426T070000
DTEND;TZID=America/Chicago:20240426T143000
DTSTAMP:20260425T142435
CREATED:20240124T185329Z
LAST-MODIFIED:20240514T153520Z
UID:10000297-1714114800-1714141800@explorepeace.org
SUMMARY:Preschool & 4K
DESCRIPTION:
URL:https://explorepeace.org/event/preschool-4k-13/2024-04-26/
CATEGORIES:Preschool
END:VEVENT
BEGIN:VEVENT
DTSTART;TZID=America/Chicago:20240425T090000
DTEND;TZID=America/Chicago:20240425T150000
DTSTAMP:20260425T142435
CREATED:20240116T201002Z
LAST-MODIFIED:20240116T201002Z
UID:10000103-1714035600-1714057200@explorepeace.org
SUMMARY:Church Office Hours (Thursdays  9AM - 3PM)
DESCRIPTION:
URL:https://explorepeace.org/event/church-office-hours-thursdays-9am-3pm/2024-04-25/
END:VEVENT
BEGIN:VEVENT
DTSTART;TZID=America/Chicago:20240425T090000
DTEND;TZID=America/Chicago:20240425T100000
DTSTAMP:20260425T142435
CREATED:20240124T190742Z
LAST-MODIFIED:20240124T190742Z
UID:10000331-1714035600-1714039200@explorepeace.org
SUMMARY:Coffee & Chocolate with Pastor Doug (Fireside Room)
DESCRIPTION:
URL:https://explorepeace.org/event/coffee-chocolate-with-pastor-doug-fireside-room-2/2024-04-25/
CATEGORIES:Meetings/Gatherings
END:VEVENT
BEGIN:VEVENT
DTSTART;TZID=America/Chicago:20240425T070000
DTEND;TZID=America/Chicago:20240425T153000
DTSTAMP:20260425T142435
CREATED:20240124T185226Z
LAST-MODIFIED:20240124T185226Z
UID:10000287-1714028400-1714059000@explorepeace.org
SUMMARY:Preschool & 4K
DESCRIPTION:
URL:https://explorepeace.org/event/preschool-4k-12/2024-04-25/
CATEGORIES:Preschool
END:VEVENT
END:VCALENDAR