BEGIN:VCALENDAR
VERSION:2.0
PRODID:-//Peace Lutheran Church | Experience Christ. Explore Peace. - ECPv6.15.20//NONSGML v1.0//EN
CALSCALE:GREGORIAN
METHOD:PUBLISH
X-WR-CALNAME:Peace Lutheran Church | Experience Christ. Explore Peace.
X-ORIGINAL-URL:https://explorepeace.org
X-WR-CALDESC:Events for Peace Lutheran Church | Experience Christ. Explore Peace.
REFRESH-INTERVAL;VALUE=DURATION:PT1H
X-Robots-Tag:noindex
X-PUBLISHED-TTL:PT1H
BEGIN:VTIMEZONE
TZID:America/Chicago
BEGIN:DAYLIGHT
TZOFFSETFROM:-0600
TZOFFSETTO:-0500
TZNAME:CDT
DTSTART:20230312T080000
END:DAYLIGHT
BEGIN:STANDARD
TZOFFSETFROM:-0500
TZOFFSETTO:-0600
TZNAME:CST
DTSTART:20231105T070000
END:STANDARD
BEGIN:DAYLIGHT
TZOFFSETFROM:-0600
TZOFFSETTO:-0500
TZNAME:CDT
DTSTART:20240310T080000
END:DAYLIGHT
BEGIN:STANDARD
TZOFFSETFROM:-0500
TZOFFSETTO:-0600
TZNAME:CST
DTSTART:20241103T070000
END:STANDARD
BEGIN:DAYLIGHT
TZOFFSETFROM:-0600
TZOFFSETTO:-0500
TZNAME:CDT
DTSTART:20250309T080000
END:DAYLIGHT
BEGIN:STANDARD
TZOFFSETFROM:-0500
TZOFFSETTO:-0600
TZNAME:CST
DTSTART:20251102T070000
END:STANDARD
END:VTIMEZONE
BEGIN:VEVENT
DTSTART;TZID=America/Chicago:20240602T090000
DTEND;TZID=America/Chicago:20240602T100000
DTSTAMP:20260425T080150
CREATED:20240124T175300Z
LAST-MODIFIED:20240124T175300Z
UID:10000241-1717318800-1717322400@explorepeace.org
SUMMARY:Sunday Worship with Holy Communion
DESCRIPTION:
URL:https://explorepeace.org/event/sunday-worship-with-holy-communion-2/2024-06-02/
CATEGORIES:Worship
END:VEVENT
BEGIN:VEVENT
DTSTART;TZID=America/Chicago:20240531T070000
DTEND;TZID=America/Chicago:20240531T143000
DTSTAMP:20260425T080150
CREATED:20240124T185329Z
LAST-MODIFIED:20240514T153520Z
UID:10000302-1717138800-1717165800@explorepeace.org
SUMMARY:Preschool & 4K
DESCRIPTION:
URL:https://explorepeace.org/event/preschool-4k-13/2024-05-31/
CATEGORIES:Preschool
END:VEVENT
BEGIN:VEVENT
DTSTART;TZID=America/Chicago:20240530T100000
DTEND;TZID=America/Chicago:20240530T120000
DTSTAMP:20260425T080150
CREATED:20240522T180708Z
LAST-MODIFIED:20240522T180708Z
UID:10000877-1717063200-1717070400@explorepeace.org
SUMMARY:Walking by Faith (with Pastor Doug)
DESCRIPTION:
URL:https://explorepeace.org/event/walking-by-faith-with-pastor-doug/2024-05-30/
CATEGORIES:Meetings/Gatherings
END:VEVENT
BEGIN:VEVENT
DTSTART;TZID=America/Chicago:20240530T090000
DTEND;TZID=America/Chicago:20240530T150000
DTSTAMP:20260425T080150
CREATED:20240116T201002Z
LAST-MODIFIED:20240116T201002Z
UID:10000108-1717059600-1717081200@explorepeace.org
SUMMARY:Church Office Hours (Thursdays  9AM - 3PM)
DESCRIPTION:
URL:https://explorepeace.org/event/church-office-hours-thursdays-9am-3pm/2024-05-30/
END:VEVENT
BEGIN:VEVENT
DTSTART;TZID=America/Chicago:20240530T090000
DTEND;TZID=America/Chicago:20240530T100000
DTSTAMP:20260425T080150
CREATED:20240522T180542Z
LAST-MODIFIED:20240522T180542Z
UID:10000860-1717059600-1717063200@explorepeace.org
SUMMARY:Coffee & Chocolate Bible Study (with Pastor Doug)
DESCRIPTION:Meet in the Fireside Room.  Bring your coffee!  We’ll have chocolate to share!
URL:https://explorepeace.org/event/coffee-chocolate-bible-study-with-pastor-doug/2024-05-30/
CATEGORIES:Meetings/Gatherings
END:VEVENT
BEGIN:VEVENT
DTSTART;TZID=America/Chicago:20240530T070000
DTEND;TZID=America/Chicago:20240530T153000
DTSTAMP:20260425T080150
CREATED:20240124T185226Z
LAST-MODIFIED:20240124T185226Z
UID:10000292-1717052400-1717083000@explorepeace.org
SUMMARY:Preschool & 4K
DESCRIPTION:
URL:https://explorepeace.org/event/preschool-4k-12/2024-05-30/
CATEGORIES:Preschool
END:VEVENT
BEGIN:VEVENT
DTSTART;TZID=America/Chicago:20240529T090000
DTEND;TZID=America/Chicago:20240529T170000
DTSTAMP:20260425T080150
CREATED:20240116T200856Z
LAST-MODIFIED:20240116T200856Z
UID:10000088-1716973200-1717002000@explorepeace.org
SUMMARY:Church Office Hours (Wednesdays  9AM - 5PM)
DESCRIPTION:
URL:https://explorepeace.org/event/church-office-hours-wednesdays-9am-5pm/2024-05-29/
END:VEVENT
BEGIN:VEVENT
DTSTART;TZID=America/Chicago:20240529T070000
DTEND;TZID=America/Chicago:20240529T153000
DTSTAMP:20260425T080150
CREATED:20240124T185129Z
LAST-MODIFIED:20240124T185129Z
UID:10000282-1716966000-1716996600@explorepeace.org
SUMMARY:Preschool & 4K
DESCRIPTION:
URL:https://explorepeace.org/event/preschool-4k-11/2024-05-29/
CATEGORIES:Preschool
END:VEVENT
BEGIN:VEVENT
DTSTART;TZID=America/Chicago:20240528T090000
DTEND;TZID=America/Chicago:20240528T150000
DTSTAMP:20260425T080150
CREATED:20240116T200720Z
LAST-MODIFIED:20240116T200720Z
UID:10000068-1716886800-1716908400@explorepeace.org
SUMMARY:Church Office Hours (Tuesdays  9AM-3PM)
DESCRIPTION:
URL:https://explorepeace.org/event/church-office-hours-tuesdays-9am-3pm/2024-05-28/
END:VEVENT
BEGIN:VEVENT
DTSTART;TZID=America/Chicago:20240528T070000
DTEND;TZID=America/Chicago:20240528T153000
DTSTAMP:20260425T080150
CREATED:20240124T185034Z
LAST-MODIFIED:20240124T185034Z
UID:10000272-1716879600-1716910200@explorepeace.org
SUMMARY:Preschool & 4K
DESCRIPTION:
URL:https://explorepeace.org/event/preschool-4k-10/2024-05-28/
CATEGORIES:Preschool
END:VEVENT
BEGIN:VEVENT
DTSTART;VALUE=DATE:20240527
DTEND;VALUE=DATE:20240528
DTSTAMP:20260425T080150
CREATED:20240124T184655Z
LAST-MODIFIED:20240124T184655Z
UID:10000262-1716768000-1716854399@explorepeace.org
SUMMARY:MEMORIAL DAY - School closed
DESCRIPTION:
URL:https://explorepeace.org/event/memorial-day-school-closed/
CATEGORIES:Preschool
END:VEVENT
BEGIN:VEVENT
DTSTART;TZID=America/Chicago:20240526T100000
DTEND;TZID=America/Chicago:20240526T110000
DTSTAMP:20260425T080150
CREATED:20240517T165832Z
LAST-MODIFIED:20240517T165832Z
UID:10000842-1716717600-1716721200@explorepeace.org
SUMMARY:Coffee\, Fellowship & Donut Yum (happening after worship)
DESCRIPTION:
URL:https://explorepeace.org/event/coffee-fellowship-donut-yum-happening-after-worship/2024-05-26/
CATEGORIES:Meetings/Gatherings
END:VEVENT
BEGIN:VEVENT
DTSTART;TZID=America/Chicago:20240526T090000
DTEND;TZID=America/Chicago:20240526T100000
DTSTAMP:20260425T080150
CREATED:20240124T175300Z
LAST-MODIFIED:20240124T175300Z
UID:10000240-1716714000-1716717600@explorepeace.org
SUMMARY:Sunday Worship with Holy Communion
DESCRIPTION:
URL:https://explorepeace.org/event/sunday-worship-with-holy-communion-2/2024-05-26/
CATEGORIES:Worship
END:VEVENT
BEGIN:VEVENT
DTSTART;TZID=America/Chicago:20240524T070000
DTEND;TZID=America/Chicago:20240524T143000
DTSTAMP:20260425T080150
CREATED:20240124T185329Z
LAST-MODIFIED:20240514T153520Z
UID:10000301-1716534000-1716561000@explorepeace.org
SUMMARY:Preschool & 4K
DESCRIPTION:
URL:https://explorepeace.org/event/preschool-4k-13/2024-05-24/
CATEGORIES:Preschool
END:VEVENT
BEGIN:VEVENT
DTSTART;TZID=America/Chicago:20240523T100000
DTEND;TZID=America/Chicago:20240523T120000
DTSTAMP:20260425T080150
CREATED:20240522T180708Z
LAST-MODIFIED:20240522T180708Z
UID:10000876-1716458400-1716465600@explorepeace.org
SUMMARY:Walking by Faith (with Pastor Doug)
DESCRIPTION:
URL:https://explorepeace.org/event/walking-by-faith-with-pastor-doug/2024-05-23/
CATEGORIES:Meetings/Gatherings
END:VEVENT
BEGIN:VEVENT
DTSTART;TZID=America/Chicago:20240523T090000
DTEND;TZID=America/Chicago:20240523T150000
DTSTAMP:20260425T080151
CREATED:20240116T201002Z
LAST-MODIFIED:20240116T201002Z
UID:10000107-1716454800-1716476400@explorepeace.org
SUMMARY:Church Office Hours (Thursdays  9AM - 3PM)
DESCRIPTION:
URL:https://explorepeace.org/event/church-office-hours-thursdays-9am-3pm/2024-05-23/
END:VEVENT
BEGIN:VEVENT
DTSTART;TZID=America/Chicago:20240523T090000
DTEND;TZID=America/Chicago:20240523T100000
DTSTAMP:20260425T080151
CREATED:20240522T180542Z
LAST-MODIFIED:20240522T180542Z
UID:10000859-1716454800-1716458400@explorepeace.org
SUMMARY:Coffee & Chocolate Bible Study (with Pastor Doug)
DESCRIPTION:Meet in the Fireside Room.  Bring your coffee!  We’ll have chocolate to share!
URL:https://explorepeace.org/event/coffee-chocolate-bible-study-with-pastor-doug/2024-05-23/
CATEGORIES:Meetings/Gatherings
END:VEVENT
BEGIN:VEVENT
DTSTART;TZID=America/Chicago:20240523T070000
DTEND;TZID=America/Chicago:20240523T153000
DTSTAMP:20260425T080151
CREATED:20240124T185226Z
LAST-MODIFIED:20240124T185226Z
UID:10000291-1716447600-1716478200@explorepeace.org
SUMMARY:Preschool & 4K
DESCRIPTION:
URL:https://explorepeace.org/event/preschool-4k-12/2024-05-23/
CATEGORIES:Preschool
END:VEVENT
BEGIN:VEVENT
DTSTART;TZID=America/Chicago:20240522T090000
DTEND;TZID=America/Chicago:20240522T170000
DTSTAMP:20260425T080151
CREATED:20240116T200856Z
LAST-MODIFIED:20240116T200856Z
UID:10000087-1716368400-1716397200@explorepeace.org
SUMMARY:Church Office Hours (Wednesdays  9AM - 5PM)
DESCRIPTION:
URL:https://explorepeace.org/event/church-office-hours-wednesdays-9am-5pm/2024-05-22/
END:VEVENT
BEGIN:VEVENT
DTSTART;TZID=America/Chicago:20240522T070000
DTEND;TZID=America/Chicago:20240522T153000
DTSTAMP:20260425T080151
CREATED:20240124T185129Z
LAST-MODIFIED:20240124T185129Z
UID:10000281-1716361200-1716391800@explorepeace.org
SUMMARY:Preschool & 4K
DESCRIPTION:
URL:https://explorepeace.org/event/preschool-4k-11/2024-05-22/
CATEGORIES:Preschool
END:VEVENT
BEGIN:VEVENT
DTSTART;TZID=America/Chicago:20240521T090000
DTEND;TZID=America/Chicago:20240521T150000
DTSTAMP:20260425T080151
CREATED:20240116T200720Z
LAST-MODIFIED:20240116T200720Z
UID:10000067-1716282000-1716303600@explorepeace.org
SUMMARY:Church Office Hours (Tuesdays  9AM-3PM)
DESCRIPTION:
URL:https://explorepeace.org/event/church-office-hours-tuesdays-9am-3pm/2024-05-21/
END:VEVENT
BEGIN:VEVENT
DTSTART;TZID=America/Chicago:20240521T090000
DTEND;TZID=America/Chicago:20240521T120000
DTSTAMP:20260425T080151
CREATED:20240514T150636Z
LAST-MODIFIED:20240514T150637Z
UID:10000464-1716282000-1716292800@explorepeace.org
SUMMARY:PLC Quilters (meet in the Gallery)
DESCRIPTION:
URL:https://explorepeace.org/event/plc-quilters-meet-in-the-gallery/
CATEGORIES:Meetings/Gatherings
END:VEVENT
BEGIN:VEVENT
DTSTART;TZID=America/Chicago:20240521T070000
DTEND;TZID=America/Chicago:20240521T153000
DTSTAMP:20260425T080151
CREATED:20240124T185034Z
LAST-MODIFIED:20240124T185034Z
UID:10000271-1716274800-1716305400@explorepeace.org
SUMMARY:Preschool & 4K
DESCRIPTION:
URL:https://explorepeace.org/event/preschool-4k-10/2024-05-21/
CATEGORIES:Preschool
END:VEVENT
BEGIN:VEVENT
DTSTART;TZID=America/Chicago:20240520T070000
DTEND;TZID=America/Chicago:20240520T153000
DTSTAMP:20260425T080151
CREATED:20240124T184512Z
LAST-MODIFIED:20240124T184512Z
UID:10000261-1716188400-1716219000@explorepeace.org
SUMMARY:Preschool (NO 4K today)
DESCRIPTION:
URL:https://explorepeace.org/event/preschool-no-4k-today/
CATEGORIES:Preschool
END:VEVENT
BEGIN:VEVENT
DTSTART;TZID=America/Chicago:20240519T100000
DTEND;TZID=America/Chicago:20240519T110000
DTSTAMP:20260425T080151
CREATED:20240517T165832Z
LAST-MODIFIED:20240517T165832Z
UID:10000841-1716112800-1716116400@explorepeace.org
SUMMARY:Coffee\, Fellowship & Donut Yum (happening after worship)
DESCRIPTION:
URL:https://explorepeace.org/event/coffee-fellowship-donut-yum-happening-after-worship/2024-05-19/
CATEGORIES:Meetings/Gatherings
END:VEVENT
BEGIN:VEVENT
DTSTART;TZID=America/Chicago:20240519T090000
DTEND;TZID=America/Chicago:20240519T100000
DTSTAMP:20260425T080151
CREATED:20240124T175300Z
LAST-MODIFIED:20240124T175300Z
UID:10000239-1716109200-1716112800@explorepeace.org
SUMMARY:Sunday Worship with Holy Communion
DESCRIPTION:
URL:https://explorepeace.org/event/sunday-worship-with-holy-communion-2/2024-05-19/
CATEGORIES:Worship
END:VEVENT
BEGIN:VEVENT
DTSTART;TZID=America/Chicago:20240517T070000
DTEND;TZID=America/Chicago:20240517T143000
DTSTAMP:20260425T080151
CREATED:20240124T185329Z
LAST-MODIFIED:20240514T153520Z
UID:10000300-1715929200-1715956200@explorepeace.org
SUMMARY:Preschool & 4K
DESCRIPTION:
URL:https://explorepeace.org/event/preschool-4k-13/2024-05-17/
CATEGORIES:Preschool
END:VEVENT
BEGIN:VEVENT
DTSTART;TZID=America/Chicago:20240516T100000
DTEND;TZID=America/Chicago:20240516T120000
DTSTAMP:20260425T080151
CREATED:20240522T180708Z
LAST-MODIFIED:20240522T180708Z
UID:10000875-1715853600-1715860800@explorepeace.org
SUMMARY:Walking by Faith (with Pastor Doug)
DESCRIPTION:
URL:https://explorepeace.org/event/walking-by-faith-with-pastor-doug/2024-05-16/
CATEGORIES:Meetings/Gatherings
END:VEVENT
BEGIN:VEVENT
DTSTART;TZID=America/Chicago:20240516T090000
DTEND;TZID=America/Chicago:20240516T150000
DTSTAMP:20260425T080151
CREATED:20240116T201002Z
LAST-MODIFIED:20240116T201002Z
UID:10000106-1715850000-1715871600@explorepeace.org
SUMMARY:Church Office Hours (Thursdays  9AM - 3PM)
DESCRIPTION:
URL:https://explorepeace.org/event/church-office-hours-thursdays-9am-3pm/2024-05-16/
END:VEVENT
BEGIN:VEVENT
DTSTART;TZID=America/Chicago:20240516T090000
DTEND;TZID=America/Chicago:20240516T100000
DTSTAMP:20260425T080151
CREATED:20240522T180542Z
LAST-MODIFIED:20240522T180542Z
UID:10000858-1715850000-1715853600@explorepeace.org
SUMMARY:Coffee & Chocolate Bible Study (with Pastor Doug)
DESCRIPTION:Meet in the Fireside Room.  Bring your coffee!  We’ll have chocolate to share!
URL:https://explorepeace.org/event/coffee-chocolate-bible-study-with-pastor-doug/2024-05-16/
CATEGORIES:Meetings/Gatherings
END:VEVENT
END:VCALENDAR