BEGIN:VCALENDAR
VERSION:2.0
PRODID:-//Peace Lutheran Church | Experience Christ. Explore Peace. - ECPv6.15.20//NONSGML v1.0//EN
CALSCALE:GREGORIAN
METHOD:PUBLISH
X-WR-CALNAME:Peace Lutheran Church | Experience Christ. Explore Peace.
X-ORIGINAL-URL:https://explorepeace.org
X-WR-CALDESC:Events for Peace Lutheran Church | Experience Christ. Explore Peace.
REFRESH-INTERVAL;VALUE=DURATION:PT1H
X-Robots-Tag:noindex
X-PUBLISHED-TTL:PT1H
BEGIN:VTIMEZONE
TZID:America/Chicago
BEGIN:DAYLIGHT
TZOFFSETFROM:-0600
TZOFFSETTO:-0500
TZNAME:CDT
DTSTART:20230312T080000
END:DAYLIGHT
BEGIN:STANDARD
TZOFFSETFROM:-0500
TZOFFSETTO:-0600
TZNAME:CST
DTSTART:20231105T070000
END:STANDARD
BEGIN:DAYLIGHT
TZOFFSETFROM:-0600
TZOFFSETTO:-0500
TZNAME:CDT
DTSTART:20240310T080000
END:DAYLIGHT
BEGIN:STANDARD
TZOFFSETFROM:-0500
TZOFFSETTO:-0600
TZNAME:CST
DTSTART:20241103T070000
END:STANDARD
BEGIN:DAYLIGHT
TZOFFSETFROM:-0600
TZOFFSETTO:-0500
TZNAME:CDT
DTSTART:20250309T080000
END:DAYLIGHT
BEGIN:STANDARD
TZOFFSETFROM:-0500
TZOFFSETTO:-0600
TZNAME:CST
DTSTART:20251102T070000
END:STANDARD
END:VTIMEZONE
BEGIN:VEVENT
DTSTART;TZID=America/Chicago:20240805T153000
DTEND;TZID=America/Chicago:20240805T190000
DTSTAMP:20260424T223852
CREATED:20240517T165114Z
LAST-MODIFIED:20240625T154744Z
UID:10000837-1722871800-1722884400@explorepeace.org
SUMMARY:CAMP PEACE
DESCRIPTION:(drop off starting at 3:30PM) \nAges: Kindergarten through 6th Grade \nCost: $65 per camper \nJoin us for a fun filled week of Peace Camp! Together we will share a love of Jesus through age specific activities. Each evening will entail a theme as we explore God’s creation through outdoor exploration\, musical movement and hands on learning with games\, crafts and science. Daily themes include Space\, Detective Day\, Arts/Crafts Day\, Field/Water Day. Dinner will be provided each evening. Please fill out a separate registration form for each child. \nThank you!
URL:https://explorepeace.org/event/camp-peace/
CATEGORIES:Special Events,Youth
END:VEVENT
BEGIN:VEVENT
DTSTART;TZID=America/Chicago:20240804T100000
DTEND;TZID=America/Chicago:20240804T110000
DTSTAMP:20260424T223852
CREATED:20240517T165832Z
LAST-MODIFIED:20240517T165832Z
UID:10000852-1722765600-1722769200@explorepeace.org
SUMMARY:Coffee\, Fellowship & Donut Yum (happening after worship)
DESCRIPTION:
URL:https://explorepeace.org/event/coffee-fellowship-donut-yum-happening-after-worship/2024-08-04/
CATEGORIES:Meetings/Gatherings
END:VEVENT
BEGIN:VEVENT
DTSTART;TZID=America/Chicago:20240804T090000
DTEND;TZID=America/Chicago:20240804T100000
DTSTAMP:20260424T223852
CREATED:20240124T175300Z
LAST-MODIFIED:20240124T175300Z
UID:10000250-1722762000-1722765600@explorepeace.org
SUMMARY:Sunday Worship with Holy Communion
DESCRIPTION:
URL:https://explorepeace.org/event/sunday-worship-with-holy-communion-2/2024-08-04/
CATEGORIES:Worship
END:VEVENT
BEGIN:VEVENT
DTSTART;TZID=America/Chicago:20240801T100000
DTEND;TZID=America/Chicago:20240801T120000
DTSTAMP:20260424T223852
CREATED:20240522T180708Z
LAST-MODIFIED:20240522T180708Z
UID:10000885-1722506400-1722513600@explorepeace.org
SUMMARY:Walking by Faith (with Pastor Doug)
DESCRIPTION:
URL:https://explorepeace.org/event/walking-by-faith-with-pastor-doug/2024-08-01/
CATEGORIES:Meetings/Gatherings
END:VEVENT
BEGIN:VEVENT
DTSTART;TZID=America/Chicago:20240801T090000
DTEND;TZID=America/Chicago:20240801T120000
DTSTAMP:20260424T223852
CREATED:20240522T181146Z
LAST-MODIFIED:20240522T181146Z
UID:10000923-1722502800-1722513600@explorepeace.org
SUMMARY:Church Office Summer Hours (9am-noon)
DESCRIPTION:
URL:https://explorepeace.org/event/church-office-summer-hours-9am-noon-3/2024-08-01/
END:VEVENT
BEGIN:VEVENT
DTSTART;TZID=America/Chicago:20240801T090000
DTEND;TZID=America/Chicago:20240801T100000
DTSTAMP:20260424T223852
CREATED:20240522T180542Z
LAST-MODIFIED:20240522T180542Z
UID:10000868-1722502800-1722506400@explorepeace.org
SUMMARY:Coffee & Chocolate Bible Study (with Pastor Doug)
DESCRIPTION:Meet in the Fireside Room.  Bring your coffee!  We’ll have chocolate to share!
URL:https://explorepeace.org/event/coffee-chocolate-bible-study-with-pastor-doug/2024-08-01/
CATEGORIES:Meetings/Gatherings
END:VEVENT
BEGIN:VEVENT
DTSTART;TZID=America/Chicago:20240731T090000
DTEND;TZID=America/Chicago:20240731T120000
DTSTAMP:20260424T223852
CREATED:20240522T181011Z
LAST-MODIFIED:20240522T181011Z
UID:10000911-1722416400-1722427200@explorepeace.org
SUMMARY:Church Office Summer Hours (9am-noon)
DESCRIPTION:
URL:https://explorepeace.org/event/church-office-summer-hours-9am-noon-2/2024-07-31/
END:VEVENT
BEGIN:VEVENT
DTSTART;TZID=America/Chicago:20240730T090000
DTEND;TZID=America/Chicago:20240730T120000
DTSTAMP:20260424T223852
CREATED:20240522T180858Z
LAST-MODIFIED:20240522T180858Z
UID:10000898-1722330000-1722340800@explorepeace.org
SUMMARY:Church Office Summer Hours (9am-noon)
DESCRIPTION:
URL:https://explorepeace.org/event/church-office-summer-hours-9am-noon/2024-07-30/
END:VEVENT
BEGIN:VEVENT
DTSTART;TZID=America/Chicago:20240728T100000
DTEND;TZID=America/Chicago:20240728T110000
DTSTAMP:20260424T223852
CREATED:20240517T165832Z
LAST-MODIFIED:20240517T165832Z
UID:10000851-1722160800-1722164400@explorepeace.org
SUMMARY:Coffee\, Fellowship & Donut Yum (happening after worship)
DESCRIPTION:
URL:https://explorepeace.org/event/coffee-fellowship-donut-yum-happening-after-worship/2024-07-28/
CATEGORIES:Meetings/Gatherings
END:VEVENT
BEGIN:VEVENT
DTSTART;TZID=America/Chicago:20240728T090000
DTEND;TZID=America/Chicago:20240728T100000
DTSTAMP:20260424T223852
CREATED:20240124T175300Z
LAST-MODIFIED:20240124T175300Z
UID:10000249-1722157200-1722160800@explorepeace.org
SUMMARY:Sunday Worship with Holy Communion
DESCRIPTION:
URL:https://explorepeace.org/event/sunday-worship-with-holy-communion-2/2024-07-28/
CATEGORIES:Worship
END:VEVENT
BEGIN:VEVENT
DTSTART;TZID=America/Chicago:20240725T100000
DTEND;TZID=America/Chicago:20240725T120000
DTSTAMP:20260424T223852
CREATED:20240522T180708Z
LAST-MODIFIED:20240522T180708Z
UID:10000884-1721901600-1721908800@explorepeace.org
SUMMARY:Walking by Faith (with Pastor Doug)
DESCRIPTION:
URL:https://explorepeace.org/event/walking-by-faith-with-pastor-doug/2024-07-25/
CATEGORIES:Meetings/Gatherings
END:VEVENT
BEGIN:VEVENT
DTSTART;TZID=America/Chicago:20240725T090000
DTEND;TZID=America/Chicago:20240725T120000
DTSTAMP:20260424T223852
CREATED:20240522T181146Z
LAST-MODIFIED:20240522T181146Z
UID:10000922-1721898000-1721908800@explorepeace.org
SUMMARY:Church Office Summer Hours (9am-noon)
DESCRIPTION:
URL:https://explorepeace.org/event/church-office-summer-hours-9am-noon-3/2024-07-25/
END:VEVENT
BEGIN:VEVENT
DTSTART;TZID=America/Chicago:20240725T090000
DTEND;TZID=America/Chicago:20240725T100000
DTSTAMP:20260424T223852
CREATED:20240522T180542Z
LAST-MODIFIED:20240522T180542Z
UID:10000867-1721898000-1721901600@explorepeace.org
SUMMARY:Coffee & Chocolate Bible Study (with Pastor Doug)
DESCRIPTION:Meet in the Fireside Room.  Bring your coffee!  We’ll have chocolate to share!
URL:https://explorepeace.org/event/coffee-chocolate-bible-study-with-pastor-doug/2024-07-25/
CATEGORIES:Meetings/Gatherings
END:VEVENT
BEGIN:VEVENT
DTSTART;TZID=America/Chicago:20240724T090000
DTEND;TZID=America/Chicago:20240724T120000
DTSTAMP:20260424T223852
CREATED:20240522T181011Z
LAST-MODIFIED:20240522T181011Z
UID:10000910-1721811600-1721822400@explorepeace.org
SUMMARY:Church Office Summer Hours (9am-noon)
DESCRIPTION:
URL:https://explorepeace.org/event/church-office-summer-hours-9am-noon-2/2024-07-24/
END:VEVENT
BEGIN:VEVENT
DTSTART;TZID=America/Chicago:20240723T173000
DTEND;TZID=America/Chicago:20240723T200000
DTSTAMP:20260424T223852
CREATED:20240625T154126Z
LAST-MODIFIED:20240625T154126Z
UID:10001025-1721755800-1721764800@explorepeace.org
SUMMARY:Live from the Park!  Family Fun Nights!
DESCRIPTION:We are going to celebrate summer together by gathering for music in Village Park. Bring your family and/or friends\, your picnic or carryout bag or plan to visit the food carts that arrive at 5:30pm. The music begins at 6:00pm and goes until 8:00pm. It is a free event for families. Bring your blanket\, your lawn chairs\, your sunscreen and bug spray and join these Peace Family Nights to listen to music\, meet new folks\, and let the children play. \nWe will gather on Tuesday\, June 25 (music by Mackenzie Moore\, Classic and Alternative Rock) and Tuesday\, July 23 (music by No Name String Band\, Appalachian Americana). \nLook for the little canopy shelter with the “Gather with Peace” sign at Village Park\, 410 E. Main St. in Waunakee. See you there. Questions? Talk to Pastor Karen and/or Lisa Bright.
URL:https://explorepeace.org/event/live-from-the-park-family-fun-nights/2024-07-23/
CATEGORIES:Special Events
END:VEVENT
BEGIN:VEVENT
DTSTART;TZID=America/Chicago:20240723T090000
DTEND;TZID=America/Chicago:20240723T120000
DTSTAMP:20260424T223852
CREATED:20240522T180858Z
LAST-MODIFIED:20240522T180858Z
UID:10000897-1721725200-1721736000@explorepeace.org
SUMMARY:Church Office Summer Hours (9am-noon)
DESCRIPTION:
URL:https://explorepeace.org/event/church-office-summer-hours-9am-noon/2024-07-23/
END:VEVENT
BEGIN:VEVENT
DTSTART;TZID=America/Chicago:20240721T100000
DTEND;TZID=America/Chicago:20240721T110000
DTSTAMP:20260424T223852
CREATED:20240517T165832Z
LAST-MODIFIED:20240517T165832Z
UID:10000850-1721556000-1721559600@explorepeace.org
SUMMARY:Coffee\, Fellowship & Donut Yum (happening after worship)
DESCRIPTION:
URL:https://explorepeace.org/event/coffee-fellowship-donut-yum-happening-after-worship/2024-07-21/
CATEGORIES:Meetings/Gatherings
END:VEVENT
BEGIN:VEVENT
DTSTART;TZID=America/Chicago:20240721T090000
DTEND;TZID=America/Chicago:20240721T100000
DTSTAMP:20260424T223852
CREATED:20240124T175300Z
LAST-MODIFIED:20240124T175300Z
UID:10000248-1721552400-1721556000@explorepeace.org
SUMMARY:Sunday Worship with Holy Communion
DESCRIPTION:
URL:https://explorepeace.org/event/sunday-worship-with-holy-communion-2/2024-07-21/
CATEGORIES:Worship
END:VEVENT
BEGIN:VEVENT
DTSTART;TZID=America/Chicago:20240718T100000
DTEND;TZID=America/Chicago:20240718T120000
DTSTAMP:20260424T223852
CREATED:20240522T180708Z
LAST-MODIFIED:20240522T180708Z
UID:10000883-1721296800-1721304000@explorepeace.org
SUMMARY:Walking by Faith (with Pastor Doug)
DESCRIPTION:
URL:https://explorepeace.org/event/walking-by-faith-with-pastor-doug/2024-07-18/
CATEGORIES:Meetings/Gatherings
END:VEVENT
BEGIN:VEVENT
DTSTART;TZID=America/Chicago:20240718T090000
DTEND;TZID=America/Chicago:20240718T120000
DTSTAMP:20260424T223852
CREATED:20240522T181146Z
LAST-MODIFIED:20240522T181146Z
UID:10000921-1721293200-1721304000@explorepeace.org
SUMMARY:Church Office Summer Hours (9am-noon)
DESCRIPTION:
URL:https://explorepeace.org/event/church-office-summer-hours-9am-noon-3/2024-07-18/
END:VEVENT
BEGIN:VEVENT
DTSTART;TZID=America/Chicago:20240718T090000
DTEND;TZID=America/Chicago:20240718T100000
DTSTAMP:20260424T223852
CREATED:20240522T180542Z
LAST-MODIFIED:20240522T180542Z
UID:10000866-1721293200-1721296800@explorepeace.org
SUMMARY:Coffee & Chocolate Bible Study (with Pastor Doug)
DESCRIPTION:Meet in the Fireside Room.  Bring your coffee!  We’ll have chocolate to share!
URL:https://explorepeace.org/event/coffee-chocolate-bible-study-with-pastor-doug/2024-07-18/
CATEGORIES:Meetings/Gatherings
END:VEVENT
BEGIN:VEVENT
DTSTART;TZID=America/Chicago:20240717T090000
DTEND;TZID=America/Chicago:20240717T120000
DTSTAMP:20260424T223852
CREATED:20240522T181011Z
LAST-MODIFIED:20240522T181011Z
UID:10000909-1721206800-1721217600@explorepeace.org
SUMMARY:Church Office Summer Hours (9am-noon)
DESCRIPTION:
URL:https://explorepeace.org/event/church-office-summer-hours-9am-noon-2/2024-07-17/
END:VEVENT
BEGIN:VEVENT
DTSTART;TZID=America/Chicago:20240716T090000
DTEND;TZID=America/Chicago:20240716T120000
DTSTAMP:20260424T223852
CREATED:20240522T180858Z
LAST-MODIFIED:20240522T180858Z
UID:10000896-1721120400-1721131200@explorepeace.org
SUMMARY:Church Office Summer Hours (9am-noon)
DESCRIPTION:
URL:https://explorepeace.org/event/church-office-summer-hours-9am-noon/2024-07-16/
END:VEVENT
BEGIN:VEVENT
DTSTART;TZID=America/Chicago:20240714T100000
DTEND;TZID=America/Chicago:20240714T110000
DTSTAMP:20260424T223852
CREATED:20240517T165832Z
LAST-MODIFIED:20240517T165832Z
UID:10000849-1720951200-1720954800@explorepeace.org
SUMMARY:Coffee\, Fellowship & Donut Yum (happening after worship)
DESCRIPTION:
URL:https://explorepeace.org/event/coffee-fellowship-donut-yum-happening-after-worship/2024-07-14/
CATEGORIES:Meetings/Gatherings
END:VEVENT
BEGIN:VEVENT
DTSTART;TZID=America/Chicago:20240714T090000
DTEND;TZID=America/Chicago:20240714T100000
DTSTAMP:20260424T223852
CREATED:20240124T175300Z
LAST-MODIFIED:20240124T175300Z
UID:10000247-1720947600-1720951200@explorepeace.org
SUMMARY:Sunday Worship with Holy Communion
DESCRIPTION:
URL:https://explorepeace.org/event/sunday-worship-with-holy-communion-2/2024-07-14/
CATEGORIES:Worship
END:VEVENT
BEGIN:VEVENT
DTSTART;TZID=America/Chicago:20240711T100000
DTEND;TZID=America/Chicago:20240711T120000
DTSTAMP:20260424T223852
CREATED:20240522T180708Z
LAST-MODIFIED:20240522T180708Z
UID:10000882-1720692000-1720699200@explorepeace.org
SUMMARY:Walking by Faith (with Pastor Doug)
DESCRIPTION:
URL:https://explorepeace.org/event/walking-by-faith-with-pastor-doug/2024-07-11/
CATEGORIES:Meetings/Gatherings
END:VEVENT
BEGIN:VEVENT
DTSTART;TZID=America/Chicago:20240711T090000
DTEND;TZID=America/Chicago:20240711T120000
DTSTAMP:20260424T223852
CREATED:20240522T181146Z
LAST-MODIFIED:20240522T181146Z
UID:10000920-1720688400-1720699200@explorepeace.org
SUMMARY:Church Office Summer Hours (9am-noon)
DESCRIPTION:
URL:https://explorepeace.org/event/church-office-summer-hours-9am-noon-3/2024-07-11/
END:VEVENT
BEGIN:VEVENT
DTSTART;TZID=America/Chicago:20240711T090000
DTEND;TZID=America/Chicago:20240711T100000
DTSTAMP:20260424T223852
CREATED:20240522T180542Z
LAST-MODIFIED:20240522T180542Z
UID:10000865-1720688400-1720692000@explorepeace.org
SUMMARY:Coffee & Chocolate Bible Study (with Pastor Doug)
DESCRIPTION:Meet in the Fireside Room.  Bring your coffee!  We’ll have chocolate to share!
URL:https://explorepeace.org/event/coffee-chocolate-bible-study-with-pastor-doug/2024-07-11/
CATEGORIES:Meetings/Gatherings
END:VEVENT
BEGIN:VEVENT
DTSTART;TZID=America/Chicago:20240710T090000
DTEND;TZID=America/Chicago:20240710T120000
DTSTAMP:20260424T223852
CREATED:20240522T181011Z
LAST-MODIFIED:20240522T181011Z
UID:10000908-1720602000-1720612800@explorepeace.org
SUMMARY:Church Office Summer Hours (9am-noon)
DESCRIPTION:
URL:https://explorepeace.org/event/church-office-summer-hours-9am-noon-2/2024-07-10/
END:VEVENT
BEGIN:VEVENT
DTSTART;TZID=America/Chicago:20240709T090000
DTEND;TZID=America/Chicago:20240709T120000
DTSTAMP:20260424T223852
CREATED:20240522T180858Z
LAST-MODIFIED:20240522T180858Z
UID:10000895-1720515600-1720526400@explorepeace.org
SUMMARY:Church Office Summer Hours (9am-noon)
DESCRIPTION:
URL:https://explorepeace.org/event/church-office-summer-hours-9am-noon/2024-07-09/
END:VEVENT
END:VCALENDAR