BEGIN:VCALENDAR
VERSION:2.0
PRODID:-//Peace Lutheran Church | Experience Christ. Explore Peace. - ECPv6.15.20//NONSGML v1.0//EN
CALSCALE:GREGORIAN
METHOD:PUBLISH
X-WR-CALNAME:Peace Lutheran Church | Experience Christ. Explore Peace.
X-ORIGINAL-URL:https://explorepeace.org
X-WR-CALDESC:Events for Peace Lutheran Church | Experience Christ. Explore Peace.
REFRESH-INTERVAL;VALUE=DURATION:PT1H
X-Robots-Tag:noindex
X-PUBLISHED-TTL:PT1H
BEGIN:VTIMEZONE
TZID:America/Chicago
BEGIN:DAYLIGHT
TZOFFSETFROM:-0600
TZOFFSETTO:-0500
TZNAME:CDT
DTSTART:20230312T080000
END:DAYLIGHT
BEGIN:STANDARD
TZOFFSETFROM:-0500
TZOFFSETTO:-0600
TZNAME:CST
DTSTART:20231105T070000
END:STANDARD
BEGIN:DAYLIGHT
TZOFFSETFROM:-0600
TZOFFSETTO:-0500
TZNAME:CDT
DTSTART:20240310T080000
END:DAYLIGHT
BEGIN:STANDARD
TZOFFSETFROM:-0500
TZOFFSETTO:-0600
TZNAME:CST
DTSTART:20241103T070000
END:STANDARD
BEGIN:DAYLIGHT
TZOFFSETFROM:-0600
TZOFFSETTO:-0500
TZNAME:CDT
DTSTART:20250309T080000
END:DAYLIGHT
BEGIN:STANDARD
TZOFFSETFROM:-0500
TZOFFSETTO:-0600
TZNAME:CST
DTSTART:20251102T070000
END:STANDARD
END:VTIMEZONE
BEGIN:VEVENT
DTSTART;TZID=America/Chicago:20240929T100000
DTEND;TZID=America/Chicago:20240929T110000
DTSTAMP:20260424T105303
CREATED:20240829T162935Z
LAST-MODIFIED:20240829T162935Z
UID:10001031-1727604000-1727607600@explorepeace.org
SUMMARY:Coffee\, Fellowship & Donut Yum
DESCRIPTION:
URL:https://explorepeace.org/event/coffee-fellowship-donut-yum/2024-09-29/
CATEGORIES:Meetings/Gatherings
END:VEVENT
BEGIN:VEVENT
DTSTART;TZID=America/Chicago:20240929T090000
DTEND;TZID=America/Chicago:20240929T100000
DTSTAMP:20260424T105303
CREATED:20240522T201207Z
LAST-MODIFIED:20240522T201207Z
UID:10001010-1727600400-1727604000@explorepeace.org
SUMMARY:Worship with Holy Communion
DESCRIPTION:
URL:https://explorepeace.org/event/worship-with-holy-communion/2024-09-29/
CATEGORIES:Worship
END:VEVENT
BEGIN:VEVENT
DTSTART;TZID=America/Chicago:20240929T090000
DTEND;TZID=America/Chicago:20240929T094500
DTSTAMP:20260424T105303
CREATED:20240829T163231Z
LAST-MODIFIED:20241023T200757Z
UID:10001047-1727600400-1727603100@explorepeace.org
SUMMARY:KiX (Kids in Christ) aka Sunday School (age 3 to grade 4)
DESCRIPTION:
URL:https://explorepeace.org/event/kix-kids-in-christ-aka-sunday-school-age-3-to-grade-4/2024-09-29/
CATEGORIES:Youth
END:VEVENT
BEGIN:VEVENT
DTSTART;TZID=America/Chicago:20240927T070000
DTEND;TZID=America/Chicago:20240927T143000
DTSTAMP:20260424T105303
CREATED:20240522T195532Z
LAST-MODIFIED:20240522T195532Z
UID:10000996-1727420400-1727447400@explorepeace.org
SUMMARY:Preschool & 4K
DESCRIPTION:
URL:https://explorepeace.org/event/preschool-4k-18/2024-09-27/
CATEGORIES:Preschool
END:VEVENT
BEGIN:VEVENT
DTSTART;TZID=America/Chicago:20240926T100000
DTEND;TZID=America/Chicago:20240926T110000
DTSTAMP:20260424T105303
CREATED:20240829T184923Z
LAST-MODIFIED:20240829T184923Z
UID:10001162-1727344800-1727348400@explorepeace.org
SUMMARY:Walking By Faith (with Pastor Doug)
DESCRIPTION:
URL:https://explorepeace.org/event/walking-by-faith-with-pastor-doug-2/2024-09-26/
CATEGORIES:Meetings/Gatherings
END:VEVENT
BEGIN:VEVENT
DTSTART;TZID=America/Chicago:20240926T090000
DTEND;TZID=America/Chicago:20240926T100000
DTSTAMP:20260424T105303
CREATED:20240829T184754Z
LAST-MODIFIED:20240829T184754Z
UID:10001147-1727341200-1727344800@explorepeace.org
SUMMARY:Coffee & Chocolate Bible Study (with Pastor Doug)
DESCRIPTION:
URL:https://explorepeace.org/event/coffee-chocolate-bible-study-with-pastor-doug-2/2024-09-26/
CATEGORIES:Meetings/Gatherings
END:VEVENT
BEGIN:VEVENT
DTSTART;TZID=America/Chicago:20240926T070000
DTEND;TZID=America/Chicago:20240926T153000
DTSTAMP:20260424T105303
CREATED:20240522T195144Z
LAST-MODIFIED:20240522T195144Z
UID:10000982-1727334000-1727364600@explorepeace.org
SUMMARY:Preschool & 4K
DESCRIPTION:
URL:https://explorepeace.org/event/preschool-4k-17/2024-09-26/
CATEGORIES:Preschool
END:VEVENT
BEGIN:VEVENT
DTSTART;TZID=America/Chicago:20240925T181500
DTEND;TZID=America/Chicago:20240925T184500
DTSTAMP:20260424T105303
CREATED:20240829T183723Z
LAST-MODIFIED:20240904T195822Z
UID:10001132-1727288100-1727289900@explorepeace.org
SUMMARY:Wednesday Worship
DESCRIPTION:
URL:https://explorepeace.org/event/wednesday-worship-6/2024-09-25/
CATEGORIES:Worship
END:VEVENT
BEGIN:VEVENT
DTSTART;TZID=America/Chicago:20240925T180000
DTEND;TZID=America/Chicago:20240925T184500
DTSTAMP:20260424T105303
CREATED:20240829T164206Z
LAST-MODIFIED:20241023T210804Z
UID:10001090-1727287200-1727289900@explorepeace.org
SUMMARY:KiX (Kids in Christ) aka Sunday School (age 3 to grade 4)
DESCRIPTION:
URL:https://explorepeace.org/event/kix-kids-in-christ-aka-sunday-school-age-3-to-grade-4-2/2024-09-25/
CATEGORIES:Youth
END:VEVENT
BEGIN:VEVENT
DTSTART;TZID=America/Chicago:20240925T171500
DTEND;TZID=America/Chicago:20240925T181500
DTSTAMP:20260424T105303
CREATED:20240829T183530Z
LAST-MODIFIED:20240904T195949Z
UID:10001118-1727284500-1727288100@explorepeace.org
SUMMARY:Common Table Cafe (meal in the Gallery)
DESCRIPTION:Everyone is welcome!
URL:https://explorepeace.org/event/common-table-cafe-meal-in-the-gallery/2024-09-25/
CATEGORIES:Meetings/Gatherings
END:VEVENT
BEGIN:VEVENT
DTSTART;TZID=America/Chicago:20240925T171500
DTEND;TZID=America/Chicago:20240925T180000
DTSTAMP:20260424T105303
CREATED:20240829T180754Z
LAST-MODIFIED:20240904T200042Z
UID:10001104-1727284500-1727287200@explorepeace.org
SUMMARY:Chapel Chimes (musical group of 4th - 6th graders)
DESCRIPTION:Sherry Johnson\, Director … meet in the Music Room on Wednesdays!
URL:https://explorepeace.org/event/chapel-chimes-musical-group-of-4th-6th-graders/2024-09-25/
CATEGORIES:Music,Youth
END:VEVENT
BEGIN:VEVENT
DTSTART;TZID=America/Chicago:20240925T161500
DTEND;TZID=America/Chicago:20240925T171500
DTSTAMP:20260424T105303
CREATED:20240829T175901Z
LAST-MODIFIED:20241023T211200Z
UID:10001076-1727280900-1727284500@explorepeace.org
SUMMARY:Route 56 (for 5th & 6th graders)
DESCRIPTION:It is the start of our confirmation program and focuses on The Lord’s Prayer\, The 10 Commandments and the Apostle’s Creed. Understanding the needs of intermediate school students\, this group learns in active formats to make the best use of the time we share on Wednesdays.
URL:https://explorepeace.org/event/route-56-for-5th-6th-graders/2024-09-25/
CATEGORIES:Youth
END:VEVENT
BEGIN:VEVENT
DTSTART;TZID=America/Chicago:20240925T160000
DTEND;TZID=America/Chicago:20240925T180000
DTSTAMP:20260424T105303
CREATED:20240918T160614Z
LAST-MODIFIED:20240918T160614Z
UID:10001199-1727280000-1727287200@explorepeace.org
SUMMARY:Leaf Printing Workshop
DESCRIPTION:As the growing season comes to a close – we will gather flowers and leaves from our vast collection of garden beds and trees. We will use these findings as creative materials to incorporate into artwork. \nAll ages are welcome to please join us on Wednesday: \n‘Drop in anytime between 4:00 – 6:00pm’ here in the Narthex with me\, Suzanne Sackett.  Hope to see you then!
URL:https://explorepeace.org/event/leaf-printing-workshop-2/
CATEGORIES:Special Events,Youth
END:VEVENT
BEGIN:VEVENT
DTSTART;TZID=America/Chicago:20240925T070000
DTEND;TZID=America/Chicago:20240925T153000
DTSTAMP:20260424T105303
CREATED:20240522T191718Z
LAST-MODIFIED:20240522T191718Z
UID:10000967-1727247600-1727278200@explorepeace.org
SUMMARY:Preschool & 4K
DESCRIPTION:
URL:https://explorepeace.org/event/preschool-4k-16/2024-09-25/
CATEGORIES:Preschool
END:VEVENT
BEGIN:VEVENT
DTSTART;TZID=America/Chicago:20240924T070000
DTEND;TZID=America/Chicago:20240924T153000
DTSTAMP:20260424T105303
CREATED:20240522T191255Z
LAST-MODIFIED:20240522T191255Z
UID:10000936-1727161200-1727191800@explorepeace.org
SUMMARY:Preschool & 4K
DESCRIPTION:
URL:https://explorepeace.org/event/preschool-4k-14/2024-09-24/
CATEGORIES:Preschool
END:VEVENT
BEGIN:VEVENT
DTSTART;TZID=America/Chicago:20240923T070000
DTEND;TZID=America/Chicago:20240923T153000
DTSTAMP:20260424T105303
CREATED:20240522T191504Z
LAST-MODIFIED:20240522T191504Z
UID:10000951-1727074800-1727105400@explorepeace.org
SUMMARY:Preschool & 4K
DESCRIPTION:
URL:https://explorepeace.org/event/preschool-4k-15/2024-09-23/
CATEGORIES:Preschool
END:VEVENT
BEGIN:VEVENT
DTSTART;TZID=America/Chicago:20240922T100000
DTEND;TZID=America/Chicago:20240922T110000
DTSTAMP:20260424T105303
CREATED:20240829T185305Z
LAST-MODIFIED:20240829T185305Z
UID:10001173-1726999200-1727002800@explorepeace.org
SUMMARY:Peace Choir (meet in the Music Room)
DESCRIPTION:
URL:https://explorepeace.org/event/peace-choir-meet-in-the-music-room/2024-09-22/
CATEGORIES:Music
END:VEVENT
BEGIN:VEVENT
DTSTART;TZID=America/Chicago:20240922T100000
DTEND;TZID=America/Chicago:20240922T110000
DTSTAMP:20260424T105304
CREATED:20240829T162935Z
LAST-MODIFIED:20240829T162935Z
UID:10001030-1726999200-1727002800@explorepeace.org
SUMMARY:Coffee\, Fellowship & Donut Yum
DESCRIPTION:
URL:https://explorepeace.org/event/coffee-fellowship-donut-yum/2024-09-22/
CATEGORIES:Meetings/Gatherings
END:VEVENT
BEGIN:VEVENT
DTSTART;TZID=America/Chicago:20240922T090000
DTEND;TZID=America/Chicago:20240922T100000
DTSTAMP:20260424T105304
CREATED:20240522T201207Z
LAST-MODIFIED:20240522T201207Z
UID:10001009-1726995600-1726999200@explorepeace.org
SUMMARY:Worship with Holy Communion
DESCRIPTION:
URL:https://explorepeace.org/event/worship-with-holy-communion/2024-09-22/
CATEGORIES:Worship
END:VEVENT
BEGIN:VEVENT
DTSTART;TZID=America/Chicago:20240922T090000
DTEND;TZID=America/Chicago:20240922T094500
DTSTAMP:20260424T105304
CREATED:20240829T163231Z
LAST-MODIFIED:20241023T200757Z
UID:10001046-1726995600-1726998300@explorepeace.org
SUMMARY:KiX (Kids in Christ) aka Sunday School (age 3 to grade 4)
DESCRIPTION:
URL:https://explorepeace.org/event/kix-kids-in-christ-aka-sunday-school-age-3-to-grade-4/2024-09-22/
CATEGORIES:Youth
END:VEVENT
BEGIN:VEVENT
DTSTART;TZID=America/Chicago:20240920T070000
DTEND;TZID=America/Chicago:20240920T143000
DTSTAMP:20260424T105304
CREATED:20240522T195532Z
LAST-MODIFIED:20240522T195532Z
UID:10000995-1726815600-1726842600@explorepeace.org
SUMMARY:Preschool & 4K
DESCRIPTION:
URL:https://explorepeace.org/event/preschool-4k-18/2024-09-20/
CATEGORIES:Preschool
END:VEVENT
BEGIN:VEVENT
DTSTART;TZID=America/Chicago:20240919T100000
DTEND;TZID=America/Chicago:20240919T110000
DTSTAMP:20260424T105304
CREATED:20240829T184923Z
LAST-MODIFIED:20240829T184923Z
UID:10001161-1726740000-1726743600@explorepeace.org
SUMMARY:Walking By Faith (with Pastor Doug)
DESCRIPTION:
URL:https://explorepeace.org/event/walking-by-faith-with-pastor-doug-2/2024-09-19/
CATEGORIES:Meetings/Gatherings
END:VEVENT
BEGIN:VEVENT
DTSTART;TZID=America/Chicago:20240919T090000
DTEND;TZID=America/Chicago:20240919T100000
DTSTAMP:20260424T105304
CREATED:20240829T184754Z
LAST-MODIFIED:20240829T184754Z
UID:10001146-1726736400-1726740000@explorepeace.org
SUMMARY:Coffee & Chocolate Bible Study (with Pastor Doug)
DESCRIPTION:
URL:https://explorepeace.org/event/coffee-chocolate-bible-study-with-pastor-doug-2/2024-09-19/
CATEGORIES:Meetings/Gatherings
END:VEVENT
BEGIN:VEVENT
DTSTART;TZID=America/Chicago:20240919T070000
DTEND;TZID=America/Chicago:20240919T153000
DTSTAMP:20260424T105304
CREATED:20240522T195144Z
LAST-MODIFIED:20240522T195144Z
UID:10000981-1726729200-1726759800@explorepeace.org
SUMMARY:Preschool & 4K
DESCRIPTION:
URL:https://explorepeace.org/event/preschool-4k-17/2024-09-19/
CATEGORIES:Preschool
END:VEVENT
BEGIN:VEVENT
DTSTART;TZID=America/Chicago:20240918T181500
DTEND;TZID=America/Chicago:20240918T184500
DTSTAMP:20260424T105304
CREATED:20240829T183723Z
LAST-MODIFIED:20240904T195822Z
UID:10001131-1726683300-1726685100@explorepeace.org
SUMMARY:Wednesday Worship
DESCRIPTION:
URL:https://explorepeace.org/event/wednesday-worship-6/2024-09-18/
CATEGORIES:Worship
END:VEVENT
BEGIN:VEVENT
DTSTART;TZID=America/Chicago:20240918T180000
DTEND;TZID=America/Chicago:20240918T184500
DTSTAMP:20260424T105304
CREATED:20240829T164206Z
LAST-MODIFIED:20241023T210804Z
UID:10001089-1726682400-1726685100@explorepeace.org
SUMMARY:KiX (Kids in Christ) aka Sunday School (age 3 to grade 4)
DESCRIPTION:
URL:https://explorepeace.org/event/kix-kids-in-christ-aka-sunday-school-age-3-to-grade-4-2/2024-09-18/
CATEGORIES:Youth
END:VEVENT
BEGIN:VEVENT
DTSTART;TZID=America/Chicago:20240918T171500
DTEND;TZID=America/Chicago:20240918T181500
DTSTAMP:20260424T105304
CREATED:20240829T183530Z
LAST-MODIFIED:20240904T195949Z
UID:10001117-1726679700-1726683300@explorepeace.org
SUMMARY:Common Table Cafe (meal in the Gallery)
DESCRIPTION:Everyone is welcome!
URL:https://explorepeace.org/event/common-table-cafe-meal-in-the-gallery/2024-09-18/
CATEGORIES:Meetings/Gatherings
END:VEVENT
BEGIN:VEVENT
DTSTART;TZID=America/Chicago:20240918T171500
DTEND;TZID=America/Chicago:20240918T180000
DTSTAMP:20260424T105304
CREATED:20240829T180754Z
LAST-MODIFIED:20240904T200042Z
UID:10001103-1726679700-1726682400@explorepeace.org
SUMMARY:Chapel Chimes (musical group of 4th - 6th graders)
DESCRIPTION:Sherry Johnson\, Director … meet in the Music Room on Wednesdays!
URL:https://explorepeace.org/event/chapel-chimes-musical-group-of-4th-6th-graders/2024-09-18/
CATEGORIES:Music,Youth
END:VEVENT
BEGIN:VEVENT
DTSTART;TZID=America/Chicago:20240918T161500
DTEND;TZID=America/Chicago:20240918T171500
DTSTAMP:20260424T105304
CREATED:20240829T175901Z
LAST-MODIFIED:20241023T211200Z
UID:10001075-1726676100-1726679700@explorepeace.org
SUMMARY:Route 56 (for 5th & 6th graders)
DESCRIPTION:It is the start of our confirmation program and focuses on The Lord’s Prayer\, The 10 Commandments and the Apostle’s Creed. Understanding the needs of intermediate school students\, this group learns in active formats to make the best use of the time we share on Wednesdays.
URL:https://explorepeace.org/event/route-56-for-5th-6th-graders/2024-09-18/
CATEGORIES:Youth
END:VEVENT
BEGIN:VEVENT
DTSTART;TZID=America/Chicago:20240918T160000
DTEND;TZID=America/Chicago:20240918T180000
DTSTAMP:20260424T105304
CREATED:20240913T153029Z
LAST-MODIFIED:20240918T160514Z
UID:10001196-1726675200-1726682400@explorepeace.org
SUMMARY:Leaf Printing Workshop - cancelled (rescheduled for NEXT Wed Sept 25)
DESCRIPTION:As the growing season comes to a close – we will gather flowers and leaves from our vast collection of garden beds and trees. We will use these findings as creative materials to incorporate into artwork. \nAll ages are welcome to please join us on Wednesday: \n‘Drop in anytime between 4:00 – 6:00pm’ here in the Narthex with me\, Suzanne Sackett.  Hope to see you then!
URL:https://explorepeace.org/event/leaf-printing-workshop/
CATEGORIES:Meetings/Gatherings,Special Events,Youth
END:VEVENT
END:VCALENDAR