BEGIN:VCALENDAR
VERSION:2.0
PRODID:-//Peace Lutheran Church | Experience Christ. Explore Peace. - ECPv6.15.20//NONSGML v1.0//EN
CALSCALE:GREGORIAN
METHOD:PUBLISH
X-WR-CALNAME:Peace Lutheran Church | Experience Christ. Explore Peace.
X-ORIGINAL-URL:https://explorepeace.org
X-WR-CALDESC:Events for Peace Lutheran Church | Experience Christ. Explore Peace.
REFRESH-INTERVAL;VALUE=DURATION:PT1H
X-Robots-Tag:noindex
X-PUBLISHED-TTL:PT1H
BEGIN:VTIMEZONE
TZID:America/Chicago
BEGIN:DAYLIGHT
TZOFFSETFROM:-0600
TZOFFSETTO:-0500
TZNAME:CDT
DTSTART:20230312T080000
END:DAYLIGHT
BEGIN:STANDARD
TZOFFSETFROM:-0500
TZOFFSETTO:-0600
TZNAME:CST
DTSTART:20231105T070000
END:STANDARD
BEGIN:DAYLIGHT
TZOFFSETFROM:-0600
TZOFFSETTO:-0500
TZNAME:CDT
DTSTART:20240310T080000
END:DAYLIGHT
BEGIN:STANDARD
TZOFFSETFROM:-0500
TZOFFSETTO:-0600
TZNAME:CST
DTSTART:20241103T070000
END:STANDARD
BEGIN:DAYLIGHT
TZOFFSETFROM:-0600
TZOFFSETTO:-0500
TZNAME:CDT
DTSTART:20250309T080000
END:DAYLIGHT
BEGIN:STANDARD
TZOFFSETFROM:-0500
TZOFFSETTO:-0600
TZNAME:CST
DTSTART:20251102T070000
END:STANDARD
END:VTIMEZONE
BEGIN:VEVENT
DTSTART;TZID=America/Chicago:20240915T090000
DTEND;TZID=America/Chicago:20240915T094500
DTSTAMP:20260425T131522
CREATED:20240829T163231Z
LAST-MODIFIED:20241023T200757Z
UID:10001045-1726390800-1726393500@explorepeace.org
SUMMARY:KiX (Kids in Christ) aka Sunday School (age 3 to grade 4)
DESCRIPTION:
URL:https://explorepeace.org/event/kix-kids-in-christ-aka-sunday-school-age-3-to-grade-4/2024-09-15/
CATEGORIES:Youth
END:VEVENT
BEGIN:VEVENT
DTSTART;TZID=America/Chicago:20240913T070000
DTEND;TZID=America/Chicago:20240913T143000
DTSTAMP:20260425T131522
CREATED:20240522T195532Z
LAST-MODIFIED:20240522T195532Z
UID:10000994-1726210800-1726237800@explorepeace.org
SUMMARY:Preschool & 4K
DESCRIPTION:
URL:https://explorepeace.org/event/preschool-4k-18/2024-09-13/
CATEGORIES:Preschool
END:VEVENT
BEGIN:VEVENT
DTSTART;TZID=America/Chicago:20240912T100000
DTEND;TZID=America/Chicago:20240912T110000
DTSTAMP:20260425T131522
CREATED:20240829T184923Z
LAST-MODIFIED:20240829T184923Z
UID:10001160-1726135200-1726138800@explorepeace.org
SUMMARY:Walking By Faith (with Pastor Doug)
DESCRIPTION:
URL:https://explorepeace.org/event/walking-by-faith-with-pastor-doug-2/2024-09-12/
CATEGORIES:Meetings/Gatherings
END:VEVENT
BEGIN:VEVENT
DTSTART;TZID=America/Chicago:20240912T090000
DTEND;TZID=America/Chicago:20240912T100000
DTSTAMP:20260425T131522
CREATED:20240829T184754Z
LAST-MODIFIED:20240829T184754Z
UID:10001145-1726131600-1726135200@explorepeace.org
SUMMARY:Coffee & Chocolate Bible Study (with Pastor Doug)
DESCRIPTION:
URL:https://explorepeace.org/event/coffee-chocolate-bible-study-with-pastor-doug-2/2024-09-12/
CATEGORIES:Meetings/Gatherings
END:VEVENT
BEGIN:VEVENT
DTSTART;TZID=America/Chicago:20240912T070000
DTEND;TZID=America/Chicago:20240912T153000
DTSTAMP:20260425T131522
CREATED:20240522T195144Z
LAST-MODIFIED:20240522T195144Z
UID:10000980-1726124400-1726155000@explorepeace.org
SUMMARY:Preschool & 4K
DESCRIPTION:
URL:https://explorepeace.org/event/preschool-4k-17/2024-09-12/
CATEGORIES:Preschool
END:VEVENT
BEGIN:VEVENT
DTSTART;TZID=America/Chicago:20240911T181500
DTEND;TZID=America/Chicago:20240911T184500
DTSTAMP:20260425T131522
CREATED:20240829T183723Z
LAST-MODIFIED:20240904T195822Z
UID:10001130-1726078500-1726080300@explorepeace.org
SUMMARY:Wednesday Worship
DESCRIPTION:
URL:https://explorepeace.org/event/wednesday-worship-6/2024-09-11/
CATEGORIES:Worship
END:VEVENT
BEGIN:VEVENT
DTSTART;TZID=America/Chicago:20240911T180000
DTEND;TZID=America/Chicago:20240911T184500
DTSTAMP:20260425T131522
CREATED:20240829T164206Z
LAST-MODIFIED:20241023T210804Z
UID:10001088-1726077600-1726080300@explorepeace.org
SUMMARY:KiX (Kids in Christ) aka Sunday School (age 3 to grade 4)
DESCRIPTION:
URL:https://explorepeace.org/event/kix-kids-in-christ-aka-sunday-school-age-3-to-grade-4-2/2024-09-11/
CATEGORIES:Youth
END:VEVENT
BEGIN:VEVENT
DTSTART;TZID=America/Chicago:20240911T171500
DTEND;TZID=America/Chicago:20240911T181500
DTSTAMP:20260425T131522
CREATED:20240829T183530Z
LAST-MODIFIED:20240904T195949Z
UID:10001116-1726074900-1726078500@explorepeace.org
SUMMARY:Common Table Cafe (meal in the Gallery)
DESCRIPTION:Everyone is welcome!
URL:https://explorepeace.org/event/common-table-cafe-meal-in-the-gallery/2024-09-11/
CATEGORIES:Meetings/Gatherings
END:VEVENT
BEGIN:VEVENT
DTSTART;TZID=America/Chicago:20240911T171500
DTEND;TZID=America/Chicago:20240911T180000
DTSTAMP:20260425T131522
CREATED:20240829T180754Z
LAST-MODIFIED:20240904T200042Z
UID:10001102-1726074900-1726077600@explorepeace.org
SUMMARY:Chapel Chimes (musical group of 4th - 6th graders)
DESCRIPTION:Sherry Johnson\, Director … meet in the Music Room on Wednesdays!
URL:https://explorepeace.org/event/chapel-chimes-musical-group-of-4th-6th-graders/2024-09-11/
CATEGORIES:Music,Youth
END:VEVENT
BEGIN:VEVENT
DTSTART;TZID=America/Chicago:20240911T161500
DTEND;TZID=America/Chicago:20240911T171500
DTSTAMP:20260425T131522
CREATED:20240829T175901Z
LAST-MODIFIED:20241023T211200Z
UID:10001074-1726071300-1726074900@explorepeace.org
SUMMARY:Route 56 (for 5th & 6th graders)
DESCRIPTION:It is the start of our confirmation program and focuses on The Lord’s Prayer\, The 10 Commandments and the Apostle’s Creed. Understanding the needs of intermediate school students\, this group learns in active formats to make the best use of the time we share on Wednesdays.
URL:https://explorepeace.org/event/route-56-for-5th-6th-graders/2024-09-11/
CATEGORIES:Youth
END:VEVENT
BEGIN:VEVENT
DTSTART;TZID=America/Chicago:20240911T070000
DTEND;TZID=America/Chicago:20240911T153000
DTSTAMP:20260425T131522
CREATED:20240522T191718Z
LAST-MODIFIED:20240522T191718Z
UID:10000965-1726038000-1726068600@explorepeace.org
SUMMARY:Preschool & 4K
DESCRIPTION:
URL:https://explorepeace.org/event/preschool-4k-16/2024-09-11/
CATEGORIES:Preschool
END:VEVENT
BEGIN:VEVENT
DTSTART;TZID=America/Chicago:20240910T070000
DTEND;TZID=America/Chicago:20240910T153000
DTSTAMP:20260425T131522
CREATED:20240522T191255Z
LAST-MODIFIED:20240522T191255Z
UID:10000934-1725951600-1725982200@explorepeace.org
SUMMARY:Preschool & 4K
DESCRIPTION:
URL:https://explorepeace.org/event/preschool-4k-14/2024-09-10/
CATEGORIES:Preschool
END:VEVENT
BEGIN:VEVENT
DTSTART;TZID=America/Chicago:20240909T070000
DTEND;TZID=America/Chicago:20240909T153000
DTSTAMP:20260425T131522
CREATED:20240522T191504Z
LAST-MODIFIED:20240522T191504Z
UID:10000949-1725865200-1725895800@explorepeace.org
SUMMARY:Preschool & 4K
DESCRIPTION:
URL:https://explorepeace.org/event/preschool-4k-15/2024-09-09/
CATEGORIES:Preschool
END:VEVENT
BEGIN:VEVENT
DTSTART;TZID=America/Chicago:20240908T100000
DTEND;TZID=America/Chicago:20240908T110000
DTSTAMP:20260425T131522
CREATED:20240829T185305Z
LAST-MODIFIED:20240829T185305Z
UID:10001171-1725789600-1725793200@explorepeace.org
SUMMARY:Peace Choir (meet in the Music Room)
DESCRIPTION:
URL:https://explorepeace.org/event/peace-choir-meet-in-the-music-room/2024-09-08/
CATEGORIES:Music
END:VEVENT
BEGIN:VEVENT
DTSTART;TZID=America/Chicago:20240908T100000
DTEND;TZID=America/Chicago:20240908T110000
DTSTAMP:20260425T131522
CREATED:20240829T162935Z
LAST-MODIFIED:20240829T162935Z
UID:10001028-1725789600-1725793200@explorepeace.org
SUMMARY:Coffee\, Fellowship & Donut Yum
DESCRIPTION:
URL:https://explorepeace.org/event/coffee-fellowship-donut-yum/2024-09-08/
CATEGORIES:Meetings/Gatherings
END:VEVENT
BEGIN:VEVENT
DTSTART;TZID=America/Chicago:20240908T090000
DTEND;TZID=America/Chicago:20240908T100000
DTSTAMP:20260425T131522
CREATED:20240522T201207Z
LAST-MODIFIED:20240522T201207Z
UID:10001007-1725786000-1725789600@explorepeace.org
SUMMARY:Worship with Holy Communion
DESCRIPTION:
URL:https://explorepeace.org/event/worship-with-holy-communion/2024-09-08/
CATEGORIES:Worship
END:VEVENT
BEGIN:VEVENT
DTSTART;TZID=America/Chicago:20240908T090000
DTEND;TZID=America/Chicago:20240908T094500
DTSTAMP:20260425T131522
CREATED:20240829T163231Z
LAST-MODIFIED:20241023T200757Z
UID:10001044-1725786000-1725788700@explorepeace.org
SUMMARY:KiX (Kids in Christ) aka Sunday School (age 3 to grade 4)
DESCRIPTION:
URL:https://explorepeace.org/event/kix-kids-in-christ-aka-sunday-school-age-3-to-grade-4/2024-09-08/
CATEGORIES:Youth
END:VEVENT
BEGIN:VEVENT
DTSTART;TZID=America/Chicago:20240906T070000
DTEND;TZID=America/Chicago:20240906T143000
DTSTAMP:20260425T131522
CREATED:20240522T195532Z
LAST-MODIFIED:20240522T195532Z
UID:10000993-1725606000-1725633000@explorepeace.org
SUMMARY:Preschool & 4K
DESCRIPTION:
URL:https://explorepeace.org/event/preschool-4k-18/2024-09-06/
CATEGORIES:Preschool
END:VEVENT
BEGIN:VEVENT
DTSTART;TZID=America/Chicago:20240905T100000
DTEND;TZID=America/Chicago:20240905T110000
DTSTAMP:20260425T131522
CREATED:20240829T184923Z
LAST-MODIFIED:20240829T184923Z
UID:10001159-1725530400-1725534000@explorepeace.org
SUMMARY:Walking By Faith (with Pastor Doug)
DESCRIPTION:
URL:https://explorepeace.org/event/walking-by-faith-with-pastor-doug-2/2024-09-05/
CATEGORIES:Meetings/Gatherings
END:VEVENT
BEGIN:VEVENT
DTSTART;TZID=America/Chicago:20240905T090000
DTEND;TZID=America/Chicago:20240905T100000
DTSTAMP:20260425T131522
CREATED:20240829T184754Z
LAST-MODIFIED:20240829T184754Z
UID:10001144-1725526800-1725530400@explorepeace.org
SUMMARY:Coffee & Chocolate Bible Study (with Pastor Doug)
DESCRIPTION:
URL:https://explorepeace.org/event/coffee-chocolate-bible-study-with-pastor-doug-2/2024-09-05/
CATEGORIES:Meetings/Gatherings
END:VEVENT
BEGIN:VEVENT
DTSTART;TZID=America/Chicago:20240905T070000
DTEND;TZID=America/Chicago:20240905T153000
DTSTAMP:20260425T131522
CREATED:20240522T195144Z
LAST-MODIFIED:20240522T195144Z
UID:10000979-1725519600-1725550200@explorepeace.org
SUMMARY:Preschool & 4K
DESCRIPTION:
URL:https://explorepeace.org/event/preschool-4k-17/2024-09-05/
CATEGORIES:Preschool
END:VEVENT
BEGIN:VEVENT
DTSTART;TZID=America/Chicago:20240904T143000
DTEND;TZID=America/Chicago:20240904T163000
DTSTAMP:20260425T131522
CREATED:20240904T200334Z
LAST-MODIFIED:20240904T200334Z
UID:10001194-1725460200-1725467400@explorepeace.org
SUMMARY:Let's Celebrate with Kona Ice!
DESCRIPTION:Join us to celebrate the first week of school this coming Wednesday\, September 4 from 2:30-430pm for Kona Ice. \nPlay\, relax\, and enjoy the sweet taste of summer one more time…and tell us about the first days of school. \nWe cannot wait to see you. Bring your friends. A free treat for the whole community.
URL:https://explorepeace.org/event/lets-celebrate-with-kona-ice/
CATEGORIES:Special Events,Youth
END:VEVENT
BEGIN:VEVENT
DTSTART;TZID=America/Chicago:20240904T070000
DTEND;TZID=America/Chicago:20240904T153000
DTSTAMP:20260425T131522
CREATED:20240522T191718Z
LAST-MODIFIED:20240522T191718Z
UID:10000964-1725433200-1725463800@explorepeace.org
SUMMARY:Preschool & 4K
DESCRIPTION:
URL:https://explorepeace.org/event/preschool-4k-16/2024-09-04/
CATEGORIES:Preschool
END:VEVENT
BEGIN:VEVENT
DTSTART;TZID=America/Chicago:20240903T070000
DTEND;TZID=America/Chicago:20240903T153000
DTSTAMP:20260425T131522
CREATED:20240522T191255Z
LAST-MODIFIED:20240522T191255Z
UID:10000933-1725346800-1725377400@explorepeace.org
SUMMARY:Preschool & 4K
DESCRIPTION:
URL:https://explorepeace.org/event/preschool-4k-14/2024-09-03/
CATEGORIES:Preschool
END:VEVENT
BEGIN:VEVENT
DTSTART;TZID=America/Chicago:20240901T100000
DTEND;TZID=America/Chicago:20240901T110000
DTSTAMP:20260425T131522
CREATED:20240829T162935Z
LAST-MODIFIED:20240829T162935Z
UID:10001027-1725184800-1725188400@explorepeace.org
SUMMARY:Coffee\, Fellowship & Donut Yum
DESCRIPTION:
URL:https://explorepeace.org/event/coffee-fellowship-donut-yum/2024-09-01/
CATEGORIES:Meetings/Gatherings
END:VEVENT
BEGIN:VEVENT
DTSTART;TZID=America/Chicago:20240901T090000
DTEND;TZID=America/Chicago:20240901T100000
DTSTAMP:20260425T131522
CREATED:20240522T201207Z
LAST-MODIFIED:20240522T201207Z
UID:10001006-1725181200-1725184800@explorepeace.org
SUMMARY:Worship with Holy Communion
DESCRIPTION:
URL:https://explorepeace.org/event/worship-with-holy-communion/2024-09-01/
CATEGORIES:Worship
END:VEVENT
BEGIN:VEVENT
DTSTART;TZID=America/Chicago:20240829T100000
DTEND;TZID=America/Chicago:20240829T120000
DTSTAMP:20260425T131522
CREATED:20240522T180708Z
LAST-MODIFIED:20240522T180708Z
UID:10000889-1724925600-1724932800@explorepeace.org
SUMMARY:Walking by Faith (with Pastor Doug)
DESCRIPTION:
URL:https://explorepeace.org/event/walking-by-faith-with-pastor-doug/2024-08-29/
CATEGORIES:Meetings/Gatherings
END:VEVENT
BEGIN:VEVENT
DTSTART;TZID=America/Chicago:20240829T090000
DTEND;TZID=America/Chicago:20240829T120000
DTSTAMP:20260425T131522
CREATED:20240522T181146Z
LAST-MODIFIED:20240522T181146Z
UID:10000927-1724922000-1724932800@explorepeace.org
SUMMARY:Church Office Summer Hours (9am-noon)
DESCRIPTION:
URL:https://explorepeace.org/event/church-office-summer-hours-9am-noon-3/2024-08-29/
END:VEVENT
BEGIN:VEVENT
DTSTART;TZID=America/Chicago:20240829T090000
DTEND;TZID=America/Chicago:20240829T100000
DTSTAMP:20260425T131522
CREATED:20240522T180542Z
LAST-MODIFIED:20240522T180542Z
UID:10000872-1724922000-1724925600@explorepeace.org
SUMMARY:Coffee & Chocolate Bible Study (with Pastor Doug)
DESCRIPTION:Meet in the Fireside Room.  Bring your coffee!  We’ll have chocolate to share!
URL:https://explorepeace.org/event/coffee-chocolate-bible-study-with-pastor-doug/2024-08-29/
CATEGORIES:Meetings/Gatherings
END:VEVENT
BEGIN:VEVENT
DTSTART;TZID=America/Chicago:20240828T090000
DTEND;TZID=America/Chicago:20240828T120000
DTSTAMP:20260425T131522
CREATED:20240522T181011Z
LAST-MODIFIED:20240522T181011Z
UID:10000915-1724835600-1724846400@explorepeace.org
SUMMARY:Church Office Summer Hours (9am-noon)
DESCRIPTION:
URL:https://explorepeace.org/event/church-office-summer-hours-9am-noon-2/2024-08-28/
END:VEVENT
END:VCALENDAR