BEGIN:VCALENDAR
VERSION:2.0
PRODID:-//Peace Lutheran Church | Experience Christ. Explore Peace. - ECPv6.15.20//NONSGML v1.0//EN
CALSCALE:GREGORIAN
METHOD:PUBLISH
X-WR-CALNAME:Peace Lutheran Church | Experience Christ. Explore Peace.
X-ORIGINAL-URL:https://explorepeace.org
X-WR-CALDESC:Events for Peace Lutheran Church | Experience Christ. Explore Peace.
REFRESH-INTERVAL;VALUE=DURATION:PT1H
X-Robots-Tag:noindex
X-PUBLISHED-TTL:PT1H
BEGIN:VTIMEZONE
TZID:America/Chicago
BEGIN:DAYLIGHT
TZOFFSETFROM:-0600
TZOFFSETTO:-0500
TZNAME:CDT
DTSTART:20230312T080000
END:DAYLIGHT
BEGIN:STANDARD
TZOFFSETFROM:-0500
TZOFFSETTO:-0600
TZNAME:CST
DTSTART:20231105T070000
END:STANDARD
BEGIN:DAYLIGHT
TZOFFSETFROM:-0600
TZOFFSETTO:-0500
TZNAME:CDT
DTSTART:20240310T080000
END:DAYLIGHT
BEGIN:STANDARD
TZOFFSETFROM:-0500
TZOFFSETTO:-0600
TZNAME:CST
DTSTART:20241103T070000
END:STANDARD
BEGIN:DAYLIGHT
TZOFFSETFROM:-0600
TZOFFSETTO:-0500
TZNAME:CDT
DTSTART:20250309T080000
END:DAYLIGHT
BEGIN:STANDARD
TZOFFSETFROM:-0500
TZOFFSETTO:-0600
TZNAME:CST
DTSTART:20251102T070000
END:STANDARD
END:VTIMEZONE
BEGIN:VEVENT
DTSTART;TZID=America/Chicago:20241010T100000
DTEND;TZID=America/Chicago:20241010T110000
DTSTAMP:20260424T065837
CREATED:20240829T184923Z
LAST-MODIFIED:20240829T184923Z
UID:10001164-1728554400-1728558000@explorepeace.org
SUMMARY:Walking By Faith (with Pastor Doug)
DESCRIPTION:
URL:https://explorepeace.org/event/walking-by-faith-with-pastor-doug-2/2024-10-10/
CATEGORIES:Meetings/Gatherings
END:VEVENT
BEGIN:VEVENT
DTSTART;TZID=America/Chicago:20241010T090000
DTEND;TZID=America/Chicago:20241010T100000
DTSTAMP:20260424T065837
CREATED:20240829T184754Z
LAST-MODIFIED:20240829T184754Z
UID:10001149-1728550800-1728554400@explorepeace.org
SUMMARY:Coffee & Chocolate Bible Study (with Pastor Doug)
DESCRIPTION:
URL:https://explorepeace.org/event/coffee-chocolate-bible-study-with-pastor-doug-2/2024-10-10/
CATEGORIES:Meetings/Gatherings
END:VEVENT
BEGIN:VEVENT
DTSTART;TZID=America/Chicago:20241010T070000
DTEND;TZID=America/Chicago:20241010T153000
DTSTAMP:20260424T065837
CREATED:20240522T195144Z
LAST-MODIFIED:20240522T195144Z
UID:10000984-1728543600-1728574200@explorepeace.org
SUMMARY:Preschool & 4K
DESCRIPTION:
URL:https://explorepeace.org/event/preschool-4k-17/2024-10-10/
CATEGORIES:Preschool
END:VEVENT
BEGIN:VEVENT
DTSTART;TZID=America/Chicago:20241009T190000
DTEND;TZID=America/Chicago:20241009T200000
DTSTAMP:20260424T065837
CREATED:20240926T194742Z
LAST-MODIFIED:20240926T194742Z
UID:10001228-1728500400-1728504000@explorepeace.org
SUMMARY:JuBELLation rehearsal (adult handbell group)
DESCRIPTION:
URL:https://explorepeace.org/event/jubellation-rehearsal-adult-handbell-group/2024-10-09/
CATEGORIES:Music
END:VEVENT
BEGIN:VEVENT
DTSTART;TZID=America/Chicago:20241009T181500
DTEND;TZID=America/Chicago:20241009T184500
DTSTAMP:20260424T065837
CREATED:20240829T183723Z
LAST-MODIFIED:20240904T195822Z
UID:10001134-1728497700-1728499500@explorepeace.org
SUMMARY:Wednesday Worship
DESCRIPTION:
URL:https://explorepeace.org/event/wednesday-worship-6/2024-10-09/
CATEGORIES:Worship
END:VEVENT
BEGIN:VEVENT
DTSTART;TZID=America/Chicago:20241009T180000
DTEND;TZID=America/Chicago:20241009T184500
DTSTAMP:20260424T065837
CREATED:20240829T164206Z
LAST-MODIFIED:20241023T210804Z
UID:10001092-1728496800-1728499500@explorepeace.org
SUMMARY:KiX (Kids in Christ) aka Sunday School (age 3 to grade 4)
DESCRIPTION:
URL:https://explorepeace.org/event/kix-kids-in-christ-aka-sunday-school-age-3-to-grade-4-2/2024-10-09/
CATEGORIES:Youth
END:VEVENT
BEGIN:VEVENT
DTSTART;TZID=America/Chicago:20241009T171500
DTEND;TZID=America/Chicago:20241009T181500
DTSTAMP:20260424T065837
CREATED:20240829T183530Z
LAST-MODIFIED:20240904T195949Z
UID:10001120-1728494100-1728497700@explorepeace.org
SUMMARY:Common Table Cafe (meal in the Gallery)
DESCRIPTION:Everyone is welcome!
URL:https://explorepeace.org/event/common-table-cafe-meal-in-the-gallery/2024-10-09/
CATEGORIES:Meetings/Gatherings
END:VEVENT
BEGIN:VEVENT
DTSTART;TZID=America/Chicago:20241009T171500
DTEND;TZID=America/Chicago:20241009T180000
DTSTAMP:20260424T065837
CREATED:20240829T180754Z
LAST-MODIFIED:20240904T200042Z
UID:10001106-1728494100-1728496800@explorepeace.org
SUMMARY:Chapel Chimes (musical group of 4th - 6th graders)
DESCRIPTION:Sherry Johnson\, Director … meet in the Music Room on Wednesdays!
URL:https://explorepeace.org/event/chapel-chimes-musical-group-of-4th-6th-graders/2024-10-09/
CATEGORIES:Music,Youth
END:VEVENT
BEGIN:VEVENT
DTSTART;TZID=America/Chicago:20241009T170000
DTEND;TZID=America/Chicago:20241009T173000
DTSTAMP:20260424T065837
CREATED:20240925T214357Z
LAST-MODIFIED:20240925T214357Z
UID:10001207-1728493200-1728495000@explorepeace.org
SUMMARY:Joyful Noise children's choir (for ages 3 to 7)
DESCRIPTION:Children will learn basic vocal skills and have fun singing songs\, learning actions and playing games that will encourage a love for music. Interactive and lively songs are performed at occasionally scheduled Sunday and seasonal worship services throughout the school year.  Rehearsals will be Wednesdays from 5:00 to 5:30PM during the school year.  Joyful Noise director is Megan Tatzel.
URL:https://explorepeace.org/event/joyful-noise-childrens-choir-for-ages-3-to-7/2024-10-09/
CATEGORIES:Music,Youth
END:VEVENT
BEGIN:VEVENT
DTSTART;TZID=America/Chicago:20241009T161500
DTEND;TZID=America/Chicago:20241009T171500
DTSTAMP:20260424T065837
CREATED:20240829T175901Z
LAST-MODIFIED:20241023T211200Z
UID:10001078-1728490500-1728494100@explorepeace.org
SUMMARY:Route 56 (for 5th & 6th graders)
DESCRIPTION:It is the start of our confirmation program and focuses on The Lord’s Prayer\, The 10 Commandments and the Apostle’s Creed. Understanding the needs of intermediate school students\, this group learns in active formats to make the best use of the time we share on Wednesdays.
URL:https://explorepeace.org/event/route-56-for-5th-6th-graders/2024-10-09/
CATEGORIES:Youth
END:VEVENT
BEGIN:VEVENT
DTSTART;TZID=America/Chicago:20241009T154500
DTEND;TZID=America/Chicago:20241009T163000
DTSTAMP:20260424T065837
CREATED:20240918T172400Z
LAST-MODIFIED:20240918T172400Z
UID:10001201-1728488700-1728491400@explorepeace.org
SUMMARY:Wednesday Open Studio Art Class - children ages 5-8
DESCRIPTION:Please join our creative Open Studio Art Class\, on Wednesdays this Fall\, Oct. 2 – Nov. 13.  Explore a new art project each week\, including painting\, drawing\, collage\, and small 3D recycled art creations. 6 sessions: October 2\, 9\, 30\, Nov. 6\, 13 & 20 from 3:45 – 4:30 p.m. at Peace Lutheran Church – Friendship Room. Taught by Miss Suzanne from Peace Preschool  Cost: $35\, includes all art supplies and 6-week class \nScholarship funds available\, please inquire.  Register by emailing: Suzanne.sackett@explorepeace.org
URL:https://explorepeace.org/event/wednesday-open-studio-art-class-children-ages-5-8/2024-10-09/
CATEGORIES:Youth
END:VEVENT
BEGIN:VEVENT
DTSTART;TZID=America/Chicago:20241009T070000
DTEND;TZID=America/Chicago:20241009T153000
DTSTAMP:20260424T065837
CREATED:20240522T191718Z
LAST-MODIFIED:20240522T191718Z
UID:10000969-1728457200-1728487800@explorepeace.org
SUMMARY:Preschool & 4K
DESCRIPTION:
URL:https://explorepeace.org/event/preschool-4k-16/2024-10-09/
CATEGORIES:Preschool
END:VEVENT
BEGIN:VEVENT
DTSTART;TZID=America/Chicago:20241008T070000
DTEND;TZID=America/Chicago:20241008T153000
DTSTAMP:20260424T065837
CREATED:20240522T191255Z
LAST-MODIFIED:20240522T191255Z
UID:10000938-1728370800-1728401400@explorepeace.org
SUMMARY:Preschool & 4K
DESCRIPTION:
URL:https://explorepeace.org/event/preschool-4k-14/2024-10-08/
CATEGORIES:Preschool
END:VEVENT
BEGIN:VEVENT
DTSTART;TZID=America/Chicago:20241007T070000
DTEND;TZID=America/Chicago:20241007T153000
DTSTAMP:20260424T065837
CREATED:20240522T191504Z
LAST-MODIFIED:20240522T191504Z
UID:10000953-1728284400-1728315000@explorepeace.org
SUMMARY:Preschool & 4K
DESCRIPTION:
URL:https://explorepeace.org/event/preschool-4k-15/2024-10-07/
CATEGORIES:Preschool
END:VEVENT
BEGIN:VEVENT
DTSTART;TZID=America/Chicago:20241006T100000
DTEND;TZID=America/Chicago:20241006T110000
DTSTAMP:20260424T065837
CREATED:20240829T185305Z
LAST-MODIFIED:20240829T185305Z
UID:10001175-1728208800-1728212400@explorepeace.org
SUMMARY:Peace Choir (meet in the Music Room)
DESCRIPTION:
URL:https://explorepeace.org/event/peace-choir-meet-in-the-music-room/2024-10-06/
CATEGORIES:Music
END:VEVENT
BEGIN:VEVENT
DTSTART;TZID=America/Chicago:20241006T100000
DTEND;TZID=America/Chicago:20241006T110000
DTSTAMP:20260424T065837
CREATED:20240829T162935Z
LAST-MODIFIED:20240829T162935Z
UID:10001032-1728208800-1728212400@explorepeace.org
SUMMARY:Coffee\, Fellowship & Donut Yum
DESCRIPTION:
URL:https://explorepeace.org/event/coffee-fellowship-donut-yum/2024-10-06/
CATEGORIES:Meetings/Gatherings
END:VEVENT
BEGIN:VEVENT
DTSTART;TZID=America/Chicago:20241006T090000
DTEND;TZID=America/Chicago:20241006T100000
DTSTAMP:20260424T065837
CREATED:20240522T201207Z
LAST-MODIFIED:20240522T201207Z
UID:10001011-1728205200-1728208800@explorepeace.org
SUMMARY:Worship with Holy Communion
DESCRIPTION:
URL:https://explorepeace.org/event/worship-with-holy-communion/2024-10-06/
CATEGORIES:Worship
END:VEVENT
BEGIN:VEVENT
DTSTART;TZID=America/Chicago:20241006T090000
DTEND;TZID=America/Chicago:20241006T094500
DTSTAMP:20260424T065837
CREATED:20240829T163231Z
LAST-MODIFIED:20241023T200757Z
UID:10001048-1728205200-1728207900@explorepeace.org
SUMMARY:KiX (Kids in Christ) aka Sunday School (age 3 to grade 4)
DESCRIPTION:
URL:https://explorepeace.org/event/kix-kids-in-christ-aka-sunday-school-age-3-to-grade-4/2024-10-06/
CATEGORIES:Youth
END:VEVENT
BEGIN:VEVENT
DTSTART;TZID=America/Chicago:20241004T070000
DTEND;TZID=America/Chicago:20241004T143000
DTSTAMP:20260424T065837
CREATED:20240522T195532Z
LAST-MODIFIED:20240522T195532Z
UID:10000997-1728025200-1728052200@explorepeace.org
SUMMARY:Preschool & 4K
DESCRIPTION:
URL:https://explorepeace.org/event/preschool-4k-18/2024-10-04/
CATEGORIES:Preschool
END:VEVENT
BEGIN:VEVENT
DTSTART;TZID=America/Chicago:20241003T100000
DTEND;TZID=America/Chicago:20241003T110000
DTSTAMP:20260424T065837
CREATED:20240829T184923Z
LAST-MODIFIED:20240829T184923Z
UID:10001163-1727949600-1727953200@explorepeace.org
SUMMARY:Walking By Faith (with Pastor Doug)
DESCRIPTION:
URL:https://explorepeace.org/event/walking-by-faith-with-pastor-doug-2/2024-10-03/
CATEGORIES:Meetings/Gatherings
END:VEVENT
BEGIN:VEVENT
DTSTART;TZID=America/Chicago:20241003T090000
DTEND;TZID=America/Chicago:20241003T100000
DTSTAMP:20260424T065837
CREATED:20240829T184754Z
LAST-MODIFIED:20240829T184754Z
UID:10001148-1727946000-1727949600@explorepeace.org
SUMMARY:Coffee & Chocolate Bible Study (with Pastor Doug)
DESCRIPTION:
URL:https://explorepeace.org/event/coffee-chocolate-bible-study-with-pastor-doug-2/2024-10-03/
CATEGORIES:Meetings/Gatherings
END:VEVENT
BEGIN:VEVENT
DTSTART;TZID=America/Chicago:20241003T070000
DTEND;TZID=America/Chicago:20241003T153000
DTSTAMP:20260424T065837
CREATED:20240522T195144Z
LAST-MODIFIED:20240522T195144Z
UID:10000983-1727938800-1727969400@explorepeace.org
SUMMARY:Preschool & 4K
DESCRIPTION:
URL:https://explorepeace.org/event/preschool-4k-17/2024-10-03/
CATEGORIES:Preschool
END:VEVENT
BEGIN:VEVENT
DTSTART;TZID=America/Chicago:20241002T190000
DTEND;TZID=America/Chicago:20241002T200000
DTSTAMP:20260424T065837
CREATED:20240913T153420Z
LAST-MODIFIED:20240913T153420Z
UID:10001198-1727895600-1727899200@explorepeace.org
SUMMARY:Route 78 & Adventure 910 Orientation meeting
DESCRIPTION:We are excited about all the wonderful opportunities we will have to provide a fresh confirmation experience this academic year for students in Route 78 (grades 7+8) and Adventure 910 (grades 9+10). \nWe will have some options that are more experiential in nature and some traditional classes. All of these things will happen on a scattering of Sundays and Wednesdays. At least two each month\, and sometimes more. \nAmy Thole and Jenny Magee have agreed to partner with Pastor Doug and I to teach/play/ponder about things/learn/go out in the world and experience grace\, do service projects\, etc. We have so many ways to learn about and experience who God is and how God is at work in the world. \nOur orientation meeting will happen on Sunday\, September 29 at 10:00 AM (immediately following worship) and/or on Wednesday\, October 2 at 7:00 PM. Come to whichever session works for you and your family. If nothing works\, please email me at karen.locken@explorepeace.org and I will find a time to connect with you. \nI look forward to a year of growing in faith\, exploring God in our midst\, and creating a wonderful learning experience that works for all the varying schedules among us. \nPastor Karen
URL:https://explorepeace.org/event/route-78-adventure-910-orientation-meeting/2024-10-02/
CATEGORIES:Youth
END:VEVENT
BEGIN:VEVENT
DTSTART;TZID=America/Chicago:20241002T181500
DTEND;TZID=America/Chicago:20241002T184500
DTSTAMP:20260424T065837
CREATED:20240829T183723Z
LAST-MODIFIED:20240904T195822Z
UID:10001133-1727892900-1727894700@explorepeace.org
SUMMARY:Wednesday Worship
DESCRIPTION:
URL:https://explorepeace.org/event/wednesday-worship-6/2024-10-02/
CATEGORIES:Worship
END:VEVENT
BEGIN:VEVENT
DTSTART;TZID=America/Chicago:20241002T180000
DTEND;TZID=America/Chicago:20241002T184500
DTSTAMP:20260424T065837
CREATED:20240829T164206Z
LAST-MODIFIED:20241023T210804Z
UID:10001091-1727892000-1727894700@explorepeace.org
SUMMARY:KiX (Kids in Christ) aka Sunday School (age 3 to grade 4)
DESCRIPTION:
URL:https://explorepeace.org/event/kix-kids-in-christ-aka-sunday-school-age-3-to-grade-4-2/2024-10-02/
CATEGORIES:Youth
END:VEVENT
BEGIN:VEVENT
DTSTART;TZID=America/Chicago:20241002T171500
DTEND;TZID=America/Chicago:20241002T181500
DTSTAMP:20260424T065837
CREATED:20240829T183530Z
LAST-MODIFIED:20240904T195949Z
UID:10001119-1727889300-1727892900@explorepeace.org
SUMMARY:Common Table Cafe (meal in the Gallery)
DESCRIPTION:Everyone is welcome!
URL:https://explorepeace.org/event/common-table-cafe-meal-in-the-gallery/2024-10-02/
CATEGORIES:Meetings/Gatherings
END:VEVENT
BEGIN:VEVENT
DTSTART;TZID=America/Chicago:20241002T171500
DTEND;TZID=America/Chicago:20241002T180000
DTSTAMP:20260424T065837
CREATED:20240829T180754Z
LAST-MODIFIED:20240904T200042Z
UID:10001105-1727889300-1727892000@explorepeace.org
SUMMARY:Chapel Chimes (musical group of 4th - 6th graders)
DESCRIPTION:Sherry Johnson\, Director … meet in the Music Room on Wednesdays!
URL:https://explorepeace.org/event/chapel-chimes-musical-group-of-4th-6th-graders/2024-10-02/
CATEGORIES:Music,Youth
END:VEVENT
BEGIN:VEVENT
DTSTART;TZID=America/Chicago:20241002T170000
DTEND;TZID=America/Chicago:20241002T173000
DTSTAMP:20260424T065837
CREATED:20240925T214357Z
LAST-MODIFIED:20240925T214357Z
UID:10001206-1727888400-1727890200@explorepeace.org
SUMMARY:Joyful Noise children's choir (for ages 3 to 7)
DESCRIPTION:Children will learn basic vocal skills and have fun singing songs\, learning actions and playing games that will encourage a love for music. Interactive and lively songs are performed at occasionally scheduled Sunday and seasonal worship services throughout the school year.  Rehearsals will be Wednesdays from 5:00 to 5:30PM during the school year.  Joyful Noise director is Megan Tatzel.
URL:https://explorepeace.org/event/joyful-noise-childrens-choir-for-ages-3-to-7/2024-10-02/
CATEGORIES:Music,Youth
END:VEVENT
BEGIN:VEVENT
DTSTART;TZID=America/Chicago:20241002T161500
DTEND;TZID=America/Chicago:20241002T171500
DTSTAMP:20260424T065837
CREATED:20240829T175901Z
LAST-MODIFIED:20241023T211200Z
UID:10001077-1727885700-1727889300@explorepeace.org
SUMMARY:Route 56 (for 5th & 6th graders)
DESCRIPTION:It is the start of our confirmation program and focuses on The Lord’s Prayer\, The 10 Commandments and the Apostle’s Creed. Understanding the needs of intermediate school students\, this group learns in active formats to make the best use of the time we share on Wednesdays.
URL:https://explorepeace.org/event/route-56-for-5th-6th-graders/2024-10-02/
CATEGORIES:Youth
END:VEVENT
BEGIN:VEVENT
DTSTART;TZID=America/Chicago:20241002T154500
DTEND;TZID=America/Chicago:20241002T163000
DTSTAMP:20260424T065837
CREATED:20240918T172400Z
LAST-MODIFIED:20240918T172400Z
UID:10001200-1727883900-1727886600@explorepeace.org
SUMMARY:Wednesday Open Studio Art Class - children ages 5-8
DESCRIPTION:Please join our creative Open Studio Art Class\, on Wednesdays this Fall\, Oct. 2 – Nov. 13.  Explore a new art project each week\, including painting\, drawing\, collage\, and small 3D recycled art creations. 6 sessions: October 2\, 9\, 30\, Nov. 6\, 13 & 20 from 3:45 – 4:30 p.m. at Peace Lutheran Church – Friendship Room. Taught by Miss Suzanne from Peace Preschool  Cost: $35\, includes all art supplies and 6-week class \nScholarship funds available\, please inquire.  Register by emailing: Suzanne.sackett@explorepeace.org
URL:https://explorepeace.org/event/wednesday-open-studio-art-class-children-ages-5-8/2024-10-02/
CATEGORIES:Youth
END:VEVENT
END:VCALENDAR