BEGIN:VCALENDAR
VERSION:2.0
PRODID:-//Peace Lutheran Church | Experience Christ. Explore Peace. - ECPv6.15.20//NONSGML v1.0//EN
CALSCALE:GREGORIAN
METHOD:PUBLISH
X-ORIGINAL-URL:https://explorepeace.org
X-WR-CALDESC:Events for Peace Lutheran Church | Experience Christ. Explore Peace.
REFRESH-INTERVAL;VALUE=DURATION:PT1H
X-Robots-Tag:noindex
X-PUBLISHED-TTL:PT1H
BEGIN:VTIMEZONE
TZID:America/Chicago
BEGIN:DAYLIGHT
TZOFFSETFROM:-0600
TZOFFSETTO:-0500
TZNAME:CDT
DTSTART:20230312T080000
END:DAYLIGHT
BEGIN:STANDARD
TZOFFSETFROM:-0500
TZOFFSETTO:-0600
TZNAME:CST
DTSTART:20231105T070000
END:STANDARD
BEGIN:DAYLIGHT
TZOFFSETFROM:-0600
TZOFFSETTO:-0500
TZNAME:CDT
DTSTART:20240310T080000
END:DAYLIGHT
BEGIN:STANDARD
TZOFFSETFROM:-0500
TZOFFSETTO:-0600
TZNAME:CST
DTSTART:20241103T070000
END:STANDARD
BEGIN:DAYLIGHT
TZOFFSETFROM:-0600
TZOFFSETTO:-0500
TZNAME:CDT
DTSTART:20250309T080000
END:DAYLIGHT
BEGIN:STANDARD
TZOFFSETFROM:-0500
TZOFFSETTO:-0600
TZNAME:CST
DTSTART:20251102T070000
END:STANDARD
END:VTIMEZONE
BEGIN:VEVENT
DTSTART;TZID=America/Chicago:20240202T173000
DTEND;TZID=America/Chicago:20240202T200000
DTSTAMP:20260423T173259
CREATED:20240130T194101Z
LAST-MODIFIED:20240130T194101Z
UID:10000374-1706895000-1706904000@explorepeace.org
SUMMARY:It's MOVIE Night!  Intergenerational ... Families\, Children\, Youth & Adults
DESCRIPTION:Every First Friday of the month\, join us for some family fun!  We’ll start off this Friday\, February 2nd\, with MOVIE NIGHT!  Wear your pajamas\, bring fuzzy blankets and stuffed animals–be as cozy as you want! There will be pizza for dinner and some healthy snacks before the movie.  The feature movie… How to Train Your Dragon\, will be shown in the sanctuary. Invite your friends\, all are welcome! If you are planning on attending\, please email Pastor Anne (anne.wickland@explorepeace.org).
URL:https://explorepeace.org/event/its-movie-night-intergenerational-families-children-youth-adults/
CATEGORIES:Meetings/Gatherings,Youth
END:VEVENT
BEGIN:VEVENT
DTSTART;TZID=America/Chicago:20240131T181500
DTEND;TZID=America/Chicago:20240131T190000
DTSTAMP:20260423T173259
CREATED:20240116T201910Z
LAST-MODIFIED:20240116T201910Z
UID:10000124-1706724900-1706727600@explorepeace.org
SUMMARY:KiX  (Kids in Christ)  For 3 year olds - 4th graders
DESCRIPTION:
URL:https://explorepeace.org/event/kix-kids-in-christ-for-3-year-olds-4th-graders/2024-01-31/
CATEGORIES:Youth
END:VEVENT
BEGIN:VEVENT
DTSTART;TZID=America/Chicago:20240131T171500
DTEND;TZID=America/Chicago:20240131T180000
DTSTAMP:20260423T173259
CREATED:20240116T201523Z
LAST-MODIFIED:20240116T201523Z
UID:10000116-1706721300-1706724000@explorepeace.org
SUMMARY:Chapel Chimes (4th - 6th graders)  Director Sherry Johnson
DESCRIPTION:
URL:https://explorepeace.org/event/chapel-chimes-4th-6th-graders-director-sherry-johnson/2024-01-31/
CATEGORIES:Music,Youth
END:VEVENT
BEGIN:VEVENT
DTSTART;TZID=America/Chicago:20240131T161500
DTEND;TZID=America/Chicago:20240131T171500
DTSTAMP:20260423T173259
CREATED:20240116T201332Z
LAST-MODIFIED:20240116T201332Z
UID:10000112-1706717700-1706721300@explorepeace.org
SUMMARY:Route 56 (5th & 6th graders)
DESCRIPTION:
URL:https://explorepeace.org/event/route-56-5th-6th-graders/2024-01-31/
CATEGORIES:Youth
END:VEVENT
BEGIN:VEVENT
DTSTART;TZID=America/Chicago:20240128T180000
DTEND;TZID=America/Chicago:20240128T190000
DTSTAMP:20260423T173259
CREATED:20240116T203456Z
LAST-MODIFIED:20240116T203456Z
UID:10000175-1706464800-1706468400@explorepeace.org
SUMMARY:Radical Ringers handbell rehearsal (7th - 12th graders)   Director Jan Rutkowski
DESCRIPTION:
URL:https://explorepeace.org/event/radical-ringers-handbell-rehearsal-7th-12th-graders-director-jan-rutkowski/2024-01-28/
CATEGORIES:Music,Youth
END:VEVENT
BEGIN:VEVENT
DTSTART;TZID=America/Chicago:20240128T090000
DTEND;TZID=America/Chicago:20240128T094500
DTSTAMP:20260423T173259
CREATED:20240116T202855Z
LAST-MODIFIED:20240116T202855Z
UID:10000153-1706432400-1706435100@explorepeace.org
SUMMARY:KiX (Kids in Christ)  for 3 year olds - 4th graders
DESCRIPTION:
URL:https://explorepeace.org/event/kix-kids-in-christ-for-3-year-olds-4th-graders-2/2024-01-28/
CATEGORIES:Youth
END:VEVENT
BEGIN:VEVENT
DTSTART;TZID=America/Chicago:20240124T181500
DTEND;TZID=America/Chicago:20240124T190000
DTSTAMP:20260423T173259
CREATED:20240116T201910Z
LAST-MODIFIED:20240116T201910Z
UID:10000123-1706120100-1706122800@explorepeace.org
SUMMARY:KiX  (Kids in Christ)  For 3 year olds - 4th graders
DESCRIPTION:
URL:https://explorepeace.org/event/kix-kids-in-christ-for-3-year-olds-4th-graders/2024-01-24/
CATEGORIES:Youth
END:VEVENT
BEGIN:VEVENT
DTSTART;TZID=America/Chicago:20240124T171500
DTEND;TZID=America/Chicago:20240124T180000
DTSTAMP:20260423T173259
CREATED:20240116T201523Z
LAST-MODIFIED:20240116T201523Z
UID:10000115-1706116500-1706119200@explorepeace.org
SUMMARY:Chapel Chimes (4th - 6th graders)  Director Sherry Johnson
DESCRIPTION:
URL:https://explorepeace.org/event/chapel-chimes-4th-6th-graders-director-sherry-johnson/2024-01-24/
CATEGORIES:Music,Youth
END:VEVENT
BEGIN:VEVENT
DTSTART;TZID=America/Chicago:20240124T161500
DTEND;TZID=America/Chicago:20240124T171500
DTSTAMP:20260423T173259
CREATED:20240116T201332Z
LAST-MODIFIED:20240116T201332Z
UID:10000111-1706112900-1706116500@explorepeace.org
SUMMARY:Route 56 (5th & 6th graders)
DESCRIPTION:
URL:https://explorepeace.org/event/route-56-5th-6th-graders/2024-01-24/
CATEGORIES:Youth
END:VEVENT
BEGIN:VEVENT
DTSTART;TZID=America/Chicago:20240121T180000
DTEND;TZID=America/Chicago:20240121T190000
DTSTAMP:20260423T173259
CREATED:20240116T203456Z
LAST-MODIFIED:20240116T203456Z
UID:10000174-1705860000-1705863600@explorepeace.org
SUMMARY:Radical Ringers handbell rehearsal (7th - 12th graders)   Director Jan Rutkowski
DESCRIPTION:
URL:https://explorepeace.org/event/radical-ringers-handbell-rehearsal-7th-12th-graders-director-jan-rutkowski/2024-01-21/
CATEGORIES:Music,Youth
END:VEVENT
BEGIN:VEVENT
DTSTART;TZID=America/Chicago:20240121T090000
DTEND;TZID=America/Chicago:20240121T094500
DTSTAMP:20260423T173259
CREATED:20240116T202855Z
LAST-MODIFIED:20240116T202855Z
UID:10000152-1705827600-1705830300@explorepeace.org
SUMMARY:KiX (Kids in Christ)  for 3 year olds - 4th graders
DESCRIPTION:
URL:https://explorepeace.org/event/kix-kids-in-christ-for-3-year-olds-4th-graders-2/2024-01-21/
CATEGORIES:Youth
END:VEVENT
BEGIN:VEVENT
DTSTART;TZID=America/Chicago:20240117T181500
DTEND;TZID=America/Chicago:20240117T190000
DTSTAMP:20260423T173259
CREATED:20240116T201910Z
LAST-MODIFIED:20240116T201910Z
UID:10000122-1705515300-1705518000@explorepeace.org
SUMMARY:KiX  (Kids in Christ)  For 3 year olds - 4th graders
DESCRIPTION:
URL:https://explorepeace.org/event/kix-kids-in-christ-for-3-year-olds-4th-graders/2024-01-17/
CATEGORIES:Youth
END:VEVENT
BEGIN:VEVENT
DTSTART;TZID=America/Chicago:20240117T171500
DTEND;TZID=America/Chicago:20240117T180000
DTSTAMP:20260423T173259
CREATED:20240116T201523Z
LAST-MODIFIED:20240116T201523Z
UID:10000114-1705511700-1705514400@explorepeace.org
SUMMARY:Chapel Chimes (4th - 6th graders)  Director Sherry Johnson
DESCRIPTION:
URL:https://explorepeace.org/event/chapel-chimes-4th-6th-graders-director-sherry-johnson/2024-01-17/
CATEGORIES:Music,Youth
END:VEVENT
BEGIN:VEVENT
DTSTART;TZID=America/Chicago:20240117T161500
DTEND;TZID=America/Chicago:20240117T171500
DTSTAMP:20260423T173259
CREATED:20240116T201332Z
LAST-MODIFIED:20240116T201332Z
UID:10000110-1705508100-1705511700@explorepeace.org
SUMMARY:Route 56 (5th & 6th graders)
DESCRIPTION:
URL:https://explorepeace.org/event/route-56-5th-6th-graders/2024-01-17/
CATEGORIES:Youth
END:VEVENT
BEGIN:VEVENT
DTSTART;TZID=America/Chicago:20240114T090000
DTEND;TZID=America/Chicago:20240114T094500
DTSTAMP:20260423T173259
CREATED:20240116T202855Z
LAST-MODIFIED:20240116T202855Z
UID:10000151-1705222800-1705225500@explorepeace.org
SUMMARY:KiX (Kids in Christ)  for 3 year olds - 4th graders
DESCRIPTION:
URL:https://explorepeace.org/event/kix-kids-in-christ-for-3-year-olds-4th-graders-2/2024-01-14/
CATEGORIES:Youth
END:VEVENT
BEGIN:VEVENT
DTSTART;TZID=America/Chicago:20240107T090000
DTEND;TZID=America/Chicago:20240107T100000
DTSTAMP:20260423T173259
CREATED:20240104T194035Z
LAST-MODIFIED:20240104T203709Z
UID:10000002-1704618000-1704621600@explorepeace.org
SUMMARY:KiX  Kids in Christ - for age 3 to 4th grade
DESCRIPTION:KiX – Kids in Christ aka Sunday School \nSunday 9 – 9:45am \nKids in Christ (KiX) is what most people know as “Sunday School”.  It is a place where we do hands on projects and engage in various experiences to learn about Jesus and important stories of the Bible.  It is for students ages 3 through Grade 4. KiX happens twice a week during the academic year—Wednesdays at 6:15 PM and Sundays at 9:00 AM. Depending upon your schedule\, you can attend the session that is most convenient for you each week. Friends are welcome. \nIf you are a parent of a 3 year old through 4th grade student who is interested in learning more about the KiX program please contact Shannon Conners\, KiX Coordinator at shannon.conners@explorepeace.org. \n*PYLT—is the acronym for Peace Youth Leadership Team.  This is an amazing group of high school peer leaders who care deeply about their younger peers and want to help them know God’s love and promise.
URL:https://explorepeace.org/event/kix-kids-in-christ-for-age-3-to-4th-grade/
LOCATION:Peace Lutheran Church\, 701 Century Ave\, Waunakee\, WI\, 53597\, United States
CATEGORIES:Youth
ATTACH;FMTTYPE=image/jpeg:https://explorepeace.org/wp-content/uploads/2019/04/Pixabay-kids-497535.jpg
ORGANIZER;CN="Peace Lutheran Church":MAILTO:peace@explorepeace.org
END:VEVENT
BEGIN:VEVENT
DTSTART;TZID=America/Chicago:20240107T090000
DTEND;TZID=America/Chicago:20240107T094500
DTSTAMP:20260423T173259
CREATED:20240116T202855Z
LAST-MODIFIED:20240116T202855Z
UID:10000150-1704618000-1704620700@explorepeace.org
SUMMARY:KiX (Kids in Christ)  for 3 year olds - 4th graders
DESCRIPTION:
URL:https://explorepeace.org/event/kix-kids-in-christ-for-3-year-olds-4th-graders-2/2024-01-07/
CATEGORIES:Youth
END:VEVENT
END:VCALENDAR