BEGIN:VCALENDAR
VERSION:2.0
PRODID:-//Peace Lutheran Church | Experience Christ. Explore Peace. - ECPv6.15.20//NONSGML v1.0//EN
CALSCALE:GREGORIAN
METHOD:PUBLISH
X-WR-CALNAME:Peace Lutheran Church | Experience Christ. Explore Peace.
X-ORIGINAL-URL:https://explorepeace.org
X-WR-CALDESC:Events for Peace Lutheran Church | Experience Christ. Explore Peace.
REFRESH-INTERVAL;VALUE=DURATION:PT1H
X-Robots-Tag:noindex
X-PUBLISHED-TTL:PT1H
BEGIN:VTIMEZONE
TZID:America/Chicago
BEGIN:DAYLIGHT
TZOFFSETFROM:-0600
TZOFFSETTO:-0500
TZNAME:CDT
DTSTART:20230312T080000
END:DAYLIGHT
BEGIN:STANDARD
TZOFFSETFROM:-0500
TZOFFSETTO:-0600
TZNAME:CST
DTSTART:20231105T070000
END:STANDARD
BEGIN:DAYLIGHT
TZOFFSETFROM:-0600
TZOFFSETTO:-0500
TZNAME:CDT
DTSTART:20240310T080000
END:DAYLIGHT
BEGIN:STANDARD
TZOFFSETFROM:-0500
TZOFFSETTO:-0600
TZNAME:CST
DTSTART:20241103T070000
END:STANDARD
BEGIN:DAYLIGHT
TZOFFSETFROM:-0600
TZOFFSETTO:-0500
TZNAME:CDT
DTSTART:20250309T080000
END:DAYLIGHT
BEGIN:STANDARD
TZOFFSETFROM:-0500
TZOFFSETTO:-0600
TZNAME:CST
DTSTART:20251102T070000
END:STANDARD
END:VTIMEZONE
BEGIN:VEVENT
DTSTART;TZID=America/Chicago:20240421T180000
DTEND;TZID=America/Chicago:20240421T190000
DTSTAMP:20260423T082400
CREATED:20240306T205159Z
LAST-MODIFIED:20240306T205159Z
UID:10000432-1713722400-1713726000@explorepeace.org
SUMMARY:Radical Ringers handbell rehearsal (7th-12th graders)
DESCRIPTION:
URL:https://explorepeace.org/event/radical-ringers-handbell-rehearsal-7th-12th-graders/2024-04-21/
CATEGORIES:Music,Youth
END:VEVENT
BEGIN:VEVENT
DTSTART;TZID=America/Chicago:20240421T090000
DTEND;TZID=America/Chicago:20240421T094500
DTSTAMP:20260423T082400
CREATED:20240124T191232Z
LAST-MODIFIED:20240124T191232Z
UID:10000334-1713690000-1713692700@explorepeace.org
SUMMARY:KiX (Kids in Christ) 3 yr olds - 4th graders
DESCRIPTION:
URL:https://explorepeace.org/event/kix-kids-in-christ-3-yr-olds-4th-graders/2024-04-21/
CATEGORIES:Youth
END:VEVENT
BEGIN:VEVENT
DTSTART;TZID=America/Chicago:20240417T181500
DTEND;TZID=America/Chicago:20240417T190000
DTSTAMP:20260423T082400
CREATED:20240124T190348Z
LAST-MODIFIED:20240124T190348Z
UID:10000318-1713377700-1713380400@explorepeace.org
SUMMARY:KiX (Kids in Christ) for 3 yr olds-4th graders
DESCRIPTION:
URL:https://explorepeace.org/event/kix-kids-in-christ-for-3-yr-olds-4th-graders/2024-04-17/
CATEGORIES:Youth
END:VEVENT
BEGIN:VEVENT
DTSTART;TZID=America/Chicago:20240417T171500
DTEND;TZID=America/Chicago:20240417T180000
DTSTAMP:20260423T082400
CREATED:20240124T185747Z
LAST-MODIFIED:20240124T185747Z
UID:10000310-1713374100-1713376800@explorepeace.org
SUMMARY:Chapel Chimes rehearsal (4th-6th graders)
DESCRIPTION:Sherry Johnson is the Chapel Chimes Director
URL:https://explorepeace.org/event/chapel-chimes-rehearsal-4th-6th-graders/2024-04-17/
CATEGORIES:Music,Youth
END:VEVENT
BEGIN:VEVENT
DTSTART;TZID=America/Chicago:20240417T164500
DTEND;TZID=America/Chicago:20240417T171500
DTSTAMP:20260423T082400
CREATED:20240313T154645Z
LAST-MODIFIED:20240313T154645Z
UID:10000436-1713372300-1713374100@explorepeace.org
SUMMARY:Joyful Noise (4K - 1 grade)
DESCRIPTION:Children will learn basic vocal skills and have fun singing songs\, learning actions and playing games that will encourage a love for music!  Let’s meet in the Music Room!  Melissa Hathaway\, Director \n 
URL:https://explorepeace.org/event/joyful-noise-4k-1-grade/2024-04-17/
CATEGORIES:Music,Youth
END:VEVENT
BEGIN:VEVENT
DTSTART;TZID=America/Chicago:20240417T161500
DTEND;TZID=America/Chicago:20240417T171500
DTSTAMP:20260423T082400
CREATED:20240124T185542Z
LAST-MODIFIED:20240124T185542Z
UID:10000306-1713370500-1713374100@explorepeace.org
SUMMARY:Route 56 (5th and 6th graders)
DESCRIPTION:
URL:https://explorepeace.org/event/route-56-5th-and-6th-graders/2024-04-17/
CATEGORIES:Youth
END:VEVENT
BEGIN:VEVENT
DTSTART;TZID=America/Chicago:20240417T160000
DTEND;TZID=America/Chicago:20240417T163000
DTSTAMP:20260423T082400
CREATED:20240313T155722Z
LAST-MODIFIED:20240313T155722Z
UID:10000443-1713369600-1713371400@explorepeace.org
SUMMARY:SonShiners (2nd grade - 4th grade)
DESCRIPTION:Children will continue to learn vocal skills and warm ups\, while having fun learning songs\, actions\, playing simple instruments\, and learn basic performance etiquette to encourage confidence!  Let’s meet in the Music Room!  Melissa Hathaway\, Director
URL:https://explorepeace.org/event/sonshiners-2nd-grade-4th-grade/2024-04-17/
CATEGORIES:Music,Youth
END:VEVENT
BEGIN:VEVENT
DTSTART;TZID=America/Chicago:20240414T180000
DTEND;TZID=America/Chicago:20240414T190000
DTSTAMP:20260423T082401
CREATED:20240306T205159Z
LAST-MODIFIED:20240306T205159Z
UID:10000431-1713117600-1713121200@explorepeace.org
SUMMARY:Radical Ringers handbell rehearsal (7th-12th graders)
DESCRIPTION:
URL:https://explorepeace.org/event/radical-ringers-handbell-rehearsal-7th-12th-graders/2024-04-14/
CATEGORIES:Music,Youth
END:VEVENT
BEGIN:VEVENT
DTSTART;TZID=America/Chicago:20240414T090000
DTEND;TZID=America/Chicago:20240414T094500
DTSTAMP:20260423T082401
CREATED:20240124T191232Z
LAST-MODIFIED:20240124T191232Z
UID:10000333-1713085200-1713087900@explorepeace.org
SUMMARY:KiX (Kids in Christ) 3 yr olds - 4th graders
DESCRIPTION:
URL:https://explorepeace.org/event/kix-kids-in-christ-3-yr-olds-4th-graders/2024-04-14/
CATEGORIES:Youth
END:VEVENT
BEGIN:VEVENT
DTSTART;TZID=America/Chicago:20240410T181500
DTEND;TZID=America/Chicago:20240410T190000
DTSTAMP:20260423T082401
CREATED:20240124T190348Z
LAST-MODIFIED:20240124T190348Z
UID:10000317-1712772900-1712775600@explorepeace.org
SUMMARY:KiX (Kids in Christ) for 3 yr olds-4th graders
DESCRIPTION:
URL:https://explorepeace.org/event/kix-kids-in-christ-for-3-yr-olds-4th-graders/2024-04-10/
CATEGORIES:Youth
END:VEVENT
BEGIN:VEVENT
DTSTART;TZID=America/Chicago:20240410T171500
DTEND;TZID=America/Chicago:20240410T180000
DTSTAMP:20260423T082401
CREATED:20240124T185747Z
LAST-MODIFIED:20240124T185747Z
UID:10000309-1712769300-1712772000@explorepeace.org
SUMMARY:Chapel Chimes rehearsal (4th-6th graders)
DESCRIPTION:Sherry Johnson is the Chapel Chimes Director
URL:https://explorepeace.org/event/chapel-chimes-rehearsal-4th-6th-graders/2024-04-10/
CATEGORIES:Music,Youth
END:VEVENT
BEGIN:VEVENT
DTSTART;TZID=America/Chicago:20240410T164500
DTEND;TZID=America/Chicago:20240410T171500
DTSTAMP:20260423T082401
CREATED:20240313T154645Z
LAST-MODIFIED:20240313T154645Z
UID:10000435-1712767500-1712769300@explorepeace.org
SUMMARY:Joyful Noise (4K - 1 grade)
DESCRIPTION:Children will learn basic vocal skills and have fun singing songs\, learning actions and playing games that will encourage a love for music!  Let’s meet in the Music Room!  Melissa Hathaway\, Director \n 
URL:https://explorepeace.org/event/joyful-noise-4k-1-grade/2024-04-10/
CATEGORIES:Music,Youth
END:VEVENT
BEGIN:VEVENT
DTSTART;TZID=America/Chicago:20240410T161500
DTEND;TZID=America/Chicago:20240410T171500
DTSTAMP:20260423T082401
CREATED:20240124T185542Z
LAST-MODIFIED:20240124T185542Z
UID:10000305-1712765700-1712769300@explorepeace.org
SUMMARY:Route 56 (5th and 6th graders)
DESCRIPTION:
URL:https://explorepeace.org/event/route-56-5th-and-6th-graders/2024-04-10/
CATEGORIES:Youth
END:VEVENT
BEGIN:VEVENT
DTSTART;TZID=America/Chicago:20240410T160000
DTEND;TZID=America/Chicago:20240410T163000
DTSTAMP:20260423T082401
CREATED:20240313T155722Z
LAST-MODIFIED:20240313T155722Z
UID:10000442-1712764800-1712766600@explorepeace.org
SUMMARY:SonShiners (2nd grade - 4th grade)
DESCRIPTION:Children will continue to learn vocal skills and warm ups\, while having fun learning songs\, actions\, playing simple instruments\, and learn basic performance etiquette to encourage confidence!  Let’s meet in the Music Room!  Melissa Hathaway\, Director
URL:https://explorepeace.org/event/sonshiners-2nd-grade-4th-grade/2024-04-10/
CATEGORIES:Music,Youth
END:VEVENT
BEGIN:VEVENT
DTSTART;TZID=America/Chicago:20240407T180000
DTEND;TZID=America/Chicago:20240407T190000
DTSTAMP:20260423T082401
CREATED:20240306T205159Z
LAST-MODIFIED:20240306T205159Z
UID:10000430-1712512800-1712516400@explorepeace.org
SUMMARY:Radical Ringers handbell rehearsal (7th-12th graders)
DESCRIPTION:
URL:https://explorepeace.org/event/radical-ringers-handbell-rehearsal-7th-12th-graders/2024-04-07/
CATEGORIES:Music,Youth
END:VEVENT
BEGIN:VEVENT
DTSTART;TZID=America/Chicago:20240407T090000
DTEND;TZID=America/Chicago:20240407T094500
DTSTAMP:20260423T082401
CREATED:20240124T191232Z
LAST-MODIFIED:20240124T191232Z
UID:10000332-1712480400-1712483100@explorepeace.org
SUMMARY:KiX (Kids in Christ) 3 yr olds - 4th graders
DESCRIPTION:
URL:https://explorepeace.org/event/kix-kids-in-christ-3-yr-olds-4th-graders/2024-04-07/
CATEGORIES:Youth
END:VEVENT
BEGIN:VEVENT
DTSTART;TZID=America/Chicago:20240403T181500
DTEND;TZID=America/Chicago:20240403T190000
DTSTAMP:20260423T082401
CREATED:20240124T190348Z
LAST-MODIFIED:20240124T190348Z
UID:10000316-1712168100-1712170800@explorepeace.org
SUMMARY:KiX (Kids in Christ) for 3 yr olds-4th graders
DESCRIPTION:
URL:https://explorepeace.org/event/kix-kids-in-christ-for-3-yr-olds-4th-graders/2024-04-03/
CATEGORIES:Youth
END:VEVENT
BEGIN:VEVENT
DTSTART;TZID=America/Chicago:20240403T171500
DTEND;TZID=America/Chicago:20240403T180000
DTSTAMP:20260423T082401
CREATED:20240124T185747Z
LAST-MODIFIED:20240124T185747Z
UID:10000308-1712164500-1712167200@explorepeace.org
SUMMARY:Chapel Chimes rehearsal (4th-6th graders)
DESCRIPTION:Sherry Johnson is the Chapel Chimes Director
URL:https://explorepeace.org/event/chapel-chimes-rehearsal-4th-6th-graders/2024-04-03/
CATEGORIES:Music,Youth
END:VEVENT
BEGIN:VEVENT
DTSTART;TZID=America/Chicago:20240403T164500
DTEND;TZID=America/Chicago:20240403T171500
DTSTAMP:20260423T082401
CREATED:20240313T154645Z
LAST-MODIFIED:20240313T154645Z
UID:10000434-1712162700-1712164500@explorepeace.org
SUMMARY:Joyful Noise (4K - 1 grade)
DESCRIPTION:Children will learn basic vocal skills and have fun singing songs\, learning actions and playing games that will encourage a love for music!  Let’s meet in the Music Room!  Melissa Hathaway\, Director \n 
URL:https://explorepeace.org/event/joyful-noise-4k-1-grade/2024-04-03/
CATEGORIES:Music,Youth
END:VEVENT
BEGIN:VEVENT
DTSTART;TZID=America/Chicago:20240403T161500
DTEND;TZID=America/Chicago:20240403T171500
DTSTAMP:20260423T082401
CREATED:20240124T185542Z
LAST-MODIFIED:20240124T185542Z
UID:10000304-1712160900-1712164500@explorepeace.org
SUMMARY:Route 56 (5th and 6th graders)
DESCRIPTION:
URL:https://explorepeace.org/event/route-56-5th-and-6th-graders/2024-04-03/
CATEGORIES:Youth
END:VEVENT
BEGIN:VEVENT
DTSTART;TZID=America/Chicago:20240403T160000
DTEND;TZID=America/Chicago:20240403T163000
DTSTAMP:20260423T082401
CREATED:20240313T155722Z
LAST-MODIFIED:20240313T155722Z
UID:10000441-1712160000-1712161800@explorepeace.org
SUMMARY:SonShiners (2nd grade - 4th grade)
DESCRIPTION:Children will continue to learn vocal skills and warm ups\, while having fun learning songs\, actions\, playing simple instruments\, and learn basic performance etiquette to encourage confidence!  Let’s meet in the Music Room!  Melissa Hathaway\, Director
URL:https://explorepeace.org/event/sonshiners-2nd-grade-4th-grade/2024-04-03/
CATEGORIES:Music,Youth
END:VEVENT
BEGIN:VEVENT
DTSTART;TZID=America/Chicago:20240331T180000
DTEND;TZID=America/Chicago:20240331T190000
DTSTAMP:20260423T082401
CREATED:20240313T161625Z
LAST-MODIFIED:20240313T161625Z
UID:10000446-1711908000-1711911600@explorepeace.org
SUMMARY:NO Radical Ringers rehearsal this evening
DESCRIPTION:
URL:https://explorepeace.org/event/no-radical-ringers-rehearsal-this-evening/2024-03-31/
CATEGORIES:Music,Youth
END:VEVENT
BEGIN:VEVENT
DTSTART;TZID=America/Chicago:20240327T161500
DTEND;TZID=America/Chicago:20240327T200000
DTSTAMP:20260423T082401
CREATED:20240124T194528Z
LAST-MODIFIED:20240124T194528Z
UID:10000373-1711556100-1711569600@explorepeace.org
SUMMARY:NO Wednesday activities\, NO CTC\, No Wednesday Worship
DESCRIPTION:It’s Spring Break Week!
URL:https://explorepeace.org/event/no-wednesday-activities-no-ctc-no-wednesday-worship/
CATEGORIES:Meetings/Gatherings,Music,Worship,Youth
END:VEVENT
BEGIN:VEVENT
DTSTART;TZID=America/Chicago:20240324T180000
DTEND;TZID=America/Chicago:20240324T190000
DTSTAMP:20260423T082401
CREATED:20240313T161625Z
LAST-MODIFIED:20240313T161625Z
UID:10000445-1711303200-1711306800@explorepeace.org
SUMMARY:NO Radical Ringers rehearsal this evening
DESCRIPTION:
URL:https://explorepeace.org/event/no-radical-ringers-rehearsal-this-evening/2024-03-24/
CATEGORIES:Music,Youth
END:VEVENT
BEGIN:VEVENT
DTSTART;TZID=America/Chicago:20240324T090000
DTEND;TZID=America/Chicago:20240324T094500
DTSTAMP:20260423T082401
CREATED:20240116T202855Z
LAST-MODIFIED:20240116T202855Z
UID:10000161-1711270800-1711273500@explorepeace.org
SUMMARY:KiX (Kids in Christ)  for 3 year olds - 4th graders
DESCRIPTION:
URL:https://explorepeace.org/event/kix-kids-in-christ-for-3-year-olds-4th-graders-2/2024-03-24/
CATEGORIES:Youth
END:VEVENT
BEGIN:VEVENT
DTSTART;TZID=America/Chicago:20240320T190000
DTEND;TZID=America/Chicago:20240320T200000
DTSTAMP:20260423T082401
CREATED:20240124T193328Z
LAST-MODIFIED:20240124T193328Z
UID:10000372-1710961200-1710964800@explorepeace.org
SUMMARY:Route 78 (7th & 8th graders)
DESCRIPTION:
URL:https://explorepeace.org/event/route-78-7th-8th-graders-2/2024-03-20/
CATEGORIES:Youth
END:VEVENT
BEGIN:VEVENT
DTSTART;TZID=America/Chicago:20240320T181500
DTEND;TZID=America/Chicago:20240320T190000
DTSTAMP:20260423T082401
CREATED:20240124T193050Z
LAST-MODIFIED:20240124T193050Z
UID:10000362-1710958500-1710961200@explorepeace.org
SUMMARY:KiX (Kids in Christ) for 3 yr olds - 4th graders
DESCRIPTION:
URL:https://explorepeace.org/event/kix-kids-in-christ-for-3-yr-olds-4th-graders-2/2024-03-20/
CATEGORIES:Youth
END:VEVENT
BEGIN:VEVENT
DTSTART;TZID=America/Chicago:20240320T171500
DTEND;TZID=America/Chicago:20240320T180000
DTSTAMP:20260423T082401
CREATED:20240124T192607Z
LAST-MODIFIED:20240124T192607Z
UID:10000352-1710954900-1710957600@explorepeace.org
SUMMARY:Chapel Chimes rehearsal (4th-6th graders)
DESCRIPTION:Sherry Johnson is the Chapel Chimes Director.  Rehearsals happen in the Music Room.
URL:https://explorepeace.org/event/chapel-chimes-rehearsal-4th-6th-graders-2/2024-03-20/
CATEGORIES:Music,Youth
END:VEVENT
BEGIN:VEVENT
DTSTART;TZID=America/Chicago:20240320T164500
DTEND;TZID=America/Chicago:20240320T171500
DTSTAMP:20260423T082401
CREATED:20240313T154645Z
LAST-MODIFIED:20240313T154645Z
UID:10000433-1710953100-1710954900@explorepeace.org
SUMMARY:Joyful Noise (4K - 1 grade)
DESCRIPTION:Children will learn basic vocal skills and have fun singing songs\, learning actions and playing games that will encourage a love for music!  Let’s meet in the Music Room!  Melissa Hathaway\, Director \n 
URL:https://explorepeace.org/event/joyful-noise-4k-1-grade/2024-03-20/
CATEGORIES:Music,Youth
END:VEVENT
BEGIN:VEVENT
DTSTART;TZID=America/Chicago:20240320T161500
DTEND;TZID=America/Chicago:20240320T171500
DTSTAMP:20260423T082401
CREATED:20240124T192421Z
LAST-MODIFIED:20240124T192421Z
UID:10000347-1710951300-1710954900@explorepeace.org
SUMMARY:Route 56 (5th & 6th graders)
DESCRIPTION:
URL:https://explorepeace.org/event/route-56-5th-6th-graders-2/2024-03-20/
CATEGORIES:Youth
END:VEVENT
END:VCALENDAR