BEGIN:VCALENDAR
VERSION:2.0
PRODID:-//Peace Lutheran Church | Experience Christ. Explore Peace. - ECPv6.15.20//NONSGML v1.0//EN
CALSCALE:GREGORIAN
METHOD:PUBLISH
X-ORIGINAL-URL:https://explorepeace.org
X-WR-CALDESC:Events for Peace Lutheran Church | Experience Christ. Explore Peace.
REFRESH-INTERVAL;VALUE=DURATION:PT1H
X-Robots-Tag:noindex
X-PUBLISHED-TTL:PT1H
BEGIN:VTIMEZONE
TZID:America/Chicago
BEGIN:DAYLIGHT
TZOFFSETFROM:-0600
TZOFFSETTO:-0500
TZNAME:CDT
DTSTART:20230312T080000
END:DAYLIGHT
BEGIN:STANDARD
TZOFFSETFROM:-0500
TZOFFSETTO:-0600
TZNAME:CST
DTSTART:20231105T070000
END:STANDARD
BEGIN:DAYLIGHT
TZOFFSETFROM:-0600
TZOFFSETTO:-0500
TZNAME:CDT
DTSTART:20240310T080000
END:DAYLIGHT
BEGIN:STANDARD
TZOFFSETFROM:-0500
TZOFFSETTO:-0600
TZNAME:CST
DTSTART:20241103T070000
END:STANDARD
BEGIN:DAYLIGHT
TZOFFSETFROM:-0600
TZOFFSETTO:-0500
TZNAME:CDT
DTSTART:20250309T080000
END:DAYLIGHT
BEGIN:STANDARD
TZOFFSETFROM:-0500
TZOFFSETTO:-0600
TZNAME:CST
DTSTART:20251102T070000
END:STANDARD
END:VTIMEZONE
BEGIN:VEVENT
DTSTART;TZID=America/Chicago:20241106T184500
DTEND;TZID=America/Chicago:20241106T194500
DTSTAMP:20260422T230707
CREATED:20241017T194657Z
LAST-MODIFIED:20241017T194657Z
UID:10001241-1730918700-1730922300@explorepeace.org
SUMMARY:Route 78 & Adventure 910
DESCRIPTION:Oct 30: Introduction Day! \nNov 6: Interesting Details about God #1 \nNov 13: Interesting Details about God #2 \nNov 20: Interesting Details about God #3 \nDec 4: Advent Festival Event. Come for your time slot! \nDec 11: Interesting Details about God #4 \nDec 18: Interesting Details about God #5
URL:https://explorepeace.org/event/route-78-adventure-910-2/2024-11-06/
CATEGORIES:Youth
END:VEVENT
BEGIN:VEVENT
DTSTART;TZID=America/Chicago:20241106T180000
DTEND;TZID=America/Chicago:20241106T184500
DTSTAMP:20260422T230707
CREATED:20240829T164206Z
LAST-MODIFIED:20241023T210804Z
UID:10001096-1730916000-1730918700@explorepeace.org
SUMMARY:KiX (Kids in Christ) aka Sunday School (age 3 to grade 4)
DESCRIPTION:
URL:https://explorepeace.org/event/kix-kids-in-christ-aka-sunday-school-age-3-to-grade-4-2/2024-11-06/
CATEGORIES:Youth
END:VEVENT
BEGIN:VEVENT
DTSTART;TZID=America/Chicago:20241106T171500
DTEND;TZID=America/Chicago:20241106T180000
DTSTAMP:20260422T230707
CREATED:20240829T180754Z
LAST-MODIFIED:20240904T200042Z
UID:10001110-1730913300-1730916000@explorepeace.org
SUMMARY:Chapel Chimes (musical group of 4th - 6th graders)
DESCRIPTION:Sherry Johnson\, Director … meet in the Music Room on Wednesdays!
URL:https://explorepeace.org/event/chapel-chimes-musical-group-of-4th-6th-graders/2024-11-06/
CATEGORIES:Music,Youth
END:VEVENT
BEGIN:VEVENT
DTSTART;TZID=America/Chicago:20241106T170000
DTEND;TZID=America/Chicago:20241106T173000
DTSTAMP:20260422T230707
CREATED:20240925T214357Z
LAST-MODIFIED:20240925T214357Z
UID:10001210-1730912400-1730914200@explorepeace.org
SUMMARY:Joyful Noise children's choir (for ages 3 to 7)
DESCRIPTION:Children will learn basic vocal skills and have fun singing songs\, learning actions and playing games that will encourage a love for music. Interactive and lively songs are performed at occasionally scheduled Sunday and seasonal worship services throughout the school year.  Rehearsals will be Wednesdays from 5:00 to 5:30PM during the school year.  Joyful Noise director is Megan Tatzel.
URL:https://explorepeace.org/event/joyful-noise-childrens-choir-for-ages-3-to-7/2024-11-06/
CATEGORIES:Music,Youth
END:VEVENT
BEGIN:VEVENT
DTSTART;TZID=America/Chicago:20241106T161500
DTEND;TZID=America/Chicago:20241106T171500
DTSTAMP:20260422T230707
CREATED:20240829T175901Z
LAST-MODIFIED:20241023T211200Z
UID:10001082-1730909700-1730913300@explorepeace.org
SUMMARY:Route 56 (for 5th & 6th graders)
DESCRIPTION:It is the start of our confirmation program and focuses on The Lord’s Prayer\, The 10 Commandments and the Apostle’s Creed. Understanding the needs of intermediate school students\, this group learns in active formats to make the best use of the time we share on Wednesdays.
URL:https://explorepeace.org/event/route-56-for-5th-6th-graders/2024-11-06/
CATEGORIES:Youth
END:VEVENT
BEGIN:VEVENT
DTSTART;TZID=America/Chicago:20241106T160000
DTEND;TZID=America/Chicago:20241106T170000
DTSTAMP:20260422T230707
CREATED:20241017T194454Z
LAST-MODIFIED:20241017T194454Z
UID:10001234-1730908800-1730912400@explorepeace.org
SUMMARY:Route 78 & Adventure 910
DESCRIPTION:Oct 30: Introduction Day! \nNov 6: Interesting Details about God #1 \nNov 13: Interesting Details about God #2 \nNov 20: Interesting Details about God #3 \nDec 4: Advent Festival Event. Come for your time slot! \nDec 11: Interesting Details about God #4 \nDec 18: Interesting Details about God #5
URL:https://explorepeace.org/event/route-78-adventure-910/2024-11-06/
CATEGORIES:Youth
END:VEVENT
BEGIN:VEVENT
DTSTART;TZID=America/Chicago:20241106T154500
DTEND;TZID=America/Chicago:20241106T163000
DTSTAMP:20260422T230707
CREATED:20240918T172400Z
LAST-MODIFIED:20240918T172400Z
UID:10001203-1730907900-1730910600@explorepeace.org
SUMMARY:Wednesday Open Studio Art Class - children ages 5-8
DESCRIPTION:Please join our creative Open Studio Art Class\, on Wednesdays this Fall\, Oct. 2 – Nov. 13.  Explore a new art project each week\, including painting\, drawing\, collage\, and small 3D recycled art creations. 6 sessions: October 2\, 9\, 30\, Nov. 6\, 13 & 20 from 3:45 – 4:30 p.m. at Peace Lutheran Church – Friendship Room. Taught by Miss Suzanne from Peace Preschool  Cost: $35\, includes all art supplies and 6-week class \nScholarship funds available\, please inquire.  Register by emailing: Suzanne.sackett@explorepeace.org
URL:https://explorepeace.org/event/wednesday-open-studio-art-class-children-ages-5-8/2024-11-06/
CATEGORIES:Youth
END:VEVENT
BEGIN:VEVENT
DTSTART;TZID=America/Chicago:20241103T180000
DTEND;TZID=America/Chicago:20241103T190000
DTSTAMP:20260422T230707
CREATED:20240925T221422Z
LAST-MODIFIED:20240925T221422Z
UID:10001220-1730656800-1730660400@explorepeace.org
SUMMARY:Radical Ringers rehearsal
DESCRIPTION:For … 7th to 12th graders\, ringing hand bells … ring / dampen / shake / mallet / thumb damp / pluck / and so much more (happening in the Music Room).  Ringing bells is so much fun!\nOur Radical Ringers rehearsals will be on SUNDAYS from 6:00 – 7:00pm\, beginning on Sunday\, October 13.   \nJan Rutkowski\, RR Director
URL:https://explorepeace.org/event/radical-ringers-rehearsal/2024-11-03/
CATEGORIES:Music,Youth
END:VEVENT
BEGIN:VEVENT
DTSTART;TZID=America/Chicago:20241103T090000
DTEND;TZID=America/Chicago:20241103T094500
DTSTAMP:20260422T230707
CREATED:20240829T163231Z
LAST-MODIFIED:20241023T200757Z
UID:10001052-1730624400-1730627100@explorepeace.org
SUMMARY:KiX (Kids in Christ) aka Sunday School (age 3 to grade 4)
DESCRIPTION:
URL:https://explorepeace.org/event/kix-kids-in-christ-aka-sunday-school-age-3-to-grade-4/2024-11-03/
CATEGORIES:Youth
END:VEVENT
BEGIN:VEVENT
DTSTART;TZID=America/Chicago:20241030T184500
DTEND;TZID=America/Chicago:20241030T194500
DTSTAMP:20260422T230707
CREATED:20241017T194657Z
LAST-MODIFIED:20241017T194657Z
UID:10001240-1730313900-1730317500@explorepeace.org
SUMMARY:Route 78 & Adventure 910
DESCRIPTION:Oct 30: Introduction Day! \nNov 6: Interesting Details about God #1 \nNov 13: Interesting Details about God #2 \nNov 20: Interesting Details about God #3 \nDec 4: Advent Festival Event. Come for your time slot! \nDec 11: Interesting Details about God #4 \nDec 18: Interesting Details about God #5
URL:https://explorepeace.org/event/route-78-adventure-910-2/2024-10-30/
CATEGORIES:Youth
END:VEVENT
BEGIN:VEVENT
DTSTART;TZID=America/Chicago:20241030T180000
DTEND;TZID=America/Chicago:20241030T184500
DTSTAMP:20260422T230707
CREATED:20240829T164206Z
LAST-MODIFIED:20241023T210804Z
UID:10001095-1730311200-1730313900@explorepeace.org
SUMMARY:KiX (Kids in Christ) aka Sunday School (age 3 to grade 4)
DESCRIPTION:
URL:https://explorepeace.org/event/kix-kids-in-christ-aka-sunday-school-age-3-to-grade-4-2/2024-10-30/
CATEGORIES:Youth
END:VEVENT
BEGIN:VEVENT
DTSTART;TZID=America/Chicago:20241030T171500
DTEND;TZID=America/Chicago:20241030T180000
DTSTAMP:20260422T230707
CREATED:20240829T180754Z
LAST-MODIFIED:20240904T200042Z
UID:10001109-1730308500-1730311200@explorepeace.org
SUMMARY:Chapel Chimes (musical group of 4th - 6th graders)
DESCRIPTION:Sherry Johnson\, Director … meet in the Music Room on Wednesdays!
URL:https://explorepeace.org/event/chapel-chimes-musical-group-of-4th-6th-graders/2024-10-30/
CATEGORIES:Music,Youth
END:VEVENT
BEGIN:VEVENT
DTSTART;TZID=America/Chicago:20241030T170000
DTEND;TZID=America/Chicago:20241030T173000
DTSTAMP:20260422T230707
CREATED:20240925T214357Z
LAST-MODIFIED:20240925T214357Z
UID:10001209-1730307600-1730309400@explorepeace.org
SUMMARY:Joyful Noise children's choir (for ages 3 to 7)
DESCRIPTION:Children will learn basic vocal skills and have fun singing songs\, learning actions and playing games that will encourage a love for music. Interactive and lively songs are performed at occasionally scheduled Sunday and seasonal worship services throughout the school year.  Rehearsals will be Wednesdays from 5:00 to 5:30PM during the school year.  Joyful Noise director is Megan Tatzel.
URL:https://explorepeace.org/event/joyful-noise-childrens-choir-for-ages-3-to-7/2024-10-30/
CATEGORIES:Music,Youth
END:VEVENT
BEGIN:VEVENT
DTSTART;TZID=America/Chicago:20241030T161500
DTEND;TZID=America/Chicago:20241030T171500
DTSTAMP:20260422T230707
CREATED:20240829T175901Z
LAST-MODIFIED:20241023T211200Z
UID:10001081-1730304900-1730308500@explorepeace.org
SUMMARY:Route 56 (for 5th & 6th graders)
DESCRIPTION:It is the start of our confirmation program and focuses on The Lord’s Prayer\, The 10 Commandments and the Apostle’s Creed. Understanding the needs of intermediate school students\, this group learns in active formats to make the best use of the time we share on Wednesdays.
URL:https://explorepeace.org/event/route-56-for-5th-6th-graders/2024-10-30/
CATEGORIES:Youth
END:VEVENT
BEGIN:VEVENT
DTSTART;TZID=America/Chicago:20241030T160000
DTEND;TZID=America/Chicago:20241030T170000
DTSTAMP:20260422T230707
CREATED:20241017T194454Z
LAST-MODIFIED:20241017T194454Z
UID:10001233-1730304000-1730307600@explorepeace.org
SUMMARY:Route 78 & Adventure 910
DESCRIPTION:Oct 30: Introduction Day! \nNov 6: Interesting Details about God #1 \nNov 13: Interesting Details about God #2 \nNov 20: Interesting Details about God #3 \nDec 4: Advent Festival Event. Come for your time slot! \nDec 11: Interesting Details about God #4 \nDec 18: Interesting Details about God #5
URL:https://explorepeace.org/event/route-78-adventure-910/2024-10-30/
CATEGORIES:Youth
END:VEVENT
BEGIN:VEVENT
DTSTART;TZID=America/Chicago:20241030T154500
DTEND;TZID=America/Chicago:20241030T163000
DTSTAMP:20260422T230707
CREATED:20240918T172400Z
LAST-MODIFIED:20240918T172400Z
UID:10001202-1730303100-1730305800@explorepeace.org
SUMMARY:Wednesday Open Studio Art Class - children ages 5-8
DESCRIPTION:Please join our creative Open Studio Art Class\, on Wednesdays this Fall\, Oct. 2 – Nov. 13.  Explore a new art project each week\, including painting\, drawing\, collage\, and small 3D recycled art creations. 6 sessions: October 2\, 9\, 30\, Nov. 6\, 13 & 20 from 3:45 – 4:30 p.m. at Peace Lutheran Church – Friendship Room. Taught by Miss Suzanne from Peace Preschool  Cost: $35\, includes all art supplies and 6-week class \nScholarship funds available\, please inquire.  Register by emailing: Suzanne.sackett@explorepeace.org
URL:https://explorepeace.org/event/wednesday-open-studio-art-class-children-ages-5-8/2024-10-30/
CATEGORIES:Youth
END:VEVENT
BEGIN:VEVENT
DTSTART;TZID=America/Chicago:20241027T180000
DTEND;TZID=America/Chicago:20241027T190000
DTSTAMP:20260422T230707
CREATED:20240925T221422Z
LAST-MODIFIED:20240925T221422Z
UID:10001219-1730052000-1730055600@explorepeace.org
SUMMARY:Radical Ringers rehearsal
DESCRIPTION:For … 7th to 12th graders\, ringing hand bells … ring / dampen / shake / mallet / thumb damp / pluck / and so much more (happening in the Music Room).  Ringing bells is so much fun!\nOur Radical Ringers rehearsals will be on SUNDAYS from 6:00 – 7:00pm\, beginning on Sunday\, October 13.   \nJan Rutkowski\, RR Director
URL:https://explorepeace.org/event/radical-ringers-rehearsal/2024-10-27/
CATEGORIES:Music,Youth
END:VEVENT
BEGIN:VEVENT
DTSTART;TZID=America/Chicago:20241023T160000
DTEND;TZID=America/Chicago:20241023T200000
DTSTAMP:20260422T230707
CREATED:20240904T200449Z
LAST-MODIFIED:20240904T201248Z
UID:10001195-1729699200-1729713600@explorepeace.org
SUMMARY:No Church Activities\, Common Table Cafe\, Wednesday Worship today
DESCRIPTION:
URL:https://explorepeace.org/event/no-church-activities-common-table-cafe-wednesday-worship-today/
CATEGORIES:Meetings/Gatherings,Music,Worship,Youth
END:VEVENT
BEGIN:VEVENT
DTSTART;TZID=America/Chicago:20241020T180000
DTEND;TZID=America/Chicago:20241020T190000
DTSTAMP:20260422T230707
CREATED:20240925T221422Z
LAST-MODIFIED:20240925T221422Z
UID:10001218-1729447200-1729450800@explorepeace.org
SUMMARY:Radical Ringers rehearsal
DESCRIPTION:For … 7th to 12th graders\, ringing hand bells … ring / dampen / shake / mallet / thumb damp / pluck / and so much more (happening in the Music Room).  Ringing bells is so much fun!\nOur Radical Ringers rehearsals will be on SUNDAYS from 6:00 – 7:00pm\, beginning on Sunday\, October 13.   \nJan Rutkowski\, RR Director
URL:https://explorepeace.org/event/radical-ringers-rehearsal/2024-10-20/
CATEGORIES:Music,Youth
END:VEVENT
BEGIN:VEVENT
DTSTART;TZID=America/Chicago:20241020T090000
DTEND;TZID=America/Chicago:20241020T094500
DTSTAMP:20260422T230707
CREATED:20240829T163231Z
LAST-MODIFIED:20241023T200757Z
UID:10001050-1729414800-1729417500@explorepeace.org
SUMMARY:KiX (Kids in Christ) aka Sunday School (age 3 to grade 4)
DESCRIPTION:
URL:https://explorepeace.org/event/kix-kids-in-christ-aka-sunday-school-age-3-to-grade-4/2024-10-20/
CATEGORIES:Youth
END:VEVENT
BEGIN:VEVENT
DTSTART;TZID=America/Chicago:20241016T180000
DTEND;TZID=America/Chicago:20241016T184500
DTSTAMP:20260422T230707
CREATED:20240829T164206Z
LAST-MODIFIED:20241023T210804Z
UID:10001093-1729101600-1729104300@explorepeace.org
SUMMARY:KiX (Kids in Christ) aka Sunday School (age 3 to grade 4)
DESCRIPTION:
URL:https://explorepeace.org/event/kix-kids-in-christ-aka-sunday-school-age-3-to-grade-4-2/2024-10-16/
CATEGORIES:Youth
END:VEVENT
BEGIN:VEVENT
DTSTART;TZID=America/Chicago:20241016T171500
DTEND;TZID=America/Chicago:20241016T180000
DTSTAMP:20260422T230707
CREATED:20240829T180754Z
LAST-MODIFIED:20240904T200042Z
UID:10001107-1729098900-1729101600@explorepeace.org
SUMMARY:Chapel Chimes (musical group of 4th - 6th graders)
DESCRIPTION:Sherry Johnson\, Director … meet in the Music Room on Wednesdays!
URL:https://explorepeace.org/event/chapel-chimes-musical-group-of-4th-6th-graders/2024-10-16/
CATEGORIES:Music,Youth
END:VEVENT
BEGIN:VEVENT
DTSTART;TZID=America/Chicago:20241016T170000
DTEND;TZID=America/Chicago:20241016T173000
DTSTAMP:20260422T230707
CREATED:20240925T214357Z
LAST-MODIFIED:20240925T214357Z
UID:10001208-1729098000-1729099800@explorepeace.org
SUMMARY:Joyful Noise children's choir (for ages 3 to 7)
DESCRIPTION:Children will learn basic vocal skills and have fun singing songs\, learning actions and playing games that will encourage a love for music. Interactive and lively songs are performed at occasionally scheduled Sunday and seasonal worship services throughout the school year.  Rehearsals will be Wednesdays from 5:00 to 5:30PM during the school year.  Joyful Noise director is Megan Tatzel.
URL:https://explorepeace.org/event/joyful-noise-childrens-choir-for-ages-3-to-7/2024-10-16/
CATEGORIES:Music,Youth
END:VEVENT
BEGIN:VEVENT
DTSTART;TZID=America/Chicago:20241016T161500
DTEND;TZID=America/Chicago:20241016T171500
DTSTAMP:20260422T230708
CREATED:20240829T175901Z
LAST-MODIFIED:20241023T211200Z
UID:10001079-1729095300-1729098900@explorepeace.org
SUMMARY:Route 56 (for 5th & 6th graders)
DESCRIPTION:It is the start of our confirmation program and focuses on The Lord’s Prayer\, The 10 Commandments and the Apostle’s Creed. Understanding the needs of intermediate school students\, this group learns in active formats to make the best use of the time we share on Wednesdays.
URL:https://explorepeace.org/event/route-56-for-5th-6th-graders/2024-10-16/
CATEGORIES:Youth
END:VEVENT
BEGIN:VEVENT
DTSTART;TZID=America/Chicago:20241013T180000
DTEND;TZID=America/Chicago:20241013T190000
DTSTAMP:20260422T230708
CREATED:20240925T221422Z
LAST-MODIFIED:20240925T221422Z
UID:10001217-1728842400-1728846000@explorepeace.org
SUMMARY:Radical Ringers rehearsal
DESCRIPTION:For … 7th to 12th graders\, ringing hand bells … ring / dampen / shake / mallet / thumb damp / pluck / and so much more (happening in the Music Room).  Ringing bells is so much fun!\nOur Radical Ringers rehearsals will be on SUNDAYS from 6:00 – 7:00pm\, beginning on Sunday\, October 13.   \nJan Rutkowski\, RR Director
URL:https://explorepeace.org/event/radical-ringers-rehearsal/2024-10-13/
CATEGORIES:Music,Youth
END:VEVENT
BEGIN:VEVENT
DTSTART;TZID=America/Chicago:20241013T090000
DTEND;TZID=America/Chicago:20241013T094500
DTSTAMP:20260422T230708
CREATED:20240829T163231Z
LAST-MODIFIED:20241023T200757Z
UID:10001049-1728810000-1728812700@explorepeace.org
SUMMARY:KiX (Kids in Christ) aka Sunday School (age 3 to grade 4)
DESCRIPTION:
URL:https://explorepeace.org/event/kix-kids-in-christ-aka-sunday-school-age-3-to-grade-4/2024-10-13/
CATEGORIES:Youth
END:VEVENT
BEGIN:VEVENT
DTSTART;TZID=America/Chicago:20241009T180000
DTEND;TZID=America/Chicago:20241009T184500
DTSTAMP:20260422T230708
CREATED:20240829T164206Z
LAST-MODIFIED:20241023T210804Z
UID:10001092-1728496800-1728499500@explorepeace.org
SUMMARY:KiX (Kids in Christ) aka Sunday School (age 3 to grade 4)
DESCRIPTION:
URL:https://explorepeace.org/event/kix-kids-in-christ-aka-sunday-school-age-3-to-grade-4-2/2024-10-09/
CATEGORIES:Youth
END:VEVENT
BEGIN:VEVENT
DTSTART;TZID=America/Chicago:20241009T171500
DTEND;TZID=America/Chicago:20241009T180000
DTSTAMP:20260422T230708
CREATED:20240829T180754Z
LAST-MODIFIED:20240904T200042Z
UID:10001106-1728494100-1728496800@explorepeace.org
SUMMARY:Chapel Chimes (musical group of 4th - 6th graders)
DESCRIPTION:Sherry Johnson\, Director … meet in the Music Room on Wednesdays!
URL:https://explorepeace.org/event/chapel-chimes-musical-group-of-4th-6th-graders/2024-10-09/
CATEGORIES:Music,Youth
END:VEVENT
BEGIN:VEVENT
DTSTART;TZID=America/Chicago:20241009T170000
DTEND;TZID=America/Chicago:20241009T173000
DTSTAMP:20260422T230708
CREATED:20240925T214357Z
LAST-MODIFIED:20240925T214357Z
UID:10001207-1728493200-1728495000@explorepeace.org
SUMMARY:Joyful Noise children's choir (for ages 3 to 7)
DESCRIPTION:Children will learn basic vocal skills and have fun singing songs\, learning actions and playing games that will encourage a love for music. Interactive and lively songs are performed at occasionally scheduled Sunday and seasonal worship services throughout the school year.  Rehearsals will be Wednesdays from 5:00 to 5:30PM during the school year.  Joyful Noise director is Megan Tatzel.
URL:https://explorepeace.org/event/joyful-noise-childrens-choir-for-ages-3-to-7/2024-10-09/
CATEGORIES:Music,Youth
END:VEVENT
BEGIN:VEVENT
DTSTART;TZID=America/Chicago:20241009T161500
DTEND;TZID=America/Chicago:20241009T171500
DTSTAMP:20260422T230708
CREATED:20240829T175901Z
LAST-MODIFIED:20241023T211200Z
UID:10001078-1728490500-1728494100@explorepeace.org
SUMMARY:Route 56 (for 5th & 6th graders)
DESCRIPTION:It is the start of our confirmation program and focuses on The Lord’s Prayer\, The 10 Commandments and the Apostle’s Creed. Understanding the needs of intermediate school students\, this group learns in active formats to make the best use of the time we share on Wednesdays.
URL:https://explorepeace.org/event/route-56-for-5th-6th-graders/2024-10-09/
CATEGORIES:Youth
END:VEVENT
END:VCALENDAR