BEGIN:VCALENDAR
VERSION:2.0
PRODID:-//Peace Lutheran Church | Experience Christ. Explore Peace. - ECPv6.15.20//NONSGML v1.0//EN
CALSCALE:GREGORIAN
METHOD:PUBLISH
X-WR-CALNAME:Peace Lutheran Church | Experience Christ. Explore Peace.
X-ORIGINAL-URL:https://explorepeace.org
X-WR-CALDESC:Events for Peace Lutheran Church | Experience Christ. Explore Peace.
REFRESH-INTERVAL;VALUE=DURATION:PT1H
X-Robots-Tag:noindex
X-PUBLISHED-TTL:PT1H
BEGIN:VTIMEZONE
TZID:America/Chicago
BEGIN:DAYLIGHT
TZOFFSETFROM:-0600
TZOFFSETTO:-0500
TZNAME:CDT
DTSTART:20230312T080000
END:DAYLIGHT
BEGIN:STANDARD
TZOFFSETFROM:-0500
TZOFFSETTO:-0600
TZNAME:CST
DTSTART:20231105T070000
END:STANDARD
BEGIN:DAYLIGHT
TZOFFSETFROM:-0600
TZOFFSETTO:-0500
TZNAME:CDT
DTSTART:20240310T080000
END:DAYLIGHT
BEGIN:STANDARD
TZOFFSETFROM:-0500
TZOFFSETTO:-0600
TZNAME:CST
DTSTART:20241103T070000
END:STANDARD
BEGIN:DAYLIGHT
TZOFFSETFROM:-0600
TZOFFSETTO:-0500
TZNAME:CDT
DTSTART:20250309T080000
END:DAYLIGHT
BEGIN:STANDARD
TZOFFSETFROM:-0500
TZOFFSETTO:-0600
TZNAME:CST
DTSTART:20251102T070000
END:STANDARD
END:VTIMEZONE
BEGIN:VEVENT
DTSTART;TZID=America/Chicago:20241204T160000
DTEND;TZID=America/Chicago:20241204T170000
DTSTAMP:20260422T201356
CREATED:20241017T194454Z
LAST-MODIFIED:20241017T194454Z
UID:10001237-1733328000-1733331600@explorepeace.org
SUMMARY:Route 78 & Adventure 910
DESCRIPTION:Oct 30: Introduction Day! \nNov 6: Interesting Details about God #1 \nNov 13: Interesting Details about God #2 \nNov 20: Interesting Details about God #3 \nDec 4: Advent Festival Event. Come for your time slot! \nDec 11: Interesting Details about God #4 \nDec 18: Interesting Details about God #5
URL:https://explorepeace.org/event/route-78-adventure-910/2024-12-04/
CATEGORIES:Youth
END:VEVENT
BEGIN:VEVENT
DTSTART;TZID=America/Chicago:20241201T180000
DTEND;TZID=America/Chicago:20241201T190000
DTSTAMP:20260422T201356
CREATED:20240925T221422Z
LAST-MODIFIED:20240925T221422Z
UID:10001224-1733076000-1733079600@explorepeace.org
SUMMARY:Radical Ringers rehearsal
DESCRIPTION:For … 7th to 12th graders\, ringing hand bells … ring / dampen / shake / mallet / thumb damp / pluck / and so much more (happening in the Music Room).  Ringing bells is so much fun!\nOur Radical Ringers rehearsals will be on SUNDAYS from 6:00 – 7:00pm\, beginning on Sunday\, October 13.   \nJan Rutkowski\, RR Director
URL:https://explorepeace.org/event/radical-ringers-rehearsal/2024-12-01/
CATEGORIES:Music,Youth
END:VEVENT
BEGIN:VEVENT
DTSTART;TZID=America/Chicago:20241201T090000
DTEND;TZID=America/Chicago:20241201T094500
DTSTAMP:20260422T201356
CREATED:20240829T163231Z
LAST-MODIFIED:20241023T200757Z
UID:10001056-1733043600-1733046300@explorepeace.org
SUMMARY:KiX (Kids in Christ) aka Sunday School (age 3 to grade 4)
DESCRIPTION:
URL:https://explorepeace.org/event/kix-kids-in-christ-aka-sunday-school-age-3-to-grade-4/2024-12-01/
CATEGORIES:Youth
END:VEVENT
BEGIN:VEVENT
DTSTART;TZID=America/Chicago:20241127T160000
DTEND;TZID=America/Chicago:20241127T200000
DTSTAMP:20260422T201356
CREATED:20240829T185930Z
LAST-MODIFIED:20240829T185930Z
UID:10001187-1732723200-1732737600@explorepeace.org
SUMMARY:Thanksgiving Break (no church activities or Worship this evening)
DESCRIPTION:
URL:https://explorepeace.org/event/thanksgiving-break-no-church-activities-or-worship-this-evening/
CATEGORIES:Meetings/Gatherings,Music,Worship,Youth
END:VEVENT
BEGIN:VEVENT
DTSTART;TZID=America/Chicago:20241124T180000
DTEND;TZID=America/Chicago:20241124T190000
DTSTAMP:20260422T201356
CREATED:20240925T221422Z
LAST-MODIFIED:20240925T221422Z
UID:10001223-1732471200-1732474800@explorepeace.org
SUMMARY:Radical Ringers rehearsal
DESCRIPTION:For … 7th to 12th graders\, ringing hand bells … ring / dampen / shake / mallet / thumb damp / pluck / and so much more (happening in the Music Room).  Ringing bells is so much fun!\nOur Radical Ringers rehearsals will be on SUNDAYS from 6:00 – 7:00pm\, beginning on Sunday\, October 13.   \nJan Rutkowski\, RR Director
URL:https://explorepeace.org/event/radical-ringers-rehearsal/2024-11-24/
CATEGORIES:Music,Youth
END:VEVENT
BEGIN:VEVENT
DTSTART;TZID=America/Chicago:20241124T090000
DTEND;TZID=America/Chicago:20241124T094500
DTSTAMP:20260422T201356
CREATED:20240829T163231Z
LAST-MODIFIED:20241023T200757Z
UID:10001055-1732438800-1732441500@explorepeace.org
SUMMARY:KiX (Kids in Christ) aka Sunday School (age 3 to grade 4)
DESCRIPTION:
URL:https://explorepeace.org/event/kix-kids-in-christ-aka-sunday-school-age-3-to-grade-4/2024-11-24/
CATEGORIES:Youth
END:VEVENT
BEGIN:VEVENT
DTSTART;TZID=America/Chicago:20241120T184500
DTEND;TZID=America/Chicago:20241120T194500
DTSTAMP:20260422T201356
CREATED:20241017T194657Z
LAST-MODIFIED:20241017T194657Z
UID:10001243-1732128300-1732131900@explorepeace.org
SUMMARY:Route 78 & Adventure 910
DESCRIPTION:Oct 30: Introduction Day! \nNov 6: Interesting Details about God #1 \nNov 13: Interesting Details about God #2 \nNov 20: Interesting Details about God #3 \nDec 4: Advent Festival Event. Come for your time slot! \nDec 11: Interesting Details about God #4 \nDec 18: Interesting Details about God #5
URL:https://explorepeace.org/event/route-78-adventure-910-2/2024-11-20/
CATEGORIES:Youth
END:VEVENT
BEGIN:VEVENT
DTSTART;TZID=America/Chicago:20241120T180000
DTEND;TZID=America/Chicago:20241120T184500
DTSTAMP:20260422T201356
CREATED:20240829T164206Z
LAST-MODIFIED:20241023T210804Z
UID:10001098-1732125600-1732128300@explorepeace.org
SUMMARY:KiX (Kids in Christ) aka Sunday School (age 3 to grade 4)
DESCRIPTION:
URL:https://explorepeace.org/event/kix-kids-in-christ-aka-sunday-school-age-3-to-grade-4-2/2024-11-20/
CATEGORIES:Youth
END:VEVENT
BEGIN:VEVENT
DTSTART;TZID=America/Chicago:20241120T171500
DTEND;TZID=America/Chicago:20241120T180000
DTSTAMP:20260422T201356
CREATED:20240829T180754Z
LAST-MODIFIED:20240904T200042Z
UID:10001112-1732122900-1732125600@explorepeace.org
SUMMARY:Chapel Chimes (musical group of 4th - 6th graders)
DESCRIPTION:Sherry Johnson\, Director … meet in the Music Room on Wednesdays!
URL:https://explorepeace.org/event/chapel-chimes-musical-group-of-4th-6th-graders/2024-11-20/
CATEGORIES:Music,Youth
END:VEVENT
BEGIN:VEVENT
DTSTART;TZID=America/Chicago:20241120T170000
DTEND;TZID=America/Chicago:20241120T173000
DTSTAMP:20260422T201356
CREATED:20240925T214357Z
LAST-MODIFIED:20240925T214357Z
UID:10001212-1732122000-1732123800@explorepeace.org
SUMMARY:Joyful Noise children's choir (for ages 3 to 7)
DESCRIPTION:Children will learn basic vocal skills and have fun singing songs\, learning actions and playing games that will encourage a love for music. Interactive and lively songs are performed at occasionally scheduled Sunday and seasonal worship services throughout the school year.  Rehearsals will be Wednesdays from 5:00 to 5:30PM during the school year.  Joyful Noise director is Megan Tatzel.
URL:https://explorepeace.org/event/joyful-noise-childrens-choir-for-ages-3-to-7/2024-11-20/
CATEGORIES:Music,Youth
END:VEVENT
BEGIN:VEVENT
DTSTART;TZID=America/Chicago:20241120T161500
DTEND;TZID=America/Chicago:20241120T171500
DTSTAMP:20260422T201357
CREATED:20240829T175901Z
LAST-MODIFIED:20241023T211200Z
UID:10001084-1732119300-1732122900@explorepeace.org
SUMMARY:Route 56 (for 5th & 6th graders)
DESCRIPTION:It is the start of our confirmation program and focuses on The Lord’s Prayer\, The 10 Commandments and the Apostle’s Creed. Understanding the needs of intermediate school students\, this group learns in active formats to make the best use of the time we share on Wednesdays.
URL:https://explorepeace.org/event/route-56-for-5th-6th-graders/2024-11-20/
CATEGORIES:Youth
END:VEVENT
BEGIN:VEVENT
DTSTART;TZID=America/Chicago:20241120T160000
DTEND;TZID=America/Chicago:20241120T170000
DTSTAMP:20260422T201357
CREATED:20241017T194454Z
LAST-MODIFIED:20241017T194454Z
UID:10001236-1732118400-1732122000@explorepeace.org
SUMMARY:Route 78 & Adventure 910
DESCRIPTION:Oct 30: Introduction Day! \nNov 6: Interesting Details about God #1 \nNov 13: Interesting Details about God #2 \nNov 20: Interesting Details about God #3 \nDec 4: Advent Festival Event. Come for your time slot! \nDec 11: Interesting Details about God #4 \nDec 18: Interesting Details about God #5
URL:https://explorepeace.org/event/route-78-adventure-910/2024-11-20/
CATEGORIES:Youth
END:VEVENT
BEGIN:VEVENT
DTSTART;TZID=America/Chicago:20241120T154500
DTEND;TZID=America/Chicago:20241120T163000
DTSTAMP:20260422T201357
CREATED:20240918T172400Z
LAST-MODIFIED:20240918T172400Z
UID:10001205-1732117500-1732120200@explorepeace.org
SUMMARY:Wednesday Open Studio Art Class - children ages 5-8
DESCRIPTION:Please join our creative Open Studio Art Class\, on Wednesdays this Fall\, Oct. 2 – Nov. 13.  Explore a new art project each week\, including painting\, drawing\, collage\, and small 3D recycled art creations. 6 sessions: October 2\, 9\, 30\, Nov. 6\, 13 & 20 from 3:45 – 4:30 p.m. at Peace Lutheran Church – Friendship Room. Taught by Miss Suzanne from Peace Preschool  Cost: $35\, includes all art supplies and 6-week class \nScholarship funds available\, please inquire.  Register by emailing: Suzanne.sackett@explorepeace.org
URL:https://explorepeace.org/event/wednesday-open-studio-art-class-children-ages-5-8/2024-11-20/
CATEGORIES:Youth
END:VEVENT
BEGIN:VEVENT
DTSTART;TZID=America/Chicago:20241117T180000
DTEND;TZID=America/Chicago:20241117T190000
DTSTAMP:20260422T201357
CREATED:20240925T221422Z
LAST-MODIFIED:20240925T221422Z
UID:10001222-1731866400-1731870000@explorepeace.org
SUMMARY:Radical Ringers rehearsal
DESCRIPTION:For … 7th to 12th graders\, ringing hand bells … ring / dampen / shake / mallet / thumb damp / pluck / and so much more (happening in the Music Room).  Ringing bells is so much fun!\nOur Radical Ringers rehearsals will be on SUNDAYS from 6:00 – 7:00pm\, beginning on Sunday\, October 13.   \nJan Rutkowski\, RR Director
URL:https://explorepeace.org/event/radical-ringers-rehearsal/2024-11-17/
CATEGORIES:Music,Youth
END:VEVENT
BEGIN:VEVENT
DTSTART;TZID=America/Chicago:20241117T090000
DTEND;TZID=America/Chicago:20241117T094500
DTSTAMP:20260422T201357
CREATED:20240829T163231Z
LAST-MODIFIED:20241023T200757Z
UID:10001054-1731834000-1731836700@explorepeace.org
SUMMARY:KiX (Kids in Christ) aka Sunday School (age 3 to grade 4)
DESCRIPTION:
URL:https://explorepeace.org/event/kix-kids-in-christ-aka-sunday-school-age-3-to-grade-4/2024-11-17/
CATEGORIES:Youth
END:VEVENT
BEGIN:VEVENT
DTSTART;TZID=America/Chicago:20241113T184500
DTEND;TZID=America/Chicago:20241113T194500
DTSTAMP:20260422T201357
CREATED:20241017T194657Z
LAST-MODIFIED:20241017T194657Z
UID:10001242-1731523500-1731527100@explorepeace.org
SUMMARY:Route 78 & Adventure 910
DESCRIPTION:Oct 30: Introduction Day! \nNov 6: Interesting Details about God #1 \nNov 13: Interesting Details about God #2 \nNov 20: Interesting Details about God #3 \nDec 4: Advent Festival Event. Come for your time slot! \nDec 11: Interesting Details about God #4 \nDec 18: Interesting Details about God #5
URL:https://explorepeace.org/event/route-78-adventure-910-2/2024-11-13/
CATEGORIES:Youth
END:VEVENT
BEGIN:VEVENT
DTSTART;TZID=America/Chicago:20241113T180000
DTEND;TZID=America/Chicago:20241113T184500
DTSTAMP:20260422T201357
CREATED:20240829T164206Z
LAST-MODIFIED:20241023T210804Z
UID:10001097-1731520800-1731523500@explorepeace.org
SUMMARY:KiX (Kids in Christ) aka Sunday School (age 3 to grade 4)
DESCRIPTION:
URL:https://explorepeace.org/event/kix-kids-in-christ-aka-sunday-school-age-3-to-grade-4-2/2024-11-13/
CATEGORIES:Youth
END:VEVENT
BEGIN:VEVENT
DTSTART;TZID=America/Chicago:20241113T171500
DTEND;TZID=America/Chicago:20241113T180000
DTSTAMP:20260422T201357
CREATED:20240829T180754Z
LAST-MODIFIED:20240904T200042Z
UID:10001111-1731518100-1731520800@explorepeace.org
SUMMARY:Chapel Chimes (musical group of 4th - 6th graders)
DESCRIPTION:Sherry Johnson\, Director … meet in the Music Room on Wednesdays!
URL:https://explorepeace.org/event/chapel-chimes-musical-group-of-4th-6th-graders/2024-11-13/
CATEGORIES:Music,Youth
END:VEVENT
BEGIN:VEVENT
DTSTART;TZID=America/Chicago:20241113T170000
DTEND;TZID=America/Chicago:20241113T173000
DTSTAMP:20260422T201357
CREATED:20240925T214357Z
LAST-MODIFIED:20240925T214357Z
UID:10001211-1731517200-1731519000@explorepeace.org
SUMMARY:Joyful Noise children's choir (for ages 3 to 7)
DESCRIPTION:Children will learn basic vocal skills and have fun singing songs\, learning actions and playing games that will encourage a love for music. Interactive and lively songs are performed at occasionally scheduled Sunday and seasonal worship services throughout the school year.  Rehearsals will be Wednesdays from 5:00 to 5:30PM during the school year.  Joyful Noise director is Megan Tatzel.
URL:https://explorepeace.org/event/joyful-noise-childrens-choir-for-ages-3-to-7/2024-11-13/
CATEGORIES:Music,Youth
END:VEVENT
BEGIN:VEVENT
DTSTART;TZID=America/Chicago:20241113T161500
DTEND;TZID=America/Chicago:20241113T171500
DTSTAMP:20260422T201357
CREATED:20240829T175901Z
LAST-MODIFIED:20241023T211200Z
UID:10001083-1731514500-1731518100@explorepeace.org
SUMMARY:Route 56 (for 5th & 6th graders)
DESCRIPTION:It is the start of our confirmation program and focuses on The Lord’s Prayer\, The 10 Commandments and the Apostle’s Creed. Understanding the needs of intermediate school students\, this group learns in active formats to make the best use of the time we share on Wednesdays.
URL:https://explorepeace.org/event/route-56-for-5th-6th-graders/2024-11-13/
CATEGORIES:Youth
END:VEVENT
BEGIN:VEVENT
DTSTART;TZID=America/Chicago:20241113T160000
DTEND;TZID=America/Chicago:20241113T170000
DTSTAMP:20260422T201357
CREATED:20241017T194454Z
LAST-MODIFIED:20241017T194454Z
UID:10001235-1731513600-1731517200@explorepeace.org
SUMMARY:Route 78 & Adventure 910
DESCRIPTION:Oct 30: Introduction Day! \nNov 6: Interesting Details about God #1 \nNov 13: Interesting Details about God #2 \nNov 20: Interesting Details about God #3 \nDec 4: Advent Festival Event. Come for your time slot! \nDec 11: Interesting Details about God #4 \nDec 18: Interesting Details about God #5
URL:https://explorepeace.org/event/route-78-adventure-910/2024-11-13/
CATEGORIES:Youth
END:VEVENT
BEGIN:VEVENT
DTSTART;TZID=America/Chicago:20241113T154500
DTEND;TZID=America/Chicago:20241113T163000
DTSTAMP:20260422T201357
CREATED:20240918T172400Z
LAST-MODIFIED:20240918T172400Z
UID:10001204-1731512700-1731515400@explorepeace.org
SUMMARY:Wednesday Open Studio Art Class - children ages 5-8
DESCRIPTION:Please join our creative Open Studio Art Class\, on Wednesdays this Fall\, Oct. 2 – Nov. 13.  Explore a new art project each week\, including painting\, drawing\, collage\, and small 3D recycled art creations. 6 sessions: October 2\, 9\, 30\, Nov. 6\, 13 & 20 from 3:45 – 4:30 p.m. at Peace Lutheran Church – Friendship Room. Taught by Miss Suzanne from Peace Preschool  Cost: $35\, includes all art supplies and 6-week class \nScholarship funds available\, please inquire.  Register by emailing: Suzanne.sackett@explorepeace.org
URL:https://explorepeace.org/event/wednesday-open-studio-art-class-children-ages-5-8/2024-11-13/
CATEGORIES:Youth
END:VEVENT
BEGIN:VEVENT
DTSTART;TZID=America/Chicago:20241110T180000
DTEND;TZID=America/Chicago:20241110T190000
DTSTAMP:20260422T201357
CREATED:20240925T221422Z
LAST-MODIFIED:20240925T221422Z
UID:10001221-1731261600-1731265200@explorepeace.org
SUMMARY:Radical Ringers rehearsal
DESCRIPTION:For … 7th to 12th graders\, ringing hand bells … ring / dampen / shake / mallet / thumb damp / pluck / and so much more (happening in the Music Room).  Ringing bells is so much fun!\nOur Radical Ringers rehearsals will be on SUNDAYS from 6:00 – 7:00pm\, beginning on Sunday\, October 13.   \nJan Rutkowski\, RR Director
URL:https://explorepeace.org/event/radical-ringers-rehearsal/2024-11-10/
CATEGORIES:Music,Youth
END:VEVENT
BEGIN:VEVENT
DTSTART;TZID=America/Chicago:20241110T090000
DTEND;TZID=America/Chicago:20241110T094500
DTSTAMP:20260422T201357
CREATED:20240829T163231Z
LAST-MODIFIED:20241023T200757Z
UID:10001053-1731229200-1731231900@explorepeace.org
SUMMARY:KiX (Kids in Christ) aka Sunday School (age 3 to grade 4)
DESCRIPTION:
URL:https://explorepeace.org/event/kix-kids-in-christ-aka-sunday-school-age-3-to-grade-4/2024-11-10/
CATEGORIES:Youth
END:VEVENT
BEGIN:VEVENT
DTSTART;TZID=America/Chicago:20241106T184500
DTEND;TZID=America/Chicago:20241106T194500
DTSTAMP:20260422T201357
CREATED:20241017T194657Z
LAST-MODIFIED:20241017T194657Z
UID:10001241-1730918700-1730922300@explorepeace.org
SUMMARY:Route 78 & Adventure 910
DESCRIPTION:Oct 30: Introduction Day! \nNov 6: Interesting Details about God #1 \nNov 13: Interesting Details about God #2 \nNov 20: Interesting Details about God #3 \nDec 4: Advent Festival Event. Come for your time slot! \nDec 11: Interesting Details about God #4 \nDec 18: Interesting Details about God #5
URL:https://explorepeace.org/event/route-78-adventure-910-2/2024-11-06/
CATEGORIES:Youth
END:VEVENT
BEGIN:VEVENT
DTSTART;TZID=America/Chicago:20241106T180000
DTEND;TZID=America/Chicago:20241106T184500
DTSTAMP:20260422T201357
CREATED:20240829T164206Z
LAST-MODIFIED:20241023T210804Z
UID:10001096-1730916000-1730918700@explorepeace.org
SUMMARY:KiX (Kids in Christ) aka Sunday School (age 3 to grade 4)
DESCRIPTION:
URL:https://explorepeace.org/event/kix-kids-in-christ-aka-sunday-school-age-3-to-grade-4-2/2024-11-06/
CATEGORIES:Youth
END:VEVENT
BEGIN:VEVENT
DTSTART;TZID=America/Chicago:20241106T171500
DTEND;TZID=America/Chicago:20241106T180000
DTSTAMP:20260422T201357
CREATED:20240829T180754Z
LAST-MODIFIED:20240904T200042Z
UID:10001110-1730913300-1730916000@explorepeace.org
SUMMARY:Chapel Chimes (musical group of 4th - 6th graders)
DESCRIPTION:Sherry Johnson\, Director … meet in the Music Room on Wednesdays!
URL:https://explorepeace.org/event/chapel-chimes-musical-group-of-4th-6th-graders/2024-11-06/
CATEGORIES:Music,Youth
END:VEVENT
BEGIN:VEVENT
DTSTART;TZID=America/Chicago:20241106T170000
DTEND;TZID=America/Chicago:20241106T173000
DTSTAMP:20260422T201357
CREATED:20240925T214357Z
LAST-MODIFIED:20240925T214357Z
UID:10001210-1730912400-1730914200@explorepeace.org
SUMMARY:Joyful Noise children's choir (for ages 3 to 7)
DESCRIPTION:Children will learn basic vocal skills and have fun singing songs\, learning actions and playing games that will encourage a love for music. Interactive and lively songs are performed at occasionally scheduled Sunday and seasonal worship services throughout the school year.  Rehearsals will be Wednesdays from 5:00 to 5:30PM during the school year.  Joyful Noise director is Megan Tatzel.
URL:https://explorepeace.org/event/joyful-noise-childrens-choir-for-ages-3-to-7/2024-11-06/
CATEGORIES:Music,Youth
END:VEVENT
BEGIN:VEVENT
DTSTART;TZID=America/Chicago:20241106T161500
DTEND;TZID=America/Chicago:20241106T171500
DTSTAMP:20260422T201357
CREATED:20240829T175901Z
LAST-MODIFIED:20241023T211200Z
UID:10001082-1730909700-1730913300@explorepeace.org
SUMMARY:Route 56 (for 5th & 6th graders)
DESCRIPTION:It is the start of our confirmation program and focuses on The Lord’s Prayer\, The 10 Commandments and the Apostle’s Creed. Understanding the needs of intermediate school students\, this group learns in active formats to make the best use of the time we share on Wednesdays.
URL:https://explorepeace.org/event/route-56-for-5th-6th-graders/2024-11-06/
CATEGORIES:Youth
END:VEVENT
BEGIN:VEVENT
DTSTART;TZID=America/Chicago:20241106T160000
DTEND;TZID=America/Chicago:20241106T170000
DTSTAMP:20260422T201357
CREATED:20241017T194454Z
LAST-MODIFIED:20241017T194454Z
UID:10001234-1730908800-1730912400@explorepeace.org
SUMMARY:Route 78 & Adventure 910
DESCRIPTION:Oct 30: Introduction Day! \nNov 6: Interesting Details about God #1 \nNov 13: Interesting Details about God #2 \nNov 20: Interesting Details about God #3 \nDec 4: Advent Festival Event. Come for your time slot! \nDec 11: Interesting Details about God #4 \nDec 18: Interesting Details about God #5
URL:https://explorepeace.org/event/route-78-adventure-910/2024-11-06/
CATEGORIES:Youth
END:VEVENT
END:VCALENDAR