BEGIN:VCALENDAR
VERSION:2.0
PRODID:-//Peace Lutheran Church | Experience Christ. Explore Peace. - ECPv6.15.20//NONSGML v1.0//EN
CALSCALE:GREGORIAN
METHOD:PUBLISH
X-WR-CALNAME:Peace Lutheran Church | Experience Christ. Explore Peace.
X-ORIGINAL-URL:https://explorepeace.org
X-WR-CALDESC:Events for Peace Lutheran Church | Experience Christ. Explore Peace.
REFRESH-INTERVAL;VALUE=DURATION:PT1H
X-Robots-Tag:noindex
X-PUBLISHED-TTL:PT1H
BEGIN:VTIMEZONE
TZID:America/Chicago
BEGIN:DAYLIGHT
TZOFFSETFROM:-0600
TZOFFSETTO:-0500
TZNAME:CDT
DTSTART:20230312T080000
END:DAYLIGHT
BEGIN:STANDARD
TZOFFSETFROM:-0500
TZOFFSETTO:-0600
TZNAME:CST
DTSTART:20231105T070000
END:STANDARD
BEGIN:DAYLIGHT
TZOFFSETFROM:-0600
TZOFFSETTO:-0500
TZNAME:CDT
DTSTART:20240310T080000
END:DAYLIGHT
BEGIN:STANDARD
TZOFFSETFROM:-0500
TZOFFSETTO:-0600
TZNAME:CST
DTSTART:20241103T070000
END:STANDARD
BEGIN:DAYLIGHT
TZOFFSETFROM:-0600
TZOFFSETTO:-0500
TZNAME:CDT
DTSTART:20250309T080000
END:DAYLIGHT
BEGIN:STANDARD
TZOFFSETFROM:-0500
TZOFFSETTO:-0600
TZNAME:CST
DTSTART:20251102T070000
END:STANDARD
BEGIN:DAYLIGHT
TZOFFSETFROM:-0600
TZOFFSETTO:-0500
TZNAME:CDT
DTSTART:20260308T080000
END:DAYLIGHT
BEGIN:STANDARD
TZOFFSETFROM:-0500
TZOFFSETTO:-0600
TZNAME:CST
DTSTART:20261101T070000
END:STANDARD
END:VTIMEZONE
BEGIN:VEVENT
DTSTART;TZID=America/Chicago:20250129T181500
DTEND;TZID=America/Chicago:20250129T190000
DTSTAMP:20260422T135403
CREATED:20250116T182148Z
LAST-MODIFIED:20250116T182148Z
UID:10001690-1738174500-1738177200@explorepeace.org
SUMMARY:Route 78 & Adventure 910 Confirmation (7th-10th grades) - late session
DESCRIPTION:
URL:https://explorepeace.org/event/route-78-adventure-910-confirmation-7th-10th-grades-late-session/2025-01-29/
CATEGORIES:Youth
END:VEVENT
BEGIN:VEVENT
DTSTART;TZID=America/Chicago:20250129T181500
DTEND;TZID=America/Chicago:20250129T190000
DTSTAMP:20260422T135403
CREATED:20250113T150927Z
LAST-MODIFIED:20250113T150927Z
UID:10001548-1738174500-1738177200@explorepeace.org
SUMMARY:KiX (Kids in Christ) for ages 3 through 4th grade (meet in Friendship Room)
DESCRIPTION:
URL:https://explorepeace.org/event/kix-kids-in-christ-for-ages-3-through-4th-grade-meet-in-friendship-room/2025-01-29/
CATEGORIES:Youth
END:VEVENT
BEGIN:VEVENT
DTSTART;TZID=America/Chicago:20250129T171500
DTEND;TZID=America/Chicago:20250129T180000
DTSTAMP:20260422T135403
CREATED:20250113T151849Z
LAST-MODIFIED:20250113T153219Z
UID:10001587-1738170900-1738173600@explorepeace.org
SUMMARY:Chapel Chimes (music group for 4th - 6th graders)
DESCRIPTION:Sherry Johnson is Chapel Chimes Director.
URL:https://explorepeace.org/event/chapel-chimes-music-group-for-4th-6th-graders/2025-01-29/
CATEGORIES:Music,Youth
END:VEVENT
BEGIN:VEVENT
DTSTART;TZID=America/Chicago:20250129T170000
DTEND;TZID=America/Chicago:20250129T173000
DTSTAMP:20260422T135403
CREATED:20250113T151416Z
LAST-MODIFIED:20250113T153030Z
UID:10001561-1738170000-1738171800@explorepeace.org
SUMMARY:Joyful Noise (ages 4 - 1st grade\, give or take a year)
DESCRIPTION:Children will learn basic vocal skills and have fun singing songs\, learning actions and playing games that will encourage a love for music. Interactive and lively songs are performed at occasionally scheduled Sunday and seasonal worship services throughout the school year.  Rehearsals will be Wednesdays from 5:00 to 5:30PM during the school year.  Joyful Noise director is Megan Tatzel.
URL:https://explorepeace.org/event/joyful-noise-ages-4-1st-grade-give-or-take-a-year/2025-01-29/
CATEGORIES:Music,Youth
END:VEVENT
BEGIN:VEVENT
DTSTART;TZID=America/Chicago:20250129T161500
DTEND;TZID=America/Chicago:20250129T171500
DTSTAMP:20260422T135403
CREATED:20250113T151640Z
LAST-MODIFIED:20250113T151640Z
UID:10001574-1738167300-1738170900@explorepeace.org
SUMMARY:Route 56 (confirmation for 5th and 6th graders)
DESCRIPTION:
URL:https://explorepeace.org/event/route-56-confirmation-for-5th-and-6th-graders/2025-01-29/
CATEGORIES:Youth
END:VEVENT
BEGIN:VEVENT
DTSTART;TZID=America/Chicago:20250129T160000
DTEND;TZID=America/Chicago:20250129T170000
DTSTAMP:20260422T135403
CREATED:20250113T154342Z
LAST-MODIFIED:20250116T182657Z
UID:10001628-1738166400-1738170000@explorepeace.org
SUMMARY:Route 78 & Adventure 910 Confirmation (7th-10 grade) - early session
DESCRIPTION:
URL:https://explorepeace.org/event/route-78-adventure-910-confirmation-for-7th-10th-grades/2025-01-29/
CATEGORIES:Youth
END:VEVENT
BEGIN:VEVENT
DTSTART;TZID=America/Chicago:20250126T180000
DTEND;TZID=America/Chicago:20250126T190000
DTSTAMP:20260422T135403
CREATED:20250113T155005Z
LAST-MODIFIED:20250113T155005Z
UID:10001641-1737914400-1737918000@explorepeace.org
SUMMARY:Radical Ringers (handbells for 7th-12th graders)
DESCRIPTION:Jan Rutkowski is the Radical Ringers Director.  Meet in the Music Room on Sunday evenings.
URL:https://explorepeace.org/event/radical-ringers-handbells-for-7th-12th-graders/2025-01-26/
CATEGORIES:Music,Youth
END:VEVENT
BEGIN:VEVENT
DTSTART;TZID=America/Chicago:20250126T090000
DTEND;TZID=America/Chicago:20250126T094500
DTSTAMP:20260422T135403
CREATED:20250109T230208Z
LAST-MODIFIED:20250109T230208Z
UID:10001316-1737882000-1737884700@explorepeace.org
SUMMARY:KiX (Kids in Christ) for age 3 to 4th grade
DESCRIPTION:
URL:https://explorepeace.org/event/kix-kids-in-christ-for-age-3-to-4th-grade-2/2025-01-26/
CATEGORIES:Youth
END:VEVENT
BEGIN:VEVENT
DTSTART;TZID=America/Chicago:20250122T181500
DTEND;TZID=America/Chicago:20250122T190000
DTSTAMP:20260422T135403
CREATED:20250116T182148Z
LAST-MODIFIED:20250116T182148Z
UID:10001689-1737569700-1737572400@explorepeace.org
SUMMARY:Route 78 & Adventure 910 Confirmation (7th-10th grades) - late session
DESCRIPTION:
URL:https://explorepeace.org/event/route-78-adventure-910-confirmation-7th-10th-grades-late-session/2025-01-22/
CATEGORIES:Youth
END:VEVENT
BEGIN:VEVENT
DTSTART;TZID=America/Chicago:20250122T181500
DTEND;TZID=America/Chicago:20250122T190000
DTSTAMP:20260422T135403
CREATED:20250113T150927Z
LAST-MODIFIED:20250113T150927Z
UID:10001547-1737569700-1737572400@explorepeace.org
SUMMARY:KiX (Kids in Christ) for ages 3 through 4th grade (meet in Friendship Room)
DESCRIPTION:
URL:https://explorepeace.org/event/kix-kids-in-christ-for-ages-3-through-4th-grade-meet-in-friendship-room/2025-01-22/
CATEGORIES:Youth
END:VEVENT
BEGIN:VEVENT
DTSTART;TZID=America/Chicago:20250122T171500
DTEND;TZID=America/Chicago:20250122T180000
DTSTAMP:20260422T135403
CREATED:20250113T151849Z
LAST-MODIFIED:20250113T153219Z
UID:10001586-1737566100-1737568800@explorepeace.org
SUMMARY:Chapel Chimes (music group for 4th - 6th graders)
DESCRIPTION:Sherry Johnson is Chapel Chimes Director.
URL:https://explorepeace.org/event/chapel-chimes-music-group-for-4th-6th-graders/2025-01-22/
CATEGORIES:Music,Youth
END:VEVENT
BEGIN:VEVENT
DTSTART;TZID=America/Chicago:20250122T170000
DTEND;TZID=America/Chicago:20250122T173000
DTSTAMP:20260422T135403
CREATED:20250113T151416Z
LAST-MODIFIED:20250113T153030Z
UID:10001560-1737565200-1737567000@explorepeace.org
SUMMARY:Joyful Noise (ages 4 - 1st grade\, give or take a year)
DESCRIPTION:Children will learn basic vocal skills and have fun singing songs\, learning actions and playing games that will encourage a love for music. Interactive and lively songs are performed at occasionally scheduled Sunday and seasonal worship services throughout the school year.  Rehearsals will be Wednesdays from 5:00 to 5:30PM during the school year.  Joyful Noise director is Megan Tatzel.
URL:https://explorepeace.org/event/joyful-noise-ages-4-1st-grade-give-or-take-a-year/2025-01-22/
CATEGORIES:Music,Youth
END:VEVENT
BEGIN:VEVENT
DTSTART;TZID=America/Chicago:20250122T161500
DTEND;TZID=America/Chicago:20250122T171500
DTSTAMP:20260422T135403
CREATED:20250113T151640Z
LAST-MODIFIED:20250113T151640Z
UID:10001573-1737562500-1737566100@explorepeace.org
SUMMARY:Route 56 (confirmation for 5th and 6th graders)
DESCRIPTION:
URL:https://explorepeace.org/event/route-56-confirmation-for-5th-and-6th-graders/2025-01-22/
CATEGORIES:Youth
END:VEVENT
BEGIN:VEVENT
DTSTART;TZID=America/Chicago:20250122T160000
DTEND;TZID=America/Chicago:20250122T170000
DTSTAMP:20260422T135403
CREATED:20250113T154342Z
LAST-MODIFIED:20250116T182657Z
UID:10001627-1737561600-1737565200@explorepeace.org
SUMMARY:Route 78 & Adventure 910 Confirmation (7th-10 grade) - early session
DESCRIPTION:
URL:https://explorepeace.org/event/route-78-adventure-910-confirmation-for-7th-10th-grades/2025-01-22/
CATEGORIES:Youth
END:VEVENT
BEGIN:VEVENT
DTSTART;TZID=America/Chicago:20250119T180000
DTEND;TZID=America/Chicago:20250119T190000
DTSTAMP:20260422T135403
CREATED:20250113T155005Z
LAST-MODIFIED:20250113T155005Z
UID:10001640-1737309600-1737313200@explorepeace.org
SUMMARY:Radical Ringers (handbells for 7th-12th graders)
DESCRIPTION:Jan Rutkowski is the Radical Ringers Director.  Meet in the Music Room on Sunday evenings.
URL:https://explorepeace.org/event/radical-ringers-handbells-for-7th-12th-graders/2025-01-19/
CATEGORIES:Music,Youth
END:VEVENT
BEGIN:VEVENT
DTSTART;TZID=America/Chicago:20250119T090000
DTEND;TZID=America/Chicago:20250119T094500
DTSTAMP:20260422T135403
CREATED:20250109T230208Z
LAST-MODIFIED:20250109T230208Z
UID:10001315-1737277200-1737279900@explorepeace.org
SUMMARY:KiX (Kids in Christ) for age 3 to 4th grade
DESCRIPTION:
URL:https://explorepeace.org/event/kix-kids-in-christ-for-age-3-to-4th-grade-2/2025-01-19/
CATEGORIES:Youth
END:VEVENT
BEGIN:VEVENT
DTSTART;TZID=America/Chicago:20250115T181500
DTEND;TZID=America/Chicago:20250115T190000
DTSTAMP:20260422T135403
CREATED:20250116T182148Z
LAST-MODIFIED:20250116T182148Z
UID:10001688-1736964900-1736967600@explorepeace.org
SUMMARY:Route 78 & Adventure 910 Confirmation (7th-10th grades) - late session
DESCRIPTION:
URL:https://explorepeace.org/event/route-78-adventure-910-confirmation-7th-10th-grades-late-session/2025-01-15/
CATEGORIES:Youth
END:VEVENT
BEGIN:VEVENT
DTSTART;TZID=America/Chicago:20250115T181500
DTEND;TZID=America/Chicago:20250115T190000
DTSTAMP:20260422T135403
CREATED:20250113T150927Z
LAST-MODIFIED:20250113T150927Z
UID:10001546-1736964900-1736967600@explorepeace.org
SUMMARY:KiX (Kids in Christ) for ages 3 through 4th grade (meet in Friendship Room)
DESCRIPTION:
URL:https://explorepeace.org/event/kix-kids-in-christ-for-ages-3-through-4th-grade-meet-in-friendship-room/2025-01-15/
CATEGORIES:Youth
END:VEVENT
BEGIN:VEVENT
DTSTART;TZID=America/Chicago:20250115T171500
DTEND;TZID=America/Chicago:20250115T180000
DTSTAMP:20260422T135403
CREATED:20250113T151849Z
LAST-MODIFIED:20250113T153219Z
UID:10001585-1736961300-1736964000@explorepeace.org
SUMMARY:Chapel Chimes (music group for 4th - 6th graders)
DESCRIPTION:Sherry Johnson is Chapel Chimes Director.
URL:https://explorepeace.org/event/chapel-chimes-music-group-for-4th-6th-graders/2025-01-15/
CATEGORIES:Music,Youth
END:VEVENT
BEGIN:VEVENT
DTSTART;TZID=America/Chicago:20250115T170000
DTEND;TZID=America/Chicago:20250115T173000
DTSTAMP:20260422T135403
CREATED:20250113T151416Z
LAST-MODIFIED:20250113T153030Z
UID:10001559-1736960400-1736962200@explorepeace.org
SUMMARY:Joyful Noise (ages 4 - 1st grade\, give or take a year)
DESCRIPTION:Children will learn basic vocal skills and have fun singing songs\, learning actions and playing games that will encourage a love for music. Interactive and lively songs are performed at occasionally scheduled Sunday and seasonal worship services throughout the school year.  Rehearsals will be Wednesdays from 5:00 to 5:30PM during the school year.  Joyful Noise director is Megan Tatzel.
URL:https://explorepeace.org/event/joyful-noise-ages-4-1st-grade-give-or-take-a-year/2025-01-15/
CATEGORIES:Music,Youth
END:VEVENT
BEGIN:VEVENT
DTSTART;TZID=America/Chicago:20250115T161500
DTEND;TZID=America/Chicago:20250115T171500
DTSTAMP:20260422T135403
CREATED:20250113T151640Z
LAST-MODIFIED:20250113T151640Z
UID:10001572-1736957700-1736961300@explorepeace.org
SUMMARY:Route 56 (confirmation for 5th and 6th graders)
DESCRIPTION:
URL:https://explorepeace.org/event/route-56-confirmation-for-5th-and-6th-graders/2025-01-15/
CATEGORIES:Youth
END:VEVENT
BEGIN:VEVENT
DTSTART;TZID=America/Chicago:20250115T160000
DTEND;TZID=America/Chicago:20250115T170000
DTSTAMP:20260422T135403
CREATED:20250113T154342Z
LAST-MODIFIED:20250116T182657Z
UID:10001626-1736956800-1736960400@explorepeace.org
SUMMARY:Route 78 & Adventure 910 Confirmation (7th-10 grade) - early session
DESCRIPTION:
URL:https://explorepeace.org/event/route-78-adventure-910-confirmation-for-7th-10th-grades/2025-01-15/
CATEGORIES:Youth
END:VEVENT
BEGIN:VEVENT
DTSTART;TZID=America/Chicago:20250112T180000
DTEND;TZID=America/Chicago:20250112T190000
DTSTAMP:20260422T135403
CREATED:20250113T155005Z
LAST-MODIFIED:20250113T155005Z
UID:10001639-1736704800-1736708400@explorepeace.org
SUMMARY:Radical Ringers (handbells for 7th-12th graders)
DESCRIPTION:Jan Rutkowski is the Radical Ringers Director.  Meet in the Music Room on Sunday evenings.
URL:https://explorepeace.org/event/radical-ringers-handbells-for-7th-12th-graders/2025-01-12/
CATEGORIES:Music,Youth
END:VEVENT
BEGIN:VEVENT
DTSTART;TZID=America/Chicago:20250112T090000
DTEND;TZID=America/Chicago:20250112T094500
DTSTAMP:20260422T135403
CREATED:20250109T230208Z
LAST-MODIFIED:20250109T230208Z
UID:10001314-1736672400-1736675100@explorepeace.org
SUMMARY:KiX (Kids in Christ) for age 3 to 4th grade
DESCRIPTION:
URL:https://explorepeace.org/event/kix-kids-in-christ-for-age-3-to-4th-grade-2/2025-01-12/
CATEGORIES:Youth
END:VEVENT
BEGIN:VEVENT
DTSTART;TZID=America/Chicago:20241222T180000
DTEND;TZID=America/Chicago:20241222T190000
DTSTAMP:20260422T135403
CREATED:20240925T221422Z
LAST-MODIFIED:20240925T221422Z
UID:10001227-1734890400-1734894000@explorepeace.org
SUMMARY:Radical Ringers rehearsal
DESCRIPTION:For … 7th to 12th graders\, ringing hand bells … ring / dampen / shake / mallet / thumb damp / pluck / and so much more (happening in the Music Room).  Ringing bells is so much fun!\nOur Radical Ringers rehearsals will be on SUNDAYS from 6:00 – 7:00pm\, beginning on Sunday\, October 13.   \nJan Rutkowski\, RR Director
URL:https://explorepeace.org/event/radical-ringers-rehearsal/2024-12-22/
CATEGORIES:Music,Youth
END:VEVENT
BEGIN:VEVENT
DTSTART;TZID=America/Chicago:20241222T090000
DTEND;TZID=America/Chicago:20241222T094500
DTSTAMP:20260422T135403
CREATED:20240829T163231Z
LAST-MODIFIED:20241023T200757Z
UID:10001059-1734858000-1734860700@explorepeace.org
SUMMARY:KiX (Kids in Christ) aka Sunday School (age 3 to grade 4)
DESCRIPTION:
URL:https://explorepeace.org/event/kix-kids-in-christ-aka-sunday-school-age-3-to-grade-4/2024-12-22/
CATEGORIES:Youth
END:VEVENT
BEGIN:VEVENT
DTSTART;TZID=America/Chicago:20241218T184500
DTEND;TZID=America/Chicago:20241218T194500
DTSTAMP:20260422T135403
CREATED:20241017T194657Z
LAST-MODIFIED:20241017T194657Z
UID:10001246-1734547500-1734551100@explorepeace.org
SUMMARY:Route 78 & Adventure 910
DESCRIPTION:Oct 30: Introduction Day! \nNov 6: Interesting Details about God #1 \nNov 13: Interesting Details about God #2 \nNov 20: Interesting Details about God #3 \nDec 4: Advent Festival Event. Come for your time slot! \nDec 11: Interesting Details about God #4 \nDec 18: Interesting Details about God #5
URL:https://explorepeace.org/event/route-78-adventure-910-2/2024-12-18/
CATEGORIES:Youth
END:VEVENT
BEGIN:VEVENT
DTSTART;TZID=America/Chicago:20241218T180000
DTEND;TZID=America/Chicago:20241218T184500
DTSTAMP:20260422T135403
CREATED:20240829T164206Z
LAST-MODIFIED:20241023T210804Z
UID:10001101-1734544800-1734547500@explorepeace.org
SUMMARY:KiX (Kids in Christ) aka Sunday School (age 3 to grade 4)
DESCRIPTION:
URL:https://explorepeace.org/event/kix-kids-in-christ-aka-sunday-school-age-3-to-grade-4-2/2024-12-18/
CATEGORIES:Youth
END:VEVENT
BEGIN:VEVENT
DTSTART;TZID=America/Chicago:20241218T171500
DTEND;TZID=America/Chicago:20241218T180000
DTSTAMP:20260422T135403
CREATED:20240829T180754Z
LAST-MODIFIED:20240904T200042Z
UID:10001115-1734542100-1734544800@explorepeace.org
SUMMARY:Chapel Chimes (musical group of 4th - 6th graders)
DESCRIPTION:Sherry Johnson\, Director … meet in the Music Room on Wednesdays!
URL:https://explorepeace.org/event/chapel-chimes-musical-group-of-4th-6th-graders/2024-12-18/
CATEGORIES:Music,Youth
END:VEVENT
BEGIN:VEVENT
DTSTART;TZID=America/Chicago:20241218T170000
DTEND;TZID=America/Chicago:20241218T173000
DTSTAMP:20260422T135403
CREATED:20240925T214357Z
LAST-MODIFIED:20240925T214357Z
UID:10001215-1734541200-1734543000@explorepeace.org
SUMMARY:Joyful Noise children's choir (for ages 3 to 7)
DESCRIPTION:Children will learn basic vocal skills and have fun singing songs\, learning actions and playing games that will encourage a love for music. Interactive and lively songs are performed at occasionally scheduled Sunday and seasonal worship services throughout the school year.  Rehearsals will be Wednesdays from 5:00 to 5:30PM during the school year.  Joyful Noise director is Megan Tatzel.
URL:https://explorepeace.org/event/joyful-noise-childrens-choir-for-ages-3-to-7/2024-12-18/
CATEGORIES:Music,Youth
END:VEVENT
END:VCALENDAR