BEGIN:VCALENDAR
VERSION:2.0
PRODID:-//Peace Lutheran Church | Experience Christ. Explore Peace. - ECPv6.15.20//NONSGML v1.0//EN
CALSCALE:GREGORIAN
METHOD:PUBLISH
X-WR-CALNAME:Peace Lutheran Church | Experience Christ. Explore Peace.
X-ORIGINAL-URL:https://explorepeace.org
X-WR-CALDESC:Events for Peace Lutheran Church | Experience Christ. Explore Peace.
REFRESH-INTERVAL;VALUE=DURATION:PT1H
X-Robots-Tag:noindex
X-PUBLISHED-TTL:PT1H
BEGIN:VTIMEZONE
TZID:America/Chicago
BEGIN:DAYLIGHT
TZOFFSETFROM:-0600
TZOFFSETTO:-0500
TZNAME:CDT
DTSTART:20240310T080000
END:DAYLIGHT
BEGIN:STANDARD
TZOFFSETFROM:-0500
TZOFFSETTO:-0600
TZNAME:CST
DTSTART:20241103T070000
END:STANDARD
BEGIN:DAYLIGHT
TZOFFSETFROM:-0600
TZOFFSETTO:-0500
TZNAME:CDT
DTSTART:20250309T080000
END:DAYLIGHT
BEGIN:STANDARD
TZOFFSETFROM:-0500
TZOFFSETTO:-0600
TZNAME:CST
DTSTART:20251102T070000
END:STANDARD
BEGIN:DAYLIGHT
TZOFFSETFROM:-0600
TZOFFSETTO:-0500
TZNAME:CDT
DTSTART:20260308T080000
END:DAYLIGHT
BEGIN:STANDARD
TZOFFSETFROM:-0500
TZOFFSETTO:-0600
TZNAME:CST
DTSTART:20261101T070000
END:STANDARD
END:VTIMEZONE
BEGIN:VEVENT
DTSTART;TZID=America/Chicago:20250319T181500
DTEND;TZID=America/Chicago:20250319T190000
DTSTAMP:20260422T071917
CREATED:20250113T150927Z
LAST-MODIFIED:20250113T150927Z
UID:10001554-1742408100-1742410800@explorepeace.org
SUMMARY:KiX (Kids in Christ) for ages 3 through 4th grade (meet in Friendship Room)
DESCRIPTION:
URL:https://explorepeace.org/event/kix-kids-in-christ-for-ages-3-through-4th-grade-meet-in-friendship-room/2025-03-19/
CATEGORIES:Youth
END:VEVENT
BEGIN:VEVENT
DTSTART;TZID=America/Chicago:20250319T171500
DTEND;TZID=America/Chicago:20250319T180000
DTSTAMP:20260422T071917
CREATED:20250113T151849Z
LAST-MODIFIED:20250113T153219Z
UID:10001593-1742404500-1742407200@explorepeace.org
SUMMARY:Chapel Chimes (music group for 4th - 6th graders)
DESCRIPTION:Sherry Johnson is Chapel Chimes Director.
URL:https://explorepeace.org/event/chapel-chimes-music-group-for-4th-6th-graders/2025-03-19/
CATEGORIES:Music,Youth
END:VEVENT
BEGIN:VEVENT
DTSTART;TZID=America/Chicago:20250319T170000
DTEND;TZID=America/Chicago:20250319T173000
DTSTAMP:20260422T071917
CREATED:20250113T151416Z
LAST-MODIFIED:20250113T153030Z
UID:10001567-1742403600-1742405400@explorepeace.org
SUMMARY:Joyful Noise (ages 4 - 1st grade\, give or take a year)
DESCRIPTION:Children will learn basic vocal skills and have fun singing songs\, learning actions and playing games that will encourage a love for music. Interactive and lively songs are performed at occasionally scheduled Sunday and seasonal worship services throughout the school year.  Rehearsals will be Wednesdays from 5:00 to 5:30PM during the school year.  Joyful Noise director is Megan Tatzel.
URL:https://explorepeace.org/event/joyful-noise-ages-4-1st-grade-give-or-take-a-year/2025-03-19/
CATEGORIES:Music,Youth
END:VEVENT
BEGIN:VEVENT
DTSTART;TZID=America/Chicago:20250319T161500
DTEND;TZID=America/Chicago:20250319T171500
DTSTAMP:20260422T071917
CREATED:20250113T151640Z
LAST-MODIFIED:20250113T151640Z
UID:10001580-1742400900-1742404500@explorepeace.org
SUMMARY:Route 56 (confirmation for 5th and 6th graders)
DESCRIPTION:
URL:https://explorepeace.org/event/route-56-confirmation-for-5th-and-6th-graders/2025-03-19/
CATEGORIES:Youth
END:VEVENT
BEGIN:VEVENT
DTSTART;TZID=America/Chicago:20250319T160000
DTEND;TZID=America/Chicago:20250319T170000
DTSTAMP:20260422T071917
CREATED:20250113T154342Z
LAST-MODIFIED:20250116T182657Z
UID:10001634-1742400000-1742403600@explorepeace.org
SUMMARY:Route 78 & Adventure 910 Confirmation (7th-10 grade) - early session
DESCRIPTION:
URL:https://explorepeace.org/event/route-78-adventure-910-confirmation-for-7th-10th-grades/2025-03-19/
CATEGORIES:Youth
END:VEVENT
BEGIN:VEVENT
DTSTART;TZID=America/Chicago:20250316T090000
DTEND;TZID=America/Chicago:20250316T094500
DTSTAMP:20260422T071917
CREATED:20250109T230208Z
LAST-MODIFIED:20250109T230208Z
UID:10001323-1742115600-1742118300@explorepeace.org
SUMMARY:KiX (Kids in Christ) for age 3 to 4th grade
DESCRIPTION:
URL:https://explorepeace.org/event/kix-kids-in-christ-for-age-3-to-4th-grade-2/2025-03-16/
CATEGORIES:Youth
END:VEVENT
BEGIN:VEVENT
DTSTART;TZID=America/Chicago:20250312T181500
DTEND;TZID=America/Chicago:20250312T190000
DTSTAMP:20260422T071917
CREATED:20250113T150927Z
LAST-MODIFIED:20250113T150927Z
UID:10001553-1741803300-1741806000@explorepeace.org
SUMMARY:KiX (Kids in Christ) for ages 3 through 4th grade (meet in Friendship Room)
DESCRIPTION:
URL:https://explorepeace.org/event/kix-kids-in-christ-for-ages-3-through-4th-grade-meet-in-friendship-room/2025-03-12/
CATEGORIES:Youth
END:VEVENT
BEGIN:VEVENT
DTSTART;TZID=America/Chicago:20250312T171500
DTEND;TZID=America/Chicago:20250312T180000
DTSTAMP:20260422T071917
CREATED:20250113T151849Z
LAST-MODIFIED:20250113T153219Z
UID:10001592-1741799700-1741802400@explorepeace.org
SUMMARY:Chapel Chimes (music group for 4th - 6th graders)
DESCRIPTION:Sherry Johnson is Chapel Chimes Director.
URL:https://explorepeace.org/event/chapel-chimes-music-group-for-4th-6th-graders/2025-03-12/
CATEGORIES:Music,Youth
END:VEVENT
BEGIN:VEVENT
DTSTART;TZID=America/Chicago:20250312T170000
DTEND;TZID=America/Chicago:20250312T173000
DTSTAMP:20260422T071917
CREATED:20250113T151416Z
LAST-MODIFIED:20250113T153030Z
UID:10001566-1741798800-1741800600@explorepeace.org
SUMMARY:Joyful Noise (ages 4 - 1st grade\, give or take a year)
DESCRIPTION:Children will learn basic vocal skills and have fun singing songs\, learning actions and playing games that will encourage a love for music. Interactive and lively songs are performed at occasionally scheduled Sunday and seasonal worship services throughout the school year.  Rehearsals will be Wednesdays from 5:00 to 5:30PM during the school year.  Joyful Noise director is Megan Tatzel.
URL:https://explorepeace.org/event/joyful-noise-ages-4-1st-grade-give-or-take-a-year/2025-03-12/
CATEGORIES:Music,Youth
END:VEVENT
BEGIN:VEVENT
DTSTART;TZID=America/Chicago:20250312T161500
DTEND;TZID=America/Chicago:20250312T171500
DTSTAMP:20260422T071917
CREATED:20250113T151640Z
LAST-MODIFIED:20250113T151640Z
UID:10001579-1741796100-1741799700@explorepeace.org
SUMMARY:Route 56 (confirmation for 5th and 6th graders)
DESCRIPTION:
URL:https://explorepeace.org/event/route-56-confirmation-for-5th-and-6th-graders/2025-03-12/
CATEGORIES:Youth
END:VEVENT
BEGIN:VEVENT
DTSTART;TZID=America/Chicago:20250312T160000
DTEND;TZID=America/Chicago:20250312T170000
DTSTAMP:20260422T071917
CREATED:20250113T154342Z
LAST-MODIFIED:20250116T182657Z
UID:10001633-1741795200-1741798800@explorepeace.org
SUMMARY:Route 78 & Adventure 910 Confirmation (7th-10 grade) - early session
DESCRIPTION:
URL:https://explorepeace.org/event/route-78-adventure-910-confirmation-for-7th-10th-grades/2025-03-12/
CATEGORIES:Youth
END:VEVENT
BEGIN:VEVENT
DTSTART;TZID=America/Chicago:20250309T090000
DTEND;TZID=America/Chicago:20250309T094500
DTSTAMP:20260422T071917
CREATED:20250109T230208Z
LAST-MODIFIED:20250109T230208Z
UID:10001322-1741510800-1741513500@explorepeace.org
SUMMARY:KiX (Kids in Christ) for age 3 to 4th grade
DESCRIPTION:
URL:https://explorepeace.org/event/kix-kids-in-christ-for-age-3-to-4th-grade-2/2025-03-09/
CATEGORIES:Youth
END:VEVENT
BEGIN:VEVENT
DTSTART;TZID=America/Chicago:20250305T160000
DTEND;TZID=America/Chicago:20250305T190000
DTSTAMP:20260422T071917
CREATED:20250206T194859Z
LAST-MODIFIED:20250206T194859Z
UID:10001712-1741190400-1741201200@explorepeace.org
SUMMARY:No Wednesday Programming (Youth and Music Groups)
DESCRIPTION:
URL:https://explorepeace.org/event/no-wednesday-programming-youth-and-music-groups/
CATEGORIES:Music,Youth
END:VEVENT
BEGIN:VEVENT
DTSTART;TZID=America/Chicago:20250302T180000
DTEND;TZID=America/Chicago:20250302T190000
DTSTAMP:20260422T071917
CREATED:20250206T192712Z
LAST-MODIFIED:20250206T192713Z
UID:10001695-1740938400-1740942000@explorepeace.org
SUMMARY:Radical Ringers (handbells for 7th-12th graders)
DESCRIPTION:Jan Rutkowski is the Radical Ringers Director.  Meet in the Music Room on Sunday evenings.
URL:https://explorepeace.org/event/radical-ringers-handbells-for-7th-12th-graders-2/2025-03-02/
CATEGORIES:Music,Youth
END:VEVENT
BEGIN:VEVENT
DTSTART;TZID=America/Chicago:20250302T090000
DTEND;TZID=America/Chicago:20250302T094500
DTSTAMP:20260422T071917
CREATED:20250109T230208Z
LAST-MODIFIED:20250109T230208Z
UID:10001321-1740906000-1740908700@explorepeace.org
SUMMARY:KiX (Kids in Christ) for age 3 to 4th grade
DESCRIPTION:
URL:https://explorepeace.org/event/kix-kids-in-christ-for-age-3-to-4th-grade-2/2025-03-02/
CATEGORIES:Youth
END:VEVENT
BEGIN:VEVENT
DTSTART;TZID=America/Chicago:20250226T181500
DTEND;TZID=America/Chicago:20250226T190000
DTSTAMP:20260422T071917
CREATED:20250116T182148Z
LAST-MODIFIED:20250116T182148Z
UID:10001694-1740593700-1740596400@explorepeace.org
SUMMARY:Route 78 & Adventure 910 Confirmation (7th-10th grades) - late session
DESCRIPTION:
URL:https://explorepeace.org/event/route-78-adventure-910-confirmation-7th-10th-grades-late-session/2025-02-26/
CATEGORIES:Youth
END:VEVENT
BEGIN:VEVENT
DTSTART;TZID=America/Chicago:20250226T181500
DTEND;TZID=America/Chicago:20250226T190000
DTSTAMP:20260422T071917
CREATED:20250113T150927Z
LAST-MODIFIED:20250113T150927Z
UID:10001552-1740593700-1740596400@explorepeace.org
SUMMARY:KiX (Kids in Christ) for ages 3 through 4th grade (meet in Friendship Room)
DESCRIPTION:
URL:https://explorepeace.org/event/kix-kids-in-christ-for-ages-3-through-4th-grade-meet-in-friendship-room/2025-02-26/
CATEGORIES:Youth
END:VEVENT
BEGIN:VEVENT
DTSTART;TZID=America/Chicago:20250226T171500
DTEND;TZID=America/Chicago:20250226T180000
DTSTAMP:20260422T071917
CREATED:20250113T151849Z
LAST-MODIFIED:20250113T153219Z
UID:10001591-1740590100-1740592800@explorepeace.org
SUMMARY:Chapel Chimes (music group for 4th - 6th graders)
DESCRIPTION:Sherry Johnson is Chapel Chimes Director.
URL:https://explorepeace.org/event/chapel-chimes-music-group-for-4th-6th-graders/2025-02-26/
CATEGORIES:Music,Youth
END:VEVENT
BEGIN:VEVENT
DTSTART;TZID=America/Chicago:20250226T170000
DTEND;TZID=America/Chicago:20250226T173000
DTSTAMP:20260422T071917
CREATED:20250113T151416Z
LAST-MODIFIED:20250113T153030Z
UID:10001565-1740589200-1740591000@explorepeace.org
SUMMARY:Joyful Noise (ages 4 - 1st grade\, give or take a year)
DESCRIPTION:Children will learn basic vocal skills and have fun singing songs\, learning actions and playing games that will encourage a love for music. Interactive and lively songs are performed at occasionally scheduled Sunday and seasonal worship services throughout the school year.  Rehearsals will be Wednesdays from 5:00 to 5:30PM during the school year.  Joyful Noise director is Megan Tatzel.
URL:https://explorepeace.org/event/joyful-noise-ages-4-1st-grade-give-or-take-a-year/2025-02-26/
CATEGORIES:Music,Youth
END:VEVENT
BEGIN:VEVENT
DTSTART;TZID=America/Chicago:20250226T161500
DTEND;TZID=America/Chicago:20250226T171500
DTSTAMP:20260422T071917
CREATED:20250113T151640Z
LAST-MODIFIED:20250113T151640Z
UID:10001578-1740586500-1740590100@explorepeace.org
SUMMARY:Route 56 (confirmation for 5th and 6th graders)
DESCRIPTION:
URL:https://explorepeace.org/event/route-56-confirmation-for-5th-and-6th-graders/2025-02-26/
CATEGORIES:Youth
END:VEVENT
BEGIN:VEVENT
DTSTART;TZID=America/Chicago:20250226T160000
DTEND;TZID=America/Chicago:20250226T170000
DTSTAMP:20260422T071917
CREATED:20250113T154342Z
LAST-MODIFIED:20250116T182657Z
UID:10001632-1740585600-1740589200@explorepeace.org
SUMMARY:Route 78 & Adventure 910 Confirmation (7th-10 grade) - early session
DESCRIPTION:
URL:https://explorepeace.org/event/route-78-adventure-910-confirmation-for-7th-10th-grades/2025-02-26/
CATEGORIES:Youth
END:VEVENT
BEGIN:VEVENT
DTSTART;TZID=America/Chicago:20250223T180000
DTEND;TZID=America/Chicago:20250223T190000
DTSTAMP:20260422T071917
CREATED:20250206T192712Z
LAST-MODIFIED:20250206T192713Z
UID:10001645-1740333600-1740337200@explorepeace.org
SUMMARY:Radical Ringers (handbells for 7th-12th graders)
DESCRIPTION:Jan Rutkowski is the Radical Ringers Director.  Meet in the Music Room on Sunday evenings.
URL:https://explorepeace.org/event/radical-ringers-handbells-for-7th-12th-graders-2/2025-02-23/
CATEGORIES:Music,Youth
END:VEVENT
BEGIN:VEVENT
DTSTART;TZID=America/Chicago:20250223T090000
DTEND;TZID=America/Chicago:20250223T094500
DTSTAMP:20260422T071917
CREATED:20250109T230208Z
LAST-MODIFIED:20250109T230208Z
UID:10001320-1740301200-1740303900@explorepeace.org
SUMMARY:KiX (Kids in Christ) for age 3 to 4th grade
DESCRIPTION:
URL:https://explorepeace.org/event/kix-kids-in-christ-for-age-3-to-4th-grade-2/2025-02-23/
CATEGORIES:Youth
END:VEVENT
BEGIN:VEVENT
DTSTART;TZID=America/Chicago:20250219T181500
DTEND;TZID=America/Chicago:20250219T190000
DTSTAMP:20260422T071917
CREATED:20250116T182148Z
LAST-MODIFIED:20250116T182148Z
UID:10001693-1739988900-1739991600@explorepeace.org
SUMMARY:Route 78 & Adventure 910 Confirmation (7th-10th grades) - late session
DESCRIPTION:
URL:https://explorepeace.org/event/route-78-adventure-910-confirmation-7th-10th-grades-late-session/2025-02-19/
CATEGORIES:Youth
END:VEVENT
BEGIN:VEVENT
DTSTART;TZID=America/Chicago:20250219T181500
DTEND;TZID=America/Chicago:20250219T190000
DTSTAMP:20260422T071917
CREATED:20250113T150927Z
LAST-MODIFIED:20250113T150927Z
UID:10001551-1739988900-1739991600@explorepeace.org
SUMMARY:KiX (Kids in Christ) for ages 3 through 4th grade (meet in Friendship Room)
DESCRIPTION:
URL:https://explorepeace.org/event/kix-kids-in-christ-for-ages-3-through-4th-grade-meet-in-friendship-room/2025-02-19/
CATEGORIES:Youth
END:VEVENT
BEGIN:VEVENT
DTSTART;TZID=America/Chicago:20250219T171500
DTEND;TZID=America/Chicago:20250219T180000
DTSTAMP:20260422T071917
CREATED:20250113T151849Z
LAST-MODIFIED:20250113T153219Z
UID:10001590-1739985300-1739988000@explorepeace.org
SUMMARY:Chapel Chimes (music group for 4th - 6th graders)
DESCRIPTION:Sherry Johnson is Chapel Chimes Director.
URL:https://explorepeace.org/event/chapel-chimes-music-group-for-4th-6th-graders/2025-02-19/
CATEGORIES:Music,Youth
END:VEVENT
BEGIN:VEVENT
DTSTART;TZID=America/Chicago:20250219T170000
DTEND;TZID=America/Chicago:20250219T173000
DTSTAMP:20260422T071917
CREATED:20250113T151416Z
LAST-MODIFIED:20250113T153030Z
UID:10001564-1739984400-1739986200@explorepeace.org
SUMMARY:Joyful Noise (ages 4 - 1st grade\, give or take a year)
DESCRIPTION:Children will learn basic vocal skills and have fun singing songs\, learning actions and playing games that will encourage a love for music. Interactive and lively songs are performed at occasionally scheduled Sunday and seasonal worship services throughout the school year.  Rehearsals will be Wednesdays from 5:00 to 5:30PM during the school year.  Joyful Noise director is Megan Tatzel.
URL:https://explorepeace.org/event/joyful-noise-ages-4-1st-grade-give-or-take-a-year/2025-02-19/
CATEGORIES:Music,Youth
END:VEVENT
BEGIN:VEVENT
DTSTART;TZID=America/Chicago:20250219T161500
DTEND;TZID=America/Chicago:20250219T171500
DTSTAMP:20260422T071917
CREATED:20250113T151640Z
LAST-MODIFIED:20250113T151640Z
UID:10001577-1739981700-1739985300@explorepeace.org
SUMMARY:Route 56 (confirmation for 5th and 6th graders)
DESCRIPTION:
URL:https://explorepeace.org/event/route-56-confirmation-for-5th-and-6th-graders/2025-02-19/
CATEGORIES:Youth
END:VEVENT
BEGIN:VEVENT
DTSTART;TZID=America/Chicago:20250219T160000
DTEND;TZID=America/Chicago:20250219T170000
DTSTAMP:20260422T071917
CREATED:20250113T154342Z
LAST-MODIFIED:20250116T182657Z
UID:10001631-1739980800-1739984400@explorepeace.org
SUMMARY:Route 78 & Adventure 910 Confirmation (7th-10 grade) - early session
DESCRIPTION:
URL:https://explorepeace.org/event/route-78-adventure-910-confirmation-for-7th-10th-grades/2025-02-19/
CATEGORIES:Youth
END:VEVENT
BEGIN:VEVENT
DTSTART;TZID=America/Chicago:20250216T180000
DTEND;TZID=America/Chicago:20250216T190000
DTSTAMP:20260422T071917
CREATED:20250206T192712Z
LAST-MODIFIED:20250206T192713Z
UID:10001644-1739728800-1739732400@explorepeace.org
SUMMARY:Radical Ringers (handbells for 7th-12th graders)
DESCRIPTION:Jan Rutkowski is the Radical Ringers Director.  Meet in the Music Room on Sunday evenings.
URL:https://explorepeace.org/event/radical-ringers-handbells-for-7th-12th-graders-2/2025-02-16/
CATEGORIES:Music,Youth
END:VEVENT
END:VCALENDAR